BEGIN:VCALENDAR
VERSION:2.0
PRODID:-//Vollgas Richtung Rock - ECPv6.15.18//NONSGML v1.0//EN
CALSCALE:GREGORIAN
METHOD:PUBLISH
X-ORIGINAL-URL:https://vollgas-richtung-rock.de
X-WR-CALDESC:Veranstaltungen für Vollgas Richtung Rock
REFRESH-INTERVAL;VALUE=DURATION:PT1H
X-Robots-Tag:noindex
X-PUBLISHED-TTL:PT1H
BEGIN:VTIMEZONE
TZID:Europe/Berlin
BEGIN:DAYLIGHT
TZOFFSETFROM:+0100
TZOFFSETTO:+0200
TZNAME:CEST
DTSTART:20250330T010000
END:DAYLIGHT
BEGIN:STANDARD
TZOFFSETFROM:+0200
TZOFFSETTO:+0100
TZNAME:CET
DTSTART:20251026T010000
END:STANDARD
BEGIN:DAYLIGHT
TZOFFSETFROM:+0100
TZOFFSETTO:+0200
TZNAME:CEST
DTSTART:20260329T010000
END:DAYLIGHT
BEGIN:STANDARD
TZOFFSETFROM:+0200
TZOFFSETTO:+0100
TZNAME:CET
DTSTART:20261025T010000
END:STANDARD
BEGIN:DAYLIGHT
TZOFFSETFROM:+0100
TZOFFSETTO:+0200
TZNAME:CEST
DTSTART:20270328T010000
END:DAYLIGHT
BEGIN:STANDARD
TZOFFSETFROM:+0200
TZOFFSETTO:+0100
TZNAME:CET
DTSTART:20271031T010000
END:STANDARD
END:VTIMEZONE
BEGIN:VEVENT
DTSTART;VALUE=DATE:20260925
DTEND;VALUE=DATE:20260926
DTSTAMP:20260424T183044
CREATED:20251230T112921Z
LAST-MODIFIED:20251230T112921Z
UID:77267-1790294400-1790380799@vollgas-richtung-rock.de
SUMMARY:Alex Mofa Gang - La Boum! 2026
DESCRIPTION:La Boum! Alex Mofa Gang laden 2026 zur großen Party ein. \nSupport: TBA
URL:https://vollgas-richtung-rock.de/event/alex-mofa-gang-la-boum-2026-7/
LOCATION:artheater\, Köln\, Ehrenfeldgürtel 127\, Köln\, 50823\, Germany
CATEGORIES:Hallenkonzert
ATTACH;FMTTYPE=image/jpeg:https://vollgas-richtung-rock.de/wp-content/uploads/2025/12/591586183_1287312349869476_5738291520699127250_n.jpg
END:VEVENT
BEGIN:VEVENT
DTSTART;VALUE=DATE:20260926
DTEND;VALUE=DATE:20260927
DTSTAMP:20260424T183044
CREATED:20251230T112308Z
LAST-MODIFIED:20251230T112308Z
UID:77263-1790380800-1790467199@vollgas-richtung-rock.de
SUMMARY:Alex Mofa Gang - La Boum! 2026
DESCRIPTION:La Boum! Alex Mofa Gang laden 2026 zur großen Party ein. \nSupport: TBA
URL:https://vollgas-richtung-rock.de/event/alex-mofa-gang-la-boum-2026-3/
LOCATION:FZW Dortmund\, Ritterstraße 20\, Dortmund\, 44137\, Deutschland
CATEGORIES:Hallenkonzert
ATTACH;FMTTYPE=image/jpeg:https://vollgas-richtung-rock.de/wp-content/uploads/2025/12/591586183_1287312349869476_5738291520699127250_n.jpg
END:VEVENT
BEGIN:VEVENT
DTSTART;VALUE=DATE:20260926
DTEND;VALUE=DATE:20260927
DTSTAMP:20260424T183044
CREATED:20260125T124816Z
LAST-MODIFIED:20260125T124816Z
UID:78526-1790380800-1790467199@vollgas-richtung-rock.de
SUMMARY:IN EXTREMO – Carpe Noctem · Burgentour 2026
DESCRIPTION:Wenn die Nacht über alten Mauern hereinbricht\, rufen In Extremo zu Carpe Noctem. Die Burgentour 2026 führt die Mittelalter-Rock-Pioniere an geschichtsträchtige Orte\, wo Dudelsack\, Flammen und harte Riffs zu einem archaischen Spektakel verschmelzen. \nBands: In Extremo\, TBA
URL:https://vollgas-richtung-rock.de/event/in-extremo-carpe-noctem-%c2%b7-burgentour-2026-8/
LOCATION:Elspe Festiva\, Elspe 1\, Lennestadt\, 57368\, Germany
ATTACH;FMTTYPE=image/jpeg:https://vollgas-richtung-rock.de/wp-content/uploads/2026/01/in-extremo.jpg
END:VEVENT
BEGIN:VEVENT
DTSTART;VALUE=DATE:20261002
DTEND;VALUE=DATE:20261003
DTSTAMP:20260424T183044
CREATED:20251230T112232Z
LAST-MODIFIED:20251230T112232Z
UID:77262-1790899200-1790985599@vollgas-richtung-rock.de
SUMMARY:Alex Mofa Gang - La Boum! 2026
DESCRIPTION:La Boum! Alex Mofa Gang laden 2026 zur großen Party ein. \nSupport: TBA
URL:https://vollgas-richtung-rock.de/event/alex-mofa-gang-la-boum-2026-2/
LOCATION:Tower Musikclub\, Herdentorsteinweg 7a\, Bremen\, 28195\, Deutschland
CATEGORIES:Hallenkonzert
ATTACH;FMTTYPE=image/jpeg:https://vollgas-richtung-rock.de/wp-content/uploads/2025/12/591586183_1287312349869476_5738291520699127250_n.jpg
END:VEVENT
BEGIN:VEVENT
DTSTART;VALUE=DATE:20261003
DTEND;VALUE=DATE:20261004
DTSTAMP:20260424T183044
CREATED:20251230T112546Z
LAST-MODIFIED:20251230T112546Z
UID:77265-1790985600-1791071999@vollgas-richtung-rock.de
SUMMARY:Alex Mofa Gang - La Boum! 2026
DESCRIPTION:La Boum! Alex Mofa Gang laden 2026 zur großen Party ein. \nSupport: TBA
URL:https://vollgas-richtung-rock.de/event/alex-mofa-gang-la-boum-2026-5/
LOCATION:Molotow\, Hamburg\, Nobistor 14\, Hamburg\, 22767\, Germany
CATEGORIES:Hallenkonzert
ATTACH;FMTTYPE=image/jpeg:https://vollgas-richtung-rock.de/wp-content/uploads/2025/12/591586183_1287312349869476_5738291520699127250_n.jpg
END:VEVENT
BEGIN:VEVENT
DTSTART;VALUE=DATE:20261009
DTEND;VALUE=DATE:20261010
DTSTAMP:20260424T183044
CREATED:20251230T113825Z
LAST-MODIFIED:20251230T113825Z
UID:77272-1791504000-1791590399@vollgas-richtung-rock.de
SUMMARY:Alex Mofa Gang - La Boum! 2026
DESCRIPTION:La Boum! Alex Mofa Gang laden 2026 zur großen Party ein. \nSupport: TBA
URL:https://vollgas-richtung-rock.de/event/alex-mofa-gang-la-boum-2026-11/
LOCATION:ClubCANN  Stuttgart\, Kegelenstraße 21\, Stuttgart\, 70372\, Germany
CATEGORIES:Hallenkonzert
ATTACH;FMTTYPE=image/jpeg:https://vollgas-richtung-rock.de/wp-content/uploads/2025/12/591586183_1287312349869476_5738291520699127250_n.jpg
END:VEVENT
BEGIN:VEVENT
DTSTART;VALUE=DATE:20261010
DTEND;VALUE=DATE:20261011
DTSTAMP:20260424T183044
CREATED:20251230T112343Z
LAST-MODIFIED:20251230T112343Z
UID:77264-1791590400-1791676799@vollgas-richtung-rock.de
SUMMARY:Alex Mofa Gang - La Boum! 2026
DESCRIPTION:La Boum! Alex Mofa Gang laden 2026 zur großen Party ein. \nSupport: TBA
URL:https://vollgas-richtung-rock.de/event/alex-mofa-gang-la-boum-2026-4/
LOCATION:Nachtleben Frankfurt\, Kurt-Schumacher-Straße 45\, Frankfurt am Main\, 60313
CATEGORIES:Hallenkonzert
ATTACH;FMTTYPE=image/jpeg:https://vollgas-richtung-rock.de/wp-content/uploads/2025/12/591586183_1287312349869476_5738291520699127250_n.jpg
END:VEVENT
BEGIN:VEVENT
DTSTART;VALUE=DATE:20261016
DTEND;VALUE=DATE:20261017
DTSTAMP:20260424T183044
CREATED:20251230T110125Z
LAST-MODIFIED:20251230T110125Z
UID:77259-1792108800-1792195199@vollgas-richtung-rock.de
SUMMARY:Alex Mofa Gang - La Boum! 2026
DESCRIPTION:La Boum! Alex Mofa Gang laden 2026 zur großen Party ein. \nSupport: TBA
URL:https://vollgas-richtung-rock.de/event/alex-mofa-gang-la-boum-2026/
LOCATION:Lido Berlin\, Cuvrystraße 7\, Berlin\, 10997\, Germany
CATEGORIES:Hallenkonzert
ATTACH;FMTTYPE=image/jpeg:https://vollgas-richtung-rock.de/wp-content/uploads/2025/12/591586183_1287312349869476_5738291520699127250_n.jpg
END:VEVENT
BEGIN:VEVENT
DTSTART;VALUE=DATE:20261016
DTEND;VALUE=DATE:20261017
DTSTAMP:20260424T183045
CREATED:20251230T180738Z
LAST-MODIFIED:20251230T180738Z
UID:77340-1792108800-1792195199@vollgas-richtung-rock.de
SUMMARY:Amon Amarth – The Allfather Awakens Tour 2026
DESCRIPTION:Für Herbst 2026 kündigt Amon Amarth  die „The Allfather Awakens Tour“ an und führt damit ihre Kriegszüge erneut durch Europa. \nBands: Amon Amarth\, Orbit Culture\, Soilwork
URL:https://vollgas-richtung-rock.de/event/amon-amarth-the-allfather-awakens-tour-2026-8/
LOCATION:Schleyerhalle Stuttgart\, Mercedesstraße 69\, Stuttgart\, 70372\, Germany
CATEGORIES:Hallenkonzert
ATTACH;FMTTYPE=image/jpeg:https://vollgas-richtung-rock.de/wp-content/uploads/2025/12/20251124_AAtour26_1.jpg
END:VEVENT
BEGIN:VEVENT
DTSTART;VALUE=DATE:20261017
DTEND;VALUE=DATE:20261018
DTSTAMP:20260424T183045
CREATED:20251230T113004Z
LAST-MODIFIED:20251230T113004Z
UID:77268-1792195200-1792281599@vollgas-richtung-rock.de
SUMMARY:Alex Mofa Gang - La Boum! 2026
DESCRIPTION:La Boum! Alex Mofa Gang laden 2026 zur großen Party ein. \nSupport: TBA
URL:https://vollgas-richtung-rock.de/event/alex-mofa-gang-la-boum-2026-8/
LOCATION:Moritzbastei  Leipzig\, Kurt-Masur-Platz 1\, Leipzig\, 04109\, Germany
CATEGORIES:Hallenkonzert
ATTACH;FMTTYPE=image/jpeg:https://vollgas-richtung-rock.de/wp-content/uploads/2025/12/591586183_1287312349869476_5738291520699127250_n.jpg
END:VEVENT
BEGIN:VEVENT
DTSTART;VALUE=DATE:20261017
DTEND;VALUE=DATE:20261018
DTSTAMP:20260424T183045
CREATED:20251230T180334Z
LAST-MODIFIED:20251230T180334Z
UID:77335-1792195200-1792281599@vollgas-richtung-rock.de
SUMMARY:Amon Amarth – The Allfather Awakens Tour 2026
DESCRIPTION:Für Herbst 2026 kündigt Amon Amarth  die „The Allfather Awakens Tour“ an und führt damit ihre Kriegszüge erneut durch Europa. \nBands: Amon Amarth\, Orbit Culture\, Soilwork
URL:https://vollgas-richtung-rock.de/event/amon-amarth-the-allfather-awakens-tour-2026-3/
LOCATION:Festhalle Frankfurt\, Ludwig-Erhard-Anlage 1\, Frankfurt am Main\, 60327\, Germany
CATEGORIES:Hallenkonzert
ATTACH;FMTTYPE=image/jpeg:https://vollgas-richtung-rock.de/wp-content/uploads/2025/12/20251124_AAtour26_1.jpg
END:VEVENT
BEGIN:VEVENT
DTSTART;VALUE=DATE:20261021
DTEND;VALUE=DATE:20261022
DTSTAMP:20260424T183045
CREATED:20251230T180424Z
LAST-MODIFIED:20251230T180424Z
UID:77336-1792540800-1792627199@vollgas-richtung-rock.de
SUMMARY:Amon Amarth – The Allfather Awakens Tour 2026
DESCRIPTION:Für Herbst 2026 kündigt Amon Amarth  die „The Allfather Awakens Tour“ an und führt damit ihre Kriegszüge erneut durch Europa. \nBands: Amon Amarth\, Orbit Culture\, Soilwork
URL:https://vollgas-richtung-rock.de/event/amon-amarth-the-allfather-awakens-tour-2026-4/
LOCATION:Sporthalle Hamburg\, Krochmannstraße 55\, Hamburg\, 22297\, Deutschland
CATEGORIES:Hallenkonzert
ATTACH;FMTTYPE=image/jpeg:https://vollgas-richtung-rock.de/wp-content/uploads/2025/12/20251124_AAtour26_1.jpg
END:VEVENT
BEGIN:VEVENT
DTSTART;VALUE=DATE:20261023
DTEND;VALUE=DATE:20261024
DTSTAMP:20260424T183045
CREATED:20251230T112726Z
LAST-MODIFIED:20251230T112726Z
UID:77266-1792713600-1792799999@vollgas-richtung-rock.de
SUMMARY:Alex Mofa Gang - La Boum! 2026
DESCRIPTION:La Boum! Alex Mofa Gang laden 2026 zur großen Party ein. \nSupport: TBA
URL:https://vollgas-richtung-rock.de/event/alex-mofa-gang-la-boum-2026-6/
LOCATION:Schlachthof\, Kassel\, Mombachstraße 10–12\, Kassel\, 34127\, Germany
CATEGORIES:Hallenkonzert
ATTACH;FMTTYPE=image/jpeg:https://vollgas-richtung-rock.de/wp-content/uploads/2025/12/591586183_1287312349869476_5738291520699127250_n.jpg
END:VEVENT
BEGIN:VEVENT
DTSTART;VALUE=DATE:20261024
DTEND;VALUE=DATE:20261025
DTSTAMP:20260424T183045
CREATED:20251230T113654Z
LAST-MODIFIED:20251230T113654Z
UID:77271-1792800000-1792886399@vollgas-richtung-rock.de
SUMMARY:Alex Mofa Gang - La Boum! 2026
DESCRIPTION:La Boum! Alex Mofa Gang laden 2026 zur großen Party ein. \nSupport: TBA
URL:https://vollgas-richtung-rock.de/event/alex-mofa-gang-la-boum-2026-10/
LOCATION:Westwerk\, Osnabrück\, Atterstraße 36\, Osnabrück\, 49090\, Germany
CATEGORIES:Hallenkonzert
ATTACH;FMTTYPE=image/jpeg:https://vollgas-richtung-rock.de/wp-content/uploads/2025/12/591586183_1287312349869476_5738291520699127250_n.jpg
END:VEVENT
BEGIN:VEVENT
DTSTART;VALUE=DATE:20261029
DTEND;VALUE=DATE:20261030
DTSTAMP:20260424T183045
CREATED:20260118T170118Z
LAST-MODIFIED:20260118T170118Z
UID:78123-1793232000-1793318399@vollgas-richtung-rock.de
SUMMARY:Beast in Black - Tour 2026
DESCRIPTION:Wenn Stahl auf Mythos trifft und Hymnen wie Schwerter durch die Nacht schneiden\, beginnt einneues Kapitel im Reich von Beast in Black. Zur Tour 2026 erscheint das vierte Studioalbum derBand – ein Werk voller epischer Melodien\, donnernder Riffs und heroischer Refrains. \nBands: Beast in Black\, Sonata Arctica\, Frozen Crown
URL:https://vollgas-richtung-rock.de/event/beast-in-black-tour-2026-8/
LOCATION:Haus Auensee Leipzig\, Gustav-Esche-Straße 4\, Leipzig\, 04159\, Deutschland
CATEGORIES:Hallenkonzert
ATTACH;FMTTYPE=image/jpeg:https://vollgas-richtung-rock.de/wp-content/uploads/2026/01/Beast-and-black.jpg
END:VEVENT
BEGIN:VEVENT
DTSTART;VALUE=DATE:20261030
DTEND;VALUE=DATE:20261031
DTSTAMP:20260424T183045
CREATED:20251230T113434Z
LAST-MODIFIED:20251230T113434Z
UID:77270-1793318400-1793404799@vollgas-richtung-rock.de
SUMMARY:Alex Mofa Gang - La Boum! 2026
DESCRIPTION:La Boum! Alex Mofa Gang laden 2026 zur großen Party ein. \nSupport: TBA
URL:https://vollgas-richtung-rock.de/event/alex-mofa-gang-la-boum-2026-9/
LOCATION:Club Stereo\, Nürnberg\, Klaragasse 8\, Nürnberg\, 90402
CATEGORIES:Hallenkonzert
ATTACH;FMTTYPE=image/jpeg:https://vollgas-richtung-rock.de/wp-content/uploads/2025/12/591586183_1287312349869476_5738291520699127250_n.jpg
END:VEVENT
BEGIN:VEVENT
DTSTART;VALUE=DATE:20261030
DTEND;VALUE=DATE:20261031
DTSTAMP:20260424T183045
CREATED:20251230T180456Z
LAST-MODIFIED:20251230T180456Z
UID:77337-1793318400-1793404799@vollgas-richtung-rock.de
SUMMARY:Amon Amarth – The Allfather Awakens Tour 2026
DESCRIPTION:Für Herbst 2026 kündigt Amon Amarth  die „The Allfather Awakens Tour“ an und führt damit ihre Kriegszüge erneut durch Europa. \nBands: Amon Amarth\, Orbit Culture\, Soilwork
URL:https://vollgas-richtung-rock.de/event/amon-amarth-the-allfather-awakens-tour-2026-5/
LOCATION:QUARTERBACK Immobilien ARENA\, Leipzig\, Am Sportforum 2\, Leipzig\, 04105\, Germany
CATEGORIES:Hallenkonzert
ATTACH;FMTTYPE=image/jpeg:https://vollgas-richtung-rock.de/wp-content/uploads/2025/12/20251124_AAtour26_1.jpg
END:VEVENT
BEGIN:VEVENT
DTSTART;VALUE=DATE:20261030
DTEND;VALUE=DATE:20261031
DTSTAMP:20260424T183045
CREATED:20260118T171818Z
LAST-MODIFIED:20260118T171818Z
UID:78136-1793318400-1793404799@vollgas-richtung-rock.de
SUMMARY:dArtagnan – Helden & Hymnen – Die Jubiläumstour 2026
DESCRIPTION:Wie aus einer Heldenfabel: dArtagnan schreiten 2026 erneut voran\, um mit der »Helden & Hymnen– Die Jubiläumstour« ein neues Kapitel großer Geschichten\, lauter Chöre und unvergesslicherMomente aufzuschlagen. \nSupport: Storm Seeker\, Doppelbock
URL:https://vollgas-richtung-rock.de/event/dartagnan-helden-hymnen-die-jubilaeumstour-2026-2/
LOCATION:Alter Schlachthof Dresden\, Gothaer Str. 11 / Ecke Leipziger Str.\, Dresden\, 01097\, Deutschland
CATEGORIES:Hallenkonzert
ATTACH;FMTTYPE=image/jpeg:https://vollgas-richtung-rock.de/wp-content/uploads/2026/01/dArtagnan.jpg
END:VEVENT
BEGIN:VEVENT
DTSTART;VALUE=DATE:20261031
DTEND;VALUE=DATE:20261101
DTSTAMP:20260424T183045
CREATED:20251230T113040Z
LAST-MODIFIED:20251230T193324Z
UID:77269-1793404800-1793491199@vollgas-richtung-rock.de
SUMMARY:Alex Mofa Gang - La Boum! 2026
DESCRIPTION:La Boum! Alex Mofa Gang laden 2026 zur großen Party ein. \nSupport: TBA
URL:https://vollgas-richtung-rock.de/event/77269/
LOCATION:Feierwerk(Kranhalle) München\, Hansastraße 39\, München\, 81373\, Germany
CATEGORIES:Hallenkonzert
ATTACH;FMTTYPE=image/jpeg:https://vollgas-richtung-rock.de/wp-content/uploads/2025/12/591586183_1287312349869476_5738291520699127250_n.jpg
END:VEVENT
BEGIN:VEVENT
DTSTART;VALUE=DATE:20261031
DTEND;VALUE=DATE:20261101
DTSTAMP:20260424T183045
CREATED:20251230T180703Z
LAST-MODIFIED:20251230T180703Z
UID:77339-1793404800-1793491199@vollgas-richtung-rock.de
SUMMARY:Amon Amarth – The Allfather Awakens Tour 2026
DESCRIPTION:Für Herbst 2026 kündigt Amon Amarth  die „The Allfather Awakens Tour“ an und führt damit ihre Kriegszüge erneut durch Europa. \nBands: Amon Amarth\, Orbit Culture\, Soilwork
URL:https://vollgas-richtung-rock.de/event/amon-amarth-the-allfather-awakens-tour-2026-7/
LOCATION:Rudolf Weber Arena Oberhausen\, Arenastraße 1\, Oberhausen\, 46047\, Germany
CATEGORIES:Hallenkonzert
ATTACH;FMTTYPE=image/jpeg:https://vollgas-richtung-rock.de/wp-content/uploads/2025/12/20251124_AAtour26_1.jpg
END:VEVENT
BEGIN:VEVENT
DTSTART;VALUE=DATE:20261031
DTEND;VALUE=DATE:20261101
DTSTAMP:20260424T183045
CREATED:20260118T170150Z
LAST-MODIFIED:20260118T170150Z
UID:78124-1793404800-1793491199@vollgas-richtung-rock.de
SUMMARY:Beast in Black - Tour 2026
DESCRIPTION:Wenn Stahl auf Mythos trifft und Hymnen wie Schwerter durch die Nacht schneiden\, beginnt einneues Kapitel im Reich von Beast in Black. Zur Tour 2026 erscheint das vierte Studioalbum derBand – ein Werk voller epischer Melodien\, donnernder Riffs und heroischer Refrains. \nBands: Beast in Black\, Sonata Arctica\, Frozen Crown
URL:https://vollgas-richtung-rock.de/event/beast-in-black-tour-2026-9/
LOCATION:Gasometer Wien\, Guglgasse 6\, Wien\, 1110\, Austria
CATEGORIES:Hallenkonzert
ATTACH;FMTTYPE=image/jpeg:https://vollgas-richtung-rock.de/wp-content/uploads/2026/01/Beast-and-black.jpg
END:VEVENT
BEGIN:VEVENT
DTSTART;VALUE=DATE:20261031
DTEND;VALUE=DATE:20261101
DTSTAMP:20260424T183045
CREATED:20260118T170829Z
LAST-MODIFIED:20260118T170829Z
UID:78135-1793404800-1793491199@vollgas-richtung-rock.de
SUMMARY:dArtagnan – Helden & Hymnen – Die Jubiläumstour 2026
DESCRIPTION:Wie aus einer Heldenfabel: dArtagnan schreiten 2026 erneut voran\, um mit der »Helden & Hymnen– Die Jubiläumstour« ein neues Kapitel großer Geschichten\, lauter Chöre und unvergesslicherMomente aufzuschlagen. \nSupport: Storm Seeker\, Doppelbock
URL:https://vollgas-richtung-rock.de/event/dartagnan-helden-hymnen-die-jubilaeumstour-2026/
LOCATION:Columbiahalle Berlin\, Columbiadamm 13-21\, Berlin\, 10965\, Deutschland
CATEGORIES:Hallenkonzert
ATTACH;FMTTYPE=image/jpeg:https://vollgas-richtung-rock.de/wp-content/uploads/2026/01/dArtagnan.jpg
END:VEVENT
BEGIN:VEVENT
DTSTART;VALUE=DATE:20261103
DTEND;VALUE=DATE:20261104
DTSTAMP:20260424T183046
CREATED:20251230T180815Z
LAST-MODIFIED:20251230T180815Z
UID:77341-1793664000-1793750399@vollgas-richtung-rock.de
SUMMARY:Amon Amarth – The Allfather Awakens Tour 2026
DESCRIPTION:Für Herbst 2026 kündigt Amon Amarth  die „The Allfather Awakens Tour“ an und führt damit ihre Kriegszüge erneut durch Europa. \nBands: Amon Amarth\, Orbit Culture\, Soilwork
URL:https://vollgas-richtung-rock.de/event/amon-amarth-the-allfather-awakens-tour-2026-9/
LOCATION:Gasometer Wien\, Guglgasse 6\, Wien\, 1110\, Austria
CATEGORIES:Hallenkonzert
ATTACH;FMTTYPE=image/jpeg:https://vollgas-richtung-rock.de/wp-content/uploads/2025/12/20251124_AAtour26_1.jpg
END:VEVENT
BEGIN:VEVENT
DTSTART;VALUE=DATE:20261104
DTEND;VALUE=DATE:20261105
DTSTAMP:20260424T183046
CREATED:20251230T175421Z
LAST-MODIFIED:20251230T175421Z
UID:77330-1793750400-1793836799@vollgas-richtung-rock.de
SUMMARY:Amon Amarth – The Allfather Awakens Tour 2026
DESCRIPTION:Für Herbst 2026 kündigt Amon Amarth  die „The Allfather Awakens Tour“ an und führt damit ihre Kriegszüge erneut durch Europa. \nBands: Amon Amarth\, Orbit Culture\, Soilwork
URL:https://vollgas-richtung-rock.de/event/amon-amarth-the-allfather-awakens-tour-2026/
LOCATION:Brose Arena\, Bamberg\, Forchheimer Straße 15\, Bamberg\, 96050\, Germany
CATEGORIES:Hallenkonzert
ATTACH;FMTTYPE=image/jpeg:https://vollgas-richtung-rock.de/wp-content/uploads/2025/12/20251124_AAtour26_1.jpg
END:VEVENT
BEGIN:VEVENT
DTSTART;VALUE=DATE:20261105
DTEND;VALUE=DATE:20261106
DTSTAMP:20260424T183046
CREATED:20260118T164634Z
LAST-MODIFIED:20260118T164634Z
UID:78114-1793836800-1793923199@vollgas-richtung-rock.de
SUMMARY:Beast in Black - Tour 2026
DESCRIPTION:Wenn Stahl auf Mythos trifft und Hymnen wie Schwerter durch die Nacht schneiden\, beginnt einneues Kapitel im Reich von Beast in Black. Zur Tour 2026 erscheint das vierte Studioalbum derBand – ein Werk voller epischer Melodien\, donnernder Riffs und heroischer Refrains. \nBands: Beast in Black\, Sonata Arctica\, Frozen Crown
URL:https://vollgas-richtung-rock.de/event/beast-in-black-tour-2026/
LOCATION:Columbiahalle Berlin\, Columbiadamm 13-21\, Berlin\, 10965\, Deutschland
CATEGORIES:Hallenkonzert
ATTACH;FMTTYPE=image/jpeg:https://vollgas-richtung-rock.de/wp-content/uploads/2026/01/Beast-and-black.jpg
END:VEVENT
BEGIN:VEVENT
DTSTART;VALUE=DATE:20261106
DTEND;VALUE=DATE:20261107
DTSTAMP:20260424T183046
CREATED:20260118T172052Z
LAST-MODIFIED:20260118T172052Z
UID:78143-1793923200-1794009599@vollgas-richtung-rock.de
SUMMARY:dArtagnan – Helden & Hymnen – Die Jubiläumstour 2026
DESCRIPTION:Wie aus einer Heldenfabel: dArtagnan schreiten 2026 erneut voran\, um mit der »Helden & Hymnen– Die Jubiläumstour« ein neues Kapitel großer Geschichten\, lauter Chöre und unvergesslicherMomente aufzuschlagen. \nSupport: Storm Seeker\, Doppelbock
URL:https://vollgas-richtung-rock.de/event/dartagnan-helden-hymnen-die-jubilaeumstour-2026-7/
LOCATION:Hellraiser Leipzig\, Werkstättenstraße 4\, Leipzig\, Deutschland
CATEGORIES:Hallenkonzert
ATTACH;FMTTYPE=image/jpeg:https://vollgas-richtung-rock.de/wp-content/uploads/2026/01/dArtagnan.jpg
END:VEVENT
BEGIN:VEVENT
DTSTART;VALUE=DATE:20261107
DTEND;VALUE=DATE:20261108
DTSTAMP:20260424T183046
CREATED:20251230T180247Z
LAST-MODIFIED:20251230T180247Z
UID:77334-1794009600-1794095999@vollgas-richtung-rock.de
SUMMARY:Amon Amarth – The Allfather Awakens Tour 2026
DESCRIPTION:Für Herbst 2026 kündigt Amon Amarth  die „The Allfather Awakens Tour“ an und führt damit ihre Kriegszüge erneut durch Europa. \nBands: Amon Amarth\, Orbit Culture\, Soilwork
URL:https://vollgas-richtung-rock.de/event/amon-amarth-the-allfather-awakens-tour-2026-2/
LOCATION:Velodrom Berlin\, Paul-Heyse-Straße 26\, Berlin\, 10407\, Germany
CATEGORIES:Hallenkonzert
ATTACH;FMTTYPE=image/jpeg:https://vollgas-richtung-rock.de/wp-content/uploads/2025/12/20251124_AAtour26_1.jpg
END:VEVENT
BEGIN:VEVENT
DTSTART;VALUE=DATE:20261107
DTEND;VALUE=DATE:20261108
DTSTAMP:20260424T183046
CREATED:20260118T165506Z
LAST-MODIFIED:20260118T165506Z
UID:78117-1794009600-1794095999@vollgas-richtung-rock.de
SUMMARY:Beast in Black - Tour 2026
DESCRIPTION:Wenn Stahl auf Mythos trifft und Hymnen wie Schwerter durch die Nacht schneiden\, beginnt einneues Kapitel im Reich von Beast in Black. Zur Tour 2026 erscheint das vierte Studioalbum derBand – ein Werk voller epischer Melodien\, donnernder Riffs und heroischer Refrains. \nBands: Beast in Black\, Sonata Arctica\, Frozen Crown
URL:https://vollgas-richtung-rock.de/event/beast-in-black-tour-2026-2/
LOCATION:MHPArena Ludwigsburg\, Schwieberdinger Strasse 30\, Ludwigsburg\, 71638\, Deutschland
CATEGORIES:Hallenkonzert
ATTACH;FMTTYPE=image/jpeg:https://vollgas-richtung-rock.de/wp-content/uploads/2026/01/Beast-and-black.jpg
END:VEVENT
BEGIN:VEVENT
DTSTART;VALUE=DATE:20261107
DTEND;VALUE=DATE:20261108
DTSTAMP:20260424T183046
CREATED:20260118T171914Z
LAST-MODIFIED:20260118T171914Z
UID:78140-1794009600-1794095999@vollgas-richtung-rock.de
SUMMARY:dArtagnan – Helden & Hymnen – Die Jubiläumstour 2026
DESCRIPTION:Wie aus einer Heldenfabel: dArtagnan schreiten 2026 erneut voran\, um mit der »Helden & Hymnen– Die Jubiläumstour« ein neues Kapitel großer Geschichten\, lauter Chöre und unvergesslicherMomente aufzuschlagen. \nSupport: Storm Seeker\, Doppelbock
URL:https://vollgas-richtung-rock.de/event/dartagnan-helden-hymnen-die-jubilaeumstour-2026-4/
LOCATION:Markthalle Hamburg\, Klosterwall 11\, Hamburg\, 20095\, Germany
CATEGORIES:Hallenkonzert
ATTACH;FMTTYPE=image/jpeg:https://vollgas-richtung-rock.de/wp-content/uploads/2026/01/dArtagnan.jpg
END:VEVENT
BEGIN:VEVENT
DTSTART;VALUE=DATE:20261108
DTEND;VALUE=DATE:20261109
DTSTAMP:20260424T183046
CREATED:20251230T180550Z
LAST-MODIFIED:20251230T180550Z
UID:77338-1794096000-1794182399@vollgas-richtung-rock.de
SUMMARY:Amon Amarth – The Allfather Awakens Tour 2026
DESCRIPTION:Für Herbst 2026 kündigt Amon Amarth  die „The Allfather Awakens Tour“ an und führt damit ihre Kriegszüge erneut durch Europa. \nBands: Amon Amarth\, Orbit Culture\, Soilwork
URL:https://vollgas-richtung-rock.de/event/amon-amarth-the-allfather-awakens-tour-2026-6/
LOCATION:Zenith\, die Kulturhalle München\, Lilienthalallee 29\, München\, 80939\, Deutschland
CATEGORIES:Hallenkonzert
ATTACH;FMTTYPE=image/jpeg:https://vollgas-richtung-rock.de/wp-content/uploads/2025/12/20251124_AAtour26_1.jpg
END:VEVENT
END:VCALENDAR