BEGIN:VCALENDAR
VERSION:2.0
PRODID:-//Vollgas Richtung Rock - ECPv6.15.18//NONSGML v1.0//EN
CALSCALE:GREGORIAN
METHOD:PUBLISH
X-WR-CALNAME:Vollgas Richtung Rock
X-ORIGINAL-URL:https://vollgas-richtung-rock.de
X-WR-CALDESC:Veranstaltungen für Vollgas Richtung Rock
REFRESH-INTERVAL;VALUE=DURATION:PT1H
X-Robots-Tag:noindex
X-PUBLISHED-TTL:PT1H
BEGIN:VTIMEZONE
TZID:Europe/Berlin
BEGIN:DAYLIGHT
TZOFFSETFROM:+0100
TZOFFSETTO:+0200
TZNAME:CEST
DTSTART:20240331T010000
END:DAYLIGHT
BEGIN:STANDARD
TZOFFSETFROM:+0200
TZOFFSETTO:+0100
TZNAME:CET
DTSTART:20241027T010000
END:STANDARD
BEGIN:DAYLIGHT
TZOFFSETFROM:+0100
TZOFFSETTO:+0200
TZNAME:CEST
DTSTART:20250330T010000
END:DAYLIGHT
BEGIN:STANDARD
TZOFFSETFROM:+0200
TZOFFSETTO:+0100
TZNAME:CET
DTSTART:20251026T010000
END:STANDARD
BEGIN:DAYLIGHT
TZOFFSETFROM:+0100
TZOFFSETTO:+0200
TZNAME:CEST
DTSTART:20260329T010000
END:DAYLIGHT
BEGIN:STANDARD
TZOFFSETFROM:+0200
TZOFFSETTO:+0100
TZNAME:CET
DTSTART:20261025T010000
END:STANDARD
END:VTIMEZONE
BEGIN:VEVENT
DTSTART;VALUE=DATE:20250405
DTEND;VALUE=DATE:20250406
DTSTAMP:20260426T052124
CREATED:20250208T185238Z
LAST-MODIFIED:20250208T185238Z
UID:63951-1743811200-1743897599@vollgas-richtung-rock.de
SUMMARY:Duisburg und der Rest der Welt Tour 2025
DESCRIPTION:Am Samstag\, den 05.04.2025 gastieren Zwanglos\, Westwärts\, Hörsturz Moers und Antidepressiva im Parkhaus Meiderich\, auf der Bürgermeister-Pütz-Str. 123. Einlass ist um 18.30 Uhr (Beginn 19 Uhr). \nBands: Hörsturz Moers\, Zwanglos\, Westwärts\, Antidepressiva
URL:https://vollgas-richtung-rock.de/event/duisburg-und-der-rest-der-welt-tour-2025/
LOCATION:Das Parkhaus Duisburg\, Bürgermeister-Pütz-Straße 123\, Duisburg\, 47137\, Germany
CATEGORIES:Hallenkonzert
ATTACH;FMTTYPE=image/png:https://vollgas-richtung-rock.de/wp-content/uploads/2025/02/an46o7fq.png
END:VEVENT
END:VCALENDAR