BEGIN:VCALENDAR
VERSION:2.0
PRODID:-//Vollgas Richtung Rock - ECPv6.15.18//NONSGML v1.0//EN
CALSCALE:GREGORIAN
METHOD:PUBLISH
X-WR-CALNAME:Vollgas Richtung Rock
X-ORIGINAL-URL:https://vollgas-richtung-rock.de
X-WR-CALDESC:Veranstaltungen für Vollgas Richtung Rock
REFRESH-INTERVAL;VALUE=DURATION:PT1H
X-Robots-Tag:noindex
X-PUBLISHED-TTL:PT1H
BEGIN:VTIMEZONE
TZID:Europe/Berlin
BEGIN:DAYLIGHT
TZOFFSETFROM:+0100
TZOFFSETTO:+0200
TZNAME:CEST
DTSTART:20230326T010000
END:DAYLIGHT
BEGIN:STANDARD
TZOFFSETFROM:+0200
TZOFFSETTO:+0100
TZNAME:CET
DTSTART:20231029T010000
END:STANDARD
BEGIN:DAYLIGHT
TZOFFSETFROM:+0100
TZOFFSETTO:+0200
TZNAME:CEST
DTSTART:20240331T010000
END:DAYLIGHT
BEGIN:STANDARD
TZOFFSETFROM:+0200
TZOFFSETTO:+0100
TZNAME:CET
DTSTART:20241027T010000
END:STANDARD
BEGIN:DAYLIGHT
TZOFFSETFROM:+0100
TZOFFSETTO:+0200
TZNAME:CEST
DTSTART:20250330T010000
END:DAYLIGHT
BEGIN:STANDARD
TZOFFSETFROM:+0200
TZOFFSETTO:+0100
TZNAME:CET
DTSTART:20251026T010000
END:STANDARD
END:VTIMEZONE
BEGIN:VEVENT
DTSTART;VALUE=DATE:20241024
DTEND;VALUE=DATE:20241025
DTSTAMP:20260425T161854
CREATED:20240923T105738Z
LAST-MODIFIED:20240923T105738Z
UID:56903-1729728000-1729814399@vollgas-richtung-rock.de
SUMMARY:Mr. Hurley & die Pulveraffen - 15 Jahre Aggro Shanty Tour 24 -
DESCRIPTION:15 Jahre Aggro Shanty Jubiläumssause mit Mr. Hurley & die Pulveraffen. \nAls Spezial Guest sind Die Habenichtse und Ye Banished Privateers mit dabei.
URL:https://vollgas-richtung-rock.de/event/mr-hurley-die-pulveraffen-15-jahre-aggro-shanty-tour-24-3/
LOCATION:Markthalle Hamburg\, Klosterwall 11\, Hamburg\, 20095\, Germany
CATEGORIES:Hallenkonzert
ATTACH;FMTTYPE=image/jpeg:https://vollgas-richtung-rock.de/wp-content/uploads/2024/09/Mr.-Hurley-die-Pulveraffen-15-Jahre-Aggro-Shanty-Tour-24.jpg
END:VEVENT
BEGIN:VEVENT
DTSTART;VALUE=DATE:20241025
DTEND;VALUE=DATE:20241026
DTSTAMP:20260425T161855
CREATED:20240923T110143Z
LAST-MODIFIED:20240923T110143Z
UID:56905-1729814400-1729900799@vollgas-richtung-rock.de
SUMMARY:Mr. Hurley & die Pulveraffen - 15 Jahre Aggro Shanty Tour 24 -
DESCRIPTION:15 Jahre Aggro Shanty Jubiläumssause mit Mr. Hurley & die Pulveraffen. \nAls Spezial Guest sind Die Habenichtse und Ye Banished Privateers mit dabei.
URL:https://vollgas-richtung-rock.de/event/mr-hurley-die-pulveraffen-15-jahre-aggro-shanty-tour-24-4/
LOCATION:Markthalle Hamburg\, Klosterwall 11\, Hamburg\, 20095\, Germany
ATTACH;FMTTYPE=image/jpeg:https://vollgas-richtung-rock.de/wp-content/uploads/2024/09/Mr.-Hurley-die-Pulveraffen-15-Jahre-Aggro-Shanty-Tour-24.jpg
END:VEVENT
BEGIN:VEVENT
DTSTART;VALUE=DATE:20241026
DTEND;VALUE=DATE:20241027
DTSTAMP:20260425T161855
CREATED:20240923T110542Z
LAST-MODIFIED:20240923T110542Z
UID:56907-1729900800-1729987199@vollgas-richtung-rock.de
SUMMARY:Mr. Hurley & die Pulveraffen - 15 Jahre Aggro Shanty Tour 24 -
DESCRIPTION:15 Jahre Aggro Shanty Jubiläumssause mit Mr. Hurley & die Pulveraffen. \nAls Spezial Guest sind Die Habenichtse und Ye Banished Privateers mit dabei.
URL:https://vollgas-richtung-rock.de/event/mr-hurley-die-pulveraffen-15-jahre-aggro-shanty-tour-24-5/
LOCATION:Capitol Hannover\, Schwarzer Bär 2\, Hannover\, 30449\, Deutschland
CATEGORIES:Hallenkonzert
ATTACH;FMTTYPE=image/jpeg:https://vollgas-richtung-rock.de/wp-content/uploads/2024/09/Mr.-Hurley-die-Pulveraffen-15-Jahre-Aggro-Shanty-Tour-24.jpg
END:VEVENT
END:VCALENDAR