BEGIN:VCALENDAR
VERSION:2.0
PRODID:-//Vollgas Richtung Rock - ECPv6.15.18//NONSGML v1.0//EN
CALSCALE:GREGORIAN
METHOD:PUBLISH
X-WR-CALNAME:Vollgas Richtung Rock
X-ORIGINAL-URL:https://vollgas-richtung-rock.de
X-WR-CALDESC:Veranstaltungen für Vollgas Richtung Rock
REFRESH-INTERVAL;VALUE=DURATION:PT1H
X-Robots-Tag:noindex
X-PUBLISHED-TTL:PT1H
BEGIN:VTIMEZONE
TZID:Europe/Berlin
BEGIN:DAYLIGHT
TZOFFSETFROM:+0100
TZOFFSETTO:+0200
TZNAME:CEST
DTSTART:20240331T010000
END:DAYLIGHT
BEGIN:STANDARD
TZOFFSETFROM:+0200
TZOFFSETTO:+0100
TZNAME:CET
DTSTART:20241027T010000
END:STANDARD
BEGIN:DAYLIGHT
TZOFFSETFROM:+0100
TZOFFSETTO:+0200
TZNAME:CEST
DTSTART:20250330T010000
END:DAYLIGHT
BEGIN:STANDARD
TZOFFSETFROM:+0200
TZOFFSETTO:+0100
TZNAME:CET
DTSTART:20251026T010000
END:STANDARD
BEGIN:DAYLIGHT
TZOFFSETFROM:+0100
TZOFFSETTO:+0200
TZNAME:CEST
DTSTART:20260329T010000
END:DAYLIGHT
BEGIN:STANDARD
TZOFFSETFROM:+0200
TZOFFSETTO:+0100
TZNAME:CET
DTSTART:20261025T010000
END:STANDARD
END:VTIMEZONE
BEGIN:VEVENT
DTSTART;VALUE=DATE:20251206
DTEND;VALUE=DATE:20251207
DTSTAMP:20260425T060359
CREATED:20250617T141445Z
LAST-MODIFIED:20250617T141445Z
UID:67659-1764979200-1765065599@vollgas-richtung-rock.de
SUMMARY:Vollgas Richtung Rock mit HERBST\, EXISTENT & WBR!
DESCRIPTION:Rock statt Rute: Am 6. Dezember ist nicht nur Nikolaus\, sondern Vollgas Richtung Rock sorgt wieder für eine vorweihnachtliche Bescherung in Falkos Butze in Tönisvorst! Mit einem Line-up\, das jede Vorweihnachtsidylle in Schutt und Asche legt. Drei Bands. Eine Bühne. Und ein Abend\, den ihr so schnell nicht vergessen werdet! \nDie Berliner Abrissbirne meldet sich zurück! HERBST liefern deutschsprachigen Rock mit knallharter Metalkante\, atmosphärischen Vocals und explosiver Bühnenpräsenz. Mal emotional\, mal brachial\, aber immer mit 100 % Energie! Wer HERBST live erlebt hat\, weiß: Da brennt der Baum schon vor Weihnachten! \nEXISTENT – das ist pure Ekstase auf und vor der Bühne. Mit ihren kraftvollen Alternative-Rock-Hymnen reißen sie jedes Publikum mit. Ohrwürmer treffen auf fliegendes Klopapier\, schweißtreibende Pogos und eine Show\, bei der niemand stillsteht. Wer mitfeiern will\, muss schnell sein\, diese Jungs entfesseln eine wahre Partylawine! \nFrisch\, roh und völlig durchgeladen: WBR haben auf der letzten Eizbrand-Tour bereits für offene Münder und volle Tanzflächen gesorgt. Jetzt übernehmen sie die Butze und das mit ungebremster Wucht. Wer sie noch nicht kennt\, wird sie an diesem Abend so schnell nicht mehr vergessen! \nAlso: Raus aus den Hausschuhen\, rein in die Kutte und feiert mit uns! Sichert euch jetzt schon eure Tickets für die ultimative Rocknacht des Winters! \nJETZT TICKETS SICHERN!
URL:https://vollgas-richtung-rock.de/event/vollgas-richtung-rock-mit-herbst-existent-wbr/
LOCATION:Butze Tönisvorst\, Butzenstraße 43\, Tönisvorst\, 47918
CATEGORIES:Hallenkonzert
ATTACH;FMTTYPE=image/jpeg:https://vollgas-richtung-rock.de/wp-content/uploads/2025/06/Flyer_VRR_2025-scaled.jpg
END:VEVENT
END:VCALENDAR