BEGIN:VCALENDAR
VERSION:2.0
PRODID:-//Vollgas Richtung Rock - ECPv6.15.18//NONSGML v1.0//EN
CALSCALE:GREGORIAN
METHOD:PUBLISH
X-ORIGINAL-URL:https://vollgas-richtung-rock.de
X-WR-CALDESC:Veranstaltungen für Vollgas Richtung Rock
REFRESH-INTERVAL;VALUE=DURATION:PT1H
X-Robots-Tag:noindex
X-PUBLISHED-TTL:PT1H
BEGIN:VTIMEZONE
TZID:Europe/Berlin
BEGIN:DAYLIGHT
TZOFFSETFROM:+0100
TZOFFSETTO:+0200
TZNAME:CEST
DTSTART:20240331T010000
END:DAYLIGHT
BEGIN:STANDARD
TZOFFSETFROM:+0200
TZOFFSETTO:+0100
TZNAME:CET
DTSTART:20241027T010000
END:STANDARD
BEGIN:DAYLIGHT
TZOFFSETFROM:+0100
TZOFFSETTO:+0200
TZNAME:CEST
DTSTART:20250330T010000
END:DAYLIGHT
BEGIN:STANDARD
TZOFFSETFROM:+0200
TZOFFSETTO:+0100
TZNAME:CET
DTSTART:20251026T010000
END:STANDARD
BEGIN:DAYLIGHT
TZOFFSETFROM:+0100
TZOFFSETTO:+0200
TZNAME:CEST
DTSTART:20260329T010000
END:DAYLIGHT
BEGIN:STANDARD
TZOFFSETFROM:+0200
TZOFFSETTO:+0100
TZNAME:CET
DTSTART:20261025T010000
END:STANDARD
END:VTIMEZONE
BEGIN:VEVENT
DTSTART;VALUE=DATE:20251204
DTEND;VALUE=DATE:20251205
DTSTAMP:20260424T225106
CREATED:20250822T091609Z
LAST-MODIFIED:20250822T091609Z
UID:72853-1764806400-1764892799@vollgas-richtung-rock.de
SUMMARY:Mr. Hurley und die Pulveraffen - S.O.S. Tour 2025
DESCRIPTION:Die Freibeuter aus dem karibischen Osnabrück stechen wieder in See! Mit der S.O.S. Tour 2025 bringen Mr. Hurley & die Pulveraffen neue Piratenhymnen und jede Menge Rum\, Rabatz und Seemannsgarn auf die Bühnen. Folk\, Fun und volle Breitseite – Ahoi und abfeiern! \nBands: Mr. Hurley & die Pulveraffen\, Vroudenspil
URL:https://vollgas-richtung-rock.de/event/mr-hurley-und-die-pulveraffen-s-o-s-tour-2025-3/
LOCATION:Aladin Music Hall Bremen\, Hannoversche Str. 11\, Bremen\, 28309\, Germany
CATEGORIES:Hallenkonzert
ATTACH;FMTTYPE=image/jpeg:https://vollgas-richtung-rock.de/wp-content/uploads/2025/08/sos-tour-2025-.jpg
END:VEVENT
BEGIN:VEVENT
DTSTART;VALUE=DATE:20251206
DTEND;VALUE=DATE:20251207
DTSTAMP:20260424T225106
CREATED:20250822T092839Z
LAST-MODIFIED:20250822T092839Z
UID:72859-1764979200-1765065599@vollgas-richtung-rock.de
SUMMARY:Mr. Hurley und die Pulveraffen - S.O.S. Tour 2025
DESCRIPTION:Die Freibeuter aus dem karibischen Osnabrück stechen wieder in See! Mit der S.O.S. Tour 2025 bringen Mr. Hurley & die Pulveraffen neue Piratenhymnen und jede Menge Rum\, Rabatz und Seemannsgarn auf die Bühnen. Folk\, Fun und volle Breitseite – Ahoi und abfeiern! \nBands: Mr. Hurley & die Pulveraffen\, Vroudenspil
URL:https://vollgas-richtung-rock.de/event/mr-hurley-und-die-pulveraffen-s-o-s-tour-2025-6/
LOCATION:Markthalle Hamburg\, Klosterwall 11\, Hamburg\, 20095\, Germany
CATEGORIES:Hallenkonzert
ATTACH;FMTTYPE=image/jpeg:https://vollgas-richtung-rock.de/wp-content/uploads/2025/08/sos-tour-2025-.jpg
END:VEVENT
END:VCALENDAR