BEGIN:VCALENDAR
VERSION:2.0
PRODID:-//Vollgas Richtung Rock - ECPv6.15.18//NONSGML v1.0//EN
CALSCALE:GREGORIAN
METHOD:PUBLISH
X-WR-CALNAME:Vollgas Richtung Rock
X-ORIGINAL-URL:https://vollgas-richtung-rock.de
X-WR-CALDESC:Veranstaltungen für Vollgas Richtung Rock
REFRESH-INTERVAL;VALUE=DURATION:PT1H
X-Robots-Tag:noindex
X-PUBLISHED-TTL:PT1H
BEGIN:VTIMEZONE
TZID:Europe/Berlin
BEGIN:DAYLIGHT
TZOFFSETFROM:+0100
TZOFFSETTO:+0200
TZNAME:CEST
DTSTART:20240331T010000
END:DAYLIGHT
BEGIN:STANDARD
TZOFFSETFROM:+0200
TZOFFSETTO:+0100
TZNAME:CET
DTSTART:20241027T010000
END:STANDARD
BEGIN:DAYLIGHT
TZOFFSETFROM:+0100
TZOFFSETTO:+0200
TZNAME:CEST
DTSTART:20250330T010000
END:DAYLIGHT
BEGIN:STANDARD
TZOFFSETFROM:+0200
TZOFFSETTO:+0100
TZNAME:CET
DTSTART:20251026T010000
END:STANDARD
BEGIN:DAYLIGHT
TZOFFSETFROM:+0100
TZOFFSETTO:+0200
TZNAME:CEST
DTSTART:20260329T010000
END:DAYLIGHT
BEGIN:STANDARD
TZOFFSETFROM:+0200
TZOFFSETTO:+0100
TZNAME:CET
DTSTART:20261025T010000
END:STANDARD
END:VTIMEZONE
BEGIN:VEVENT
DTSTART;VALUE=DATE:20250926
DTEND;VALUE=DATE:20250927
DTSTAMP:20260425T130235
CREATED:20250817T172652Z
LAST-MODIFIED:20250817T172652Z
UID:72083-1758844800-1758931199@vollgas-richtung-rock.de
SUMMARY:Volbeat - Greatest Of All Tours 2025
DESCRIPTION:Volbeat feiern über 20 Jahre Bandgeschichte mit einer XXL-Tour quer durch Europa! Auf der Greatest of all Tours gibt’s alle Hits\, harte Riffs und fette Show – ein Muss für jeden Rockfan. Laut\, wild\, Volbeat! \nBands: Volbeat\, Bush und Witch Fever
URL:https://vollgas-richtung-rock.de/event/volbeat-greatest-of-all-tours-2025-10/
LOCATION:Hanns-Martin-Schleyer-Halle Stuttgart\, Mercedesstraße 69\, Stuttgart\, 70372\, Germany
CATEGORIES:Hallenkonzert
ATTACH;FMTTYPE=image/jpeg:https://vollgas-richtung-rock.de/wp-content/uploads/2025/08/6417e40cf2de309224dce56364898458.jpg
END:VEVENT
BEGIN:VEVENT
DTSTART;VALUE=DATE:20250927
DTEND;VALUE=DATE:20250928
DTSTAMP:20260425T130235
CREATED:20250817T171338Z
LAST-MODIFIED:20250817T171338Z
UID:72071-1758931200-1759017599@vollgas-richtung-rock.de
SUMMARY:Volbeat - Greatest Of All Tours 2025
DESCRIPTION:Volbeat feiern über 20 Jahre Bandgeschichte mit einer XXL-Tour quer durch Europa! Auf der Greatest of all Tours gibt’s alle Hits\, harte Riffs und fette Show – ein Muss für jeden Rockfan. Laut\, wild\, Volbeat! \nBands: Volbeat\, Bush und Witch Fever
URL:https://vollgas-richtung-rock.de/event/volbeat-greatest-of-all-tours-2025-5/
LOCATION:Lanxess Arena Köln\, Willy-Brandt-Platz 3\, Köln\, 50679\, Germany
CATEGORIES:Hallenkonzert
ATTACH;FMTTYPE=image/jpeg:https://vollgas-richtung-rock.de/wp-content/uploads/2025/08/6417e40cf2de309224dce56364898458.jpg
END:VEVENT
BEGIN:VEVENT
DTSTART;VALUE=DATE:20250930
DTEND;VALUE=DATE:20251001
DTSTAMP:20260425T130235
CREATED:20250817T172912Z
LAST-MODIFIED:20250817T172912Z
UID:72085-1759190400-1759276799@vollgas-richtung-rock.de
SUMMARY:Volbeat - Greatest Of All Tours 2025
DESCRIPTION:Volbeat feiern über 20 Jahre Bandgeschichte mit einer XXL-Tour quer durch Europa! Auf der Greatest of all Tours gibt’s alle Hits\, harte Riffs und fette Show – ein Muss für jeden Rockfan. Laut\, wild\, Volbeat! \nBands: Volbeat\, Bush und Witch Fever
URL:https://vollgas-richtung-rock.de/event/volbeat-greatest-of-all-tours-2025-11/
LOCATION:Wiener Stadthalle\, Roland-Rainer-Platz 1\, Wien\, 1150\, Austria
CATEGORIES:Hallenkonzert
ATTACH;FMTTYPE=image/jpeg:https://vollgas-richtung-rock.de/wp-content/uploads/2025/08/6417e40cf2de309224dce56364898458.jpg
END:VEVENT
END:VCALENDAR