BEGIN:VCALENDAR
VERSION:2.0
PRODID:-//Vollgas Richtung Rock - ECPv6.15.18//NONSGML v1.0//EN
CALSCALE:GREGORIAN
METHOD:PUBLISH
X-ORIGINAL-URL:https://vollgas-richtung-rock.de
X-WR-CALDESC:Veranstaltungen für Vollgas Richtung Rock
REFRESH-INTERVAL;VALUE=DURATION:PT1H
X-Robots-Tag:noindex
X-PUBLISHED-TTL:PT1H
BEGIN:VTIMEZONE
TZID:Europe/Berlin
BEGIN:DAYLIGHT
TZOFFSETFROM:+0100
TZOFFSETTO:+0200
TZNAME:CEST
DTSTART:20240331T010000
END:DAYLIGHT
BEGIN:STANDARD
TZOFFSETFROM:+0200
TZOFFSETTO:+0100
TZNAME:CET
DTSTART:20241027T010000
END:STANDARD
BEGIN:DAYLIGHT
TZOFFSETFROM:+0100
TZOFFSETTO:+0200
TZNAME:CEST
DTSTART:20250330T010000
END:DAYLIGHT
BEGIN:STANDARD
TZOFFSETFROM:+0200
TZOFFSETTO:+0100
TZNAME:CET
DTSTART:20251026T010000
END:STANDARD
BEGIN:DAYLIGHT
TZOFFSETFROM:+0100
TZOFFSETTO:+0200
TZNAME:CEST
DTSTART:20260329T010000
END:DAYLIGHT
BEGIN:STANDARD
TZOFFSETFROM:+0200
TZOFFSETTO:+0100
TZNAME:CET
DTSTART:20261025T010000
END:STANDARD
END:VTIMEZONE
BEGIN:VEVENT
DTSTART;VALUE=DATE:20250702
DTEND;VALUE=DATE:20250706
DTSTAMP:20260425T142916
CREATED:20240911T110718Z
LAST-MODIFIED:20250313T095933Z
UID:55891-1751414400-1751759999@vollgas-richtung-rock.de
SUMMARY:Rockharz 2025
DESCRIPTION:Die Veranstalter des Rockharz Festivals sind wie vom Donner gerührt. Nach nicht einmal einer Woche waren sämtliche Tickets für 2025 im Vorverkauf vergriffen. Das hat es in der Geschichte des Festivals bisher noch nie gegeben! Vom 2.-5. Juli 2025 stehen in Ballenstedt wieder internationale Größen auf der Bühne. Wer Glück hat\, findet zu einem späteren Zeitpunkt noch seriöse Angebote von Privatpersonen\, die doch nicht zum Festival kommen können. \nBands: AbbatH\, Aephanemer\, Any Given Day\, April Art\, ARCTIS\, Asenblut\, ASP\, AVATARIUM\, BOKASSA\, Clawfinger\, Combichrist\, CRADLE OF FILTH\, DARK TRANQUILLITY\, DEFECTS\, DELIVER THE GALAXY\, DeserteD FEAR\, Die Kassierer\, DRACONIAN\, EXCREMENTORY GRINDFUCKERS\, Frog Leap\, Frozen Crown\, Glory Hammer\, GRAND MAGUS\, GREEN LUNG\, Harpyie\, Heaven Shall Burn\, IN EXTREMO\, INSOMNIUM\, JBO\,  King Diamond\, Kupfergold\, MEMORIAM\, Mister Misery\, MONO INC.\, Mr Hurley und die Pulveraffe\, Nachtblut\, NON EST DEUS\, OVER KILL\, Powerwolf\, primal fear\, Rhapsody OF FIRE\, ROBSE\, SAXON\, SEASONS IN BLACK\, Sodom\, solstafir\, SOUL FLY\, The Gems\, THE NEW ROSES\, TRAGEDY\, TYR\, VADER\, VELVET RUSH\, VERSENGOLD\, Visions of Atlantis und WARKINGS
URL:https://vollgas-richtung-rock.de/event/rockharz-2025/
LOCATION:Flugplatz Ballenstedt\, Asmusstedt 13\, Ballenstedt\, 06493\, Deutschland
CATEGORIES:Open Air / Festival
ATTACH;FMTTYPE=image/jpeg:https://vollgas-richtung-rock.de/wp-content/uploads/2024/09/rockharz2025-tagesaufteilung.jpg
END:VEVENT
END:VCALENDAR