BEGIN:VCALENDAR
VERSION:2.0
PRODID:-//Vollgas Richtung Rock - ECPv6.15.18//NONSGML v1.0//EN
CALSCALE:GREGORIAN
METHOD:PUBLISH
X-WR-CALNAME:Vollgas Richtung Rock
X-ORIGINAL-URL:https://vollgas-richtung-rock.de
X-WR-CALDESC:Veranstaltungen für Vollgas Richtung Rock
REFRESH-INTERVAL;VALUE=DURATION:PT1H
X-Robots-Tag:noindex
X-PUBLISHED-TTL:PT1H
BEGIN:VTIMEZONE
TZID:Europe/Berlin
BEGIN:DAYLIGHT
TZOFFSETFROM:+0100
TZOFFSETTO:+0200
TZNAME:CEST
DTSTART:20240331T010000
END:DAYLIGHT
BEGIN:STANDARD
TZOFFSETFROM:+0200
TZOFFSETTO:+0100
TZNAME:CET
DTSTART:20241027T010000
END:STANDARD
BEGIN:DAYLIGHT
TZOFFSETFROM:+0100
TZOFFSETTO:+0200
TZNAME:CEST
DTSTART:20250330T010000
END:DAYLIGHT
BEGIN:STANDARD
TZOFFSETFROM:+0200
TZOFFSETTO:+0100
TZNAME:CET
DTSTART:20251026T010000
END:STANDARD
BEGIN:DAYLIGHT
TZOFFSETFROM:+0100
TZOFFSETTO:+0200
TZNAME:CEST
DTSTART:20260329T010000
END:DAYLIGHT
BEGIN:STANDARD
TZOFFSETFROM:+0200
TZOFFSETTO:+0100
TZNAME:CET
DTSTART:20261025T010000
END:STANDARD
END:VTIMEZONE
BEGIN:VEVENT
DTSTART;VALUE=DATE:20251114
DTEND;VALUE=DATE:20251115
DTSTAMP:20260424T190831
CREATED:20251006T085429Z
LAST-MODIFIED:20251006T085429Z
UID:74554-1763078400-1763164799@vollgas-richtung-rock.de
SUMMARY:Sabaton – The Legendary Tour 2025
DESCRIPTION:Sabaton zünden 2025 das nächste Live-Feuerwerk! \nBands: Sabaton und The Legendary Orchestra
URL:https://vollgas-richtung-rock.de/event/sabaton-the-legendary-tour-2025-4/
LOCATION:Lanxess Arena Köln\, Willy-Brandt-Platz 3\, Köln\, 50679\, Germany
CATEGORIES:Hallenkonzert
ATTACH;FMTTYPE=image/jpeg:https://vollgas-richtung-rock.de/wp-content/uploads/2025/10/1748705170-Sabaton-Tour-2025.jpg
END:VEVENT
BEGIN:VEVENT
DTSTART;VALUE=DATE:20251115
DTEND;VALUE=DATE:20251116
DTSTAMP:20260424T190831
CREATED:20251006T084314Z
LAST-MODIFIED:20251006T084355Z
UID:74546-1763164800-1763251199@vollgas-richtung-rock.de
SUMMARY:Sabaton – The Legendary Tour 2025
DESCRIPTION:Sabaton zünden 2025 das nächste Live-Feuerwerk! \nBands: Sabaton und The Legendary Orchestra
URL:https://vollgas-richtung-rock.de/event/sabaton-the-legendary-tour-2025/
LOCATION:Uber Arena Berlin\, Uber-Platz 1\, Berlin\, 10243\, Germany
CATEGORIES:Hallenkonzert
ATTACH;FMTTYPE=image/jpeg:https://vollgas-richtung-rock.de/wp-content/uploads/2025/10/1748705170-Sabaton-Tour-2025.jpg
END:VEVENT
BEGIN:VEVENT
DTSTART;VALUE=DATE:20251120
DTEND;VALUE=DATE:20251121
DTSTAMP:20260424T190831
CREATED:20251006T085639Z
LAST-MODIFIED:20251006T085639Z
UID:74556-1763596800-1763683199@vollgas-richtung-rock.de
SUMMARY:Sabaton – The Legendary Tour 2025
DESCRIPTION:Sabaton zünden 2025 das nächste Live-Feuerwerk! \nBands: Sabaton und The Legendary Orchestra
URL:https://vollgas-richtung-rock.de/event/sabaton-the-legendary-tour-2025-5/
LOCATION:Olympiahalle München\, Spiridon-Louis-Ring 21\, München\, 80809\, Germany
CATEGORIES:Hallenkonzert
ATTACH;FMTTYPE=image/jpeg:https://vollgas-richtung-rock.de/wp-content/uploads/2025/10/1748705170-Sabaton-Tour-2025.jpg
END:VEVENT
BEGIN:VEVENT
DTSTART;VALUE=DATE:20251121
DTEND;VALUE=DATE:20251122
DTSTAMP:20260424T190831
CREATED:20251006T090629Z
LAST-MODIFIED:20251006T090629Z
UID:74560-1763683200-1763769599@vollgas-richtung-rock.de
SUMMARY:Sabaton – The Legendary Tour 2025
DESCRIPTION:Sabaton zünden 2025 das nächste Live-Feuerwerk! \nBands: Sabaton und The Legendary Orchestra
URL:https://vollgas-richtung-rock.de/event/sabaton-the-legendary-tour-2025-7/
LOCATION:Wiener Stadthalle\, Roland-Rainer-Platz 1\, Wien\, 1150\, Austria
CATEGORIES:Hallenkonzert
ATTACH;FMTTYPE=image/jpeg:https://vollgas-richtung-rock.de/wp-content/uploads/2025/10/1748705170-Sabaton-Tour-2025.jpg
END:VEVENT
BEGIN:VEVENT
DTSTART;VALUE=DATE:20251124
DTEND;VALUE=DATE:20251125
DTSTAMP:20260424T190832
CREATED:20251006T085826Z
LAST-MODIFIED:20251006T085826Z
UID:74558-1763942400-1764028799@vollgas-richtung-rock.de
SUMMARY:Sabaton – The Legendary Tour 2025
DESCRIPTION:Sabaton zünden 2025 das nächste Live-Feuerwerk! \nBands: Sabaton und The Legendary Orchestra
URL:https://vollgas-richtung-rock.de/event/sabaton-the-legendary-tour-2025-6/
LOCATION:Schleyerhalle Stuttgart\, Mercedesstraße 69\, Stuttgart\, 70372\, Germany
CATEGORIES:Hallenkonzert
ATTACH;FMTTYPE=image/jpeg:https://vollgas-richtung-rock.de/wp-content/uploads/2025/10/1748705170-Sabaton-Tour-2025.jpg
END:VEVENT
BEGIN:VEVENT
DTSTART;VALUE=DATE:20251125
DTEND;VALUE=DATE:20251126
DTSTAMP:20260424T190832
CREATED:20251006T084529Z
LAST-MODIFIED:20251006T084529Z
UID:74547-1764028800-1764115199@vollgas-richtung-rock.de
SUMMARY:Sabaton – The Legendary Tour 2025
DESCRIPTION:Sabaton zünden 2025 das nächste Live-Feuerwerk! \nBands: Sabaton und The Legendary Orchestra
URL:https://vollgas-richtung-rock.de/event/sabaton-the-legendary-tour-2025-2/
LOCATION:Festhalle Frankfurt\, Ludwig-Erhard-Anlage 1\, Frankfurt am Main\, 60327\, Germany
CATEGORIES:Hallenkonzert
ATTACH;FMTTYPE=image/jpeg:https://vollgas-richtung-rock.de/wp-content/uploads/2025/10/1748705170-Sabaton-Tour-2025.jpg
END:VEVENT
END:VCALENDAR