BEGIN:VCALENDAR
VERSION:2.0
PRODID:-//Vollgas Richtung Rock - ECPv6.15.18//NONSGML v1.0//EN
CALSCALE:GREGORIAN
METHOD:PUBLISH
X-ORIGINAL-URL:https://vollgas-richtung-rock.de
X-WR-CALDESC:Veranstaltungen für Vollgas Richtung Rock
REFRESH-INTERVAL;VALUE=DURATION:PT1H
X-Robots-Tag:noindex
X-PUBLISHED-TTL:PT1H
BEGIN:VTIMEZONE
TZID:Europe/Berlin
BEGIN:DAYLIGHT
TZOFFSETFROM:+0100
TZOFFSETTO:+0200
TZNAME:CEST
DTSTART:20250330T010000
END:DAYLIGHT
BEGIN:STANDARD
TZOFFSETFROM:+0200
TZOFFSETTO:+0100
TZNAME:CET
DTSTART:20251026T010000
END:STANDARD
BEGIN:DAYLIGHT
TZOFFSETFROM:+0100
TZOFFSETTO:+0200
TZNAME:CEST
DTSTART:20260329T010000
END:DAYLIGHT
BEGIN:STANDARD
TZOFFSETFROM:+0200
TZOFFSETTO:+0100
TZNAME:CET
DTSTART:20261025T010000
END:STANDARD
BEGIN:DAYLIGHT
TZOFFSETFROM:+0100
TZOFFSETTO:+0200
TZNAME:CEST
DTSTART:20270328T010000
END:DAYLIGHT
BEGIN:STANDARD
TZOFFSETFROM:+0200
TZOFFSETTO:+0100
TZNAME:CET
DTSTART:20271031T010000
END:STANDARD
END:VTIMEZONE
BEGIN:VEVENT
DTSTART;VALUE=DATE:20260206
DTEND;VALUE=DATE:20260207
DTSTAMP:20260424T120757
CREATED:20250213T115205Z
LAST-MODIFIED:20250213T115205Z
UID:64063-1770336000-1770422399@vollgas-richtung-rock.de
SUMMARY:Slime gehen auf 3! + 71 Tour
DESCRIPTION:Slime gehen auf 3! + 7¹ Tour und haben ihr zehntes Studioalbum im Gepäck. Von St. Pauli geht es einmal quer durch die Republik\, sowie durch die Nachbarländer mit geballtem Punk der Extraklasse.
URL:https://vollgas-richtung-rock.de/event/slime-gehen-auf-3-71-tour-24/
LOCATION:MAU CLUB Rostock\, WARNOWUFER 56\, Rostock\, 18057\, Germany
CATEGORIES:Hallenkonzert
ATTACH;FMTTYPE=image/jpeg:https://vollgas-richtung-rock.de/wp-content/uploads/2025/02/IMG-20250127-WA0000.jpg
END:VEVENT
BEGIN:VEVENT
DTSTART;VALUE=DATE:20260207
DTEND;VALUE=DATE:20260208
DTSTAMP:20260424T120757
CREATED:20250213T122504Z
LAST-MODIFIED:20250213T122504Z
UID:64081-1770422400-1770508799@vollgas-richtung-rock.de
SUMMARY:Slime gehen auf 3! + 71 Tour
DESCRIPTION:Slime gehen auf 3! + 7¹ Tour und haben ihr zehntes Studioalbum im Gepäck. Von St. Pauli geht es einmal quer durch die Republik\, sowie durch die Nachbarländer mit geballtem Punk der Extraklasse.
URL:https://vollgas-richtung-rock.de/event/slime-gehen-auf-3-71-tour-32/
LOCATION:Alter Gasometer  Zwickau\, Kleine Biergasse 3\, Zwickau\, 08056\, Germany
CATEGORIES:Hallenkonzert
ATTACH;FMTTYPE=image/jpeg:https://vollgas-richtung-rock.de/wp-content/uploads/2025/02/IMG-20250127-WA0000.jpg
END:VEVENT
END:VCALENDAR