BEGIN:VCALENDAR
VERSION:2.0
PRODID:-//Vollgas Richtung Rock - ECPv6.15.18//NONSGML v1.0//EN
CALSCALE:GREGORIAN
METHOD:PUBLISH
X-ORIGINAL-URL:https://vollgas-richtung-rock.de
X-WR-CALDESC:Veranstaltungen für Vollgas Richtung Rock
REFRESH-INTERVAL;VALUE=DURATION:PT1H
X-Robots-Tag:noindex
X-PUBLISHED-TTL:PT1H
BEGIN:VTIMEZONE
TZID:Europe/Berlin
BEGIN:DAYLIGHT
TZOFFSETFROM:+0100
TZOFFSETTO:+0200
TZNAME:CEST
DTSTART:20240331T010000
END:DAYLIGHT
BEGIN:STANDARD
TZOFFSETFROM:+0200
TZOFFSETTO:+0100
TZNAME:CET
DTSTART:20241027T010000
END:STANDARD
BEGIN:DAYLIGHT
TZOFFSETFROM:+0100
TZOFFSETTO:+0200
TZNAME:CEST
DTSTART:20250330T010000
END:DAYLIGHT
BEGIN:STANDARD
TZOFFSETFROM:+0200
TZOFFSETTO:+0100
TZNAME:CET
DTSTART:20251026T010000
END:STANDARD
BEGIN:DAYLIGHT
TZOFFSETFROM:+0100
TZOFFSETTO:+0200
TZNAME:CEST
DTSTART:20260329T010000
END:DAYLIGHT
BEGIN:STANDARD
TZOFFSETFROM:+0200
TZOFFSETTO:+0100
TZNAME:CET
DTSTART:20261025T010000
END:STANDARD
END:VTIMEZONE
BEGIN:VEVENT
DTSTART;VALUE=DATE:20251107
DTEND;VALUE=DATE:20251108
DTSTAMP:20260424T215659
CREATED:20250213T121536Z
LAST-MODIFIED:20250213T121536Z
UID:64075-1762473600-1762559999@vollgas-richtung-rock.de
SUMMARY:Slime gehen auf 3! + 71 Tour
DESCRIPTION:Slime gehen auf 3! + 7¹ Tour und haben ihr zehntes Studioalbum im Gepäck. Von St. Pauli geht es einmal quer durch die Republik\, sowie durch die Nachbarländer mit geballtem Punk der Extraklasse.
URL:https://vollgas-richtung-rock.de/event/slime-gehen-auf-3-71-tour-29/
LOCATION:Arena Wien\, Baumgasse 80\, Wien\, 1030\, Austria
CATEGORIES:Hallenkonzert
ATTACH;FMTTYPE=image/jpeg:https://vollgas-richtung-rock.de/wp-content/uploads/2025/02/IMG-20250127-WA0000.jpg
END:VEVENT
BEGIN:VEVENT
DTSTART;VALUE=DATE:20251121
DTEND;VALUE=DATE:20251122
DTSTAMP:20260424T215659
CREATED:20250213T111718Z
LAST-MODIFIED:20250213T111718Z
UID:64031-1763683200-1763769599@vollgas-richtung-rock.de
SUMMARY:Slime gehen auf 3! + 71 Tour
DESCRIPTION:Slime gehen auf 3! + 7¹ Tour und haben ihr zehntes Studioalbum im Gepäck. Von St. Pauli geht es einmal quer durch die Republik\, sowie durch die Nachbarländer mit geballtem Punk der Extraklasse.
URL:https://vollgas-richtung-rock.de/event/slime-gehen-auf-3-71-tour-10/
LOCATION:Musa Göttingen\, Hagenweg 2a\, Göttingen\, 37081\, Germany
CATEGORIES:Hallenkonzert
ATTACH;FMTTYPE=image/jpeg:https://vollgas-richtung-rock.de/wp-content/uploads/2025/02/IMG-20250127-WA0000.jpg
END:VEVENT
BEGIN:VEVENT
DTSTART;VALUE=DATE:20251122
DTEND;VALUE=DATE:20251123
DTSTAMP:20260424T215659
CREATED:20250213T113742Z
LAST-MODIFIED:20250213T113742Z
UID:64047-1763769600-1763855999@vollgas-richtung-rock.de
SUMMARY:Slime gehen auf 3! + 71 Tour
DESCRIPTION:Slime gehen auf 3! + 7¹ Tour und haben ihr zehntes Studioalbum im Gepäck. Von St. Pauli geht es einmal quer durch die Republik\, sowie durch die Nachbarländer mit geballtem Punk der Extraklasse.
URL:https://vollgas-richtung-rock.de/event/slime-gehen-auf-3-71-tour-17/
LOCATION:Alter Schlachthof Lingen\, Konrad Adenauer Ring 40\, Lingen\, 49808\, Germany
CATEGORIES:Hallenkonzert
ATTACH;FMTTYPE=image/jpeg:https://vollgas-richtung-rock.de/wp-content/uploads/2025/02/IMG-20250127-WA0000.jpg
END:VEVENT
BEGIN:VEVENT
DTSTART;VALUE=DATE:20251128
DTEND;VALUE=DATE:20251129
DTSTAMP:20260424T215659
CREATED:20250213T112355Z
LAST-MODIFIED:20250213T112355Z
UID:64035-1764288000-1764374399@vollgas-richtung-rock.de
SUMMARY:Slime gehen auf 3! + 71 Tour
DESCRIPTION:Slime gehen auf 3! + 7¹ Tour und haben ihr zehntes Studioalbum im Gepäck. Von St. Pauli geht es einmal quer durch die Republik\, sowie durch die Nachbarländer mit geballtem Punk der Extraklasse.
URL:https://vollgas-richtung-rock.de/event/slime-gehen-auf-3-71-tour-12/
LOCATION:FAUST Hannover\, Zur Bettfedernfabrik 3\, Hannover\, 30451\, Germany
CATEGORIES:Hallenkonzert
ATTACH;FMTTYPE=image/jpeg:https://vollgas-richtung-rock.de/wp-content/uploads/2025/02/IMG-20250127-WA0000.jpg
END:VEVENT
BEGIN:VEVENT
DTSTART;VALUE=DATE:20251129
DTEND;VALUE=DATE:20251130
DTSTAMP:20260424T215659
CREATED:20250213T104845Z
LAST-MODIFIED:20250213T104845Z
UID:64017-1764374400-1764460799@vollgas-richtung-rock.de
SUMMARY:Slime gehen auf 3! + 71 Tour
DESCRIPTION:Slime gehen auf 3! + 7¹ Tour und haben ihr zehntes Studioalbum im Gepäck. Von St. Pauli geht es einmal quer durch die Republik\, sowie durch die Nachbarländer mit geballtem Punk der Extraklasse.
URL:https://vollgas-richtung-rock.de/event/slime-gehen-auf-3-71-tour-4/
LOCATION:Kulturzentrum Schlachthof Bremen\, Findorffstr. 51\, Bremen\, 28215\, Germany
CATEGORIES:Hallenkonzert
ATTACH;FMTTYPE=image/jpeg:https://vollgas-richtung-rock.de/wp-content/uploads/2025/02/IMG-20250127-WA0000.jpg
END:VEVENT
END:VCALENDAR