BEGIN:VCALENDAR
VERSION:2.0
PRODID:-//Vollgas Richtung Rock - ECPv6.15.18//NONSGML v1.0//EN
CALSCALE:GREGORIAN
METHOD:PUBLISH
X-WR-CALNAME:Vollgas Richtung Rock
X-ORIGINAL-URL:https://vollgas-richtung-rock.de
X-WR-CALDESC:Veranstaltungen für Vollgas Richtung Rock
REFRESH-INTERVAL;VALUE=DURATION:PT1H
X-Robots-Tag:noindex
X-PUBLISHED-TTL:PT1H
BEGIN:VTIMEZONE
TZID:Europe/Berlin
BEGIN:DAYLIGHT
TZOFFSETFROM:+0100
TZOFFSETTO:+0200
TZNAME:CEST
DTSTART:20240331T010000
END:DAYLIGHT
BEGIN:STANDARD
TZOFFSETFROM:+0200
TZOFFSETTO:+0100
TZNAME:CET
DTSTART:20241027T010000
END:STANDARD
BEGIN:DAYLIGHT
TZOFFSETFROM:+0100
TZOFFSETTO:+0200
TZNAME:CEST
DTSTART:20250330T010000
END:DAYLIGHT
BEGIN:STANDARD
TZOFFSETFROM:+0200
TZOFFSETTO:+0100
TZNAME:CET
DTSTART:20251026T010000
END:STANDARD
BEGIN:DAYLIGHT
TZOFFSETFROM:+0100
TZOFFSETTO:+0200
TZNAME:CEST
DTSTART:20260329T010000
END:DAYLIGHT
BEGIN:STANDARD
TZOFFSETFROM:+0200
TZOFFSETTO:+0100
TZNAME:CET
DTSTART:20261025T010000
END:STANDARD
END:VTIMEZONE
BEGIN:VEVENT
DTSTART;VALUE=DATE:20250911
DTEND;VALUE=DATE:20250912
DTSTAMP:20260425T023953
CREATED:20250213T115014Z
LAST-MODIFIED:20250213T115014Z
UID:64060-1757548800-1757635199@vollgas-richtung-rock.de
SUMMARY:Slime gehen auf 3! + 71 Tour
DESCRIPTION:Slime gehen auf 3! + 7¹ Tour und haben ihr zehntes Studioalbum im Gepäck. Von St. Pauli geht es einmal quer durch die Republik\, sowie durch die Nachbarländer mit geballtem Punk der Extraklasse.
URL:https://vollgas-richtung-rock.de/event/slime-gehen-auf-3-71-tour-23/
LOCATION:Alte Mälzerei Regensburg\, Galgenbergstraße 20\, Regensburg\, 93053\, Germany
CATEGORIES:Hallenkonzert
ATTACH;FMTTYPE=image/jpeg:https://vollgas-richtung-rock.de/wp-content/uploads/2025/02/IMG-20250127-WA0000.jpg
END:VEVENT
BEGIN:VEVENT
DTSTART;VALUE=DATE:20250912
DTEND;VALUE=DATE:20250913
DTSTAMP:20260425T023954
CREATED:20250213T114423Z
LAST-MODIFIED:20250213T114423Z
UID:64055-1757635200-1757721599@vollgas-richtung-rock.de
SUMMARY:Slime gehen auf 3! + 71 Tour
DESCRIPTION:Slime gehen auf 3! + 7¹ Tour und haben ihr zehntes Studioalbum im Gepäck. Von St. Pauli geht es einmal quer durch die Republik\, sowie durch die Nachbarländer mit geballtem Punk der Extraklasse.
URL:https://vollgas-richtung-rock.de/event/slime-gehen-auf-3-71-tour-21/
LOCATION:Der Hirsch Nürnberg\, Vogelweiherstraße 66\, Nürnberg\, 90441\, Deutschland
CATEGORIES:Hallenkonzert
ATTACH;FMTTYPE=image/jpeg:https://vollgas-richtung-rock.de/wp-content/uploads/2025/02/IMG-20250127-WA0000.jpg
END:VEVENT
BEGIN:VEVENT
DTSTART;VALUE=DATE:20250913
DTEND;VALUE=DATE:20250914
DTSTAMP:20260425T023954
CREATED:20250213T114111Z
LAST-MODIFIED:20250213T114111Z
UID:64051-1757721600-1757807999@vollgas-richtung-rock.de
SUMMARY:Slime gehen auf 3! + 71 Tour
DESCRIPTION:Slime gehen auf 3! + 7¹ Tour und haben ihr zehntes Studioalbum im Gepäck. Von St. Pauli geht es einmal quer durch die Republik\, sowie durch die Nachbarländer mit geballtem Punk der Extraklasse.
URL:https://vollgas-richtung-rock.de/event/slime-gehen-auf-3-71-tour-19/
LOCATION:Backstage München\, Reitknechtstraße 6\, München\, 80639\, Deutschland
CATEGORIES:Hallenkonzert
ATTACH;FMTTYPE=image/jpeg:https://vollgas-richtung-rock.de/wp-content/uploads/2025/02/IMG-20250127-WA0000.jpg
END:VEVENT
BEGIN:VEVENT
DTSTART;VALUE=DATE:20250919
DTEND;VALUE=DATE:20250920
DTSTAMP:20260425T023954
CREATED:20250213T114235Z
LAST-MODIFIED:20250213T114235Z
UID:64053-1758240000-1758326399@vollgas-richtung-rock.de
SUMMARY:Slime gehen auf 3! + 71 Tour
DESCRIPTION:Slime gehen auf 3! + 7¹ Tour und haben ihr zehntes Studioalbum im Gepäck. Von St. Pauli geht es einmal quer durch die Republik\, sowie durch die Nachbarländer mit geballtem Punk der Extraklasse.
URL:https://vollgas-richtung-rock.de/event/slime-gehen-auf-3-71-tour-20/
LOCATION:Sputnikhalle Münster\, Am Hawerkamp 31\, Münster\, 48155\, Deutschland
CATEGORIES:Hallenkonzert
ATTACH;FMTTYPE=image/jpeg:https://vollgas-richtung-rock.de/wp-content/uploads/2025/02/IMG-20250127-WA0000.jpg
END:VEVENT
BEGIN:VEVENT
DTSTART;VALUE=DATE:20250920
DTEND;VALUE=DATE:20250921
DTSTAMP:20260425T023954
CREATED:20250213T113301Z
LAST-MODIFIED:20250213T113301Z
UID:64042-1758326400-1758412799@vollgas-richtung-rock.de
SUMMARY:Slime gehen auf 3! + 71 Tour
DESCRIPTION:Slime gehen auf 3! + 7¹ Tour und haben ihr zehntes Studioalbum im Gepäck. Von St. Pauli geht es einmal quer durch die Republik\, sowie durch die Nachbarländer mit geballtem Punk der Extraklasse.
URL:https://vollgas-richtung-rock.de/event/slime-gehen-auf-3-71-tour-15/
LOCATION:Zollhaus Leer\, Bahnhofsring 4\, Leer (Ostfriesland)\, 26789\, Germany
CATEGORIES:Hallenkonzert
ATTACH;FMTTYPE=image/jpeg:https://vollgas-richtung-rock.de/wp-content/uploads/2025/02/IMG-20250127-WA0000.jpg
END:VEVENT
BEGIN:VEVENT
DTSTART;VALUE=DATE:20250927
DTEND;VALUE=DATE:20250928
DTSTAMP:20260425T023954
CREATED:20250213T110515Z
LAST-MODIFIED:20250213T110515Z
UID:64022-1758931200-1759017599@vollgas-richtung-rock.de
SUMMARY:Slime gehen auf 3! + 71 Tour
DESCRIPTION:Slime gehen auf 3! + 7¹ Tour und haben ihr zehntes Studioalbum im Gepäck. Von St. Pauli geht es einmal quer durch die Republik\, sowie durch die Nachbarländer mit geballtem Punk der Extraklasse.
URL:https://vollgas-richtung-rock.de/event/slime-gehen-auf-3-71-tour-6/
LOCATION:Tante JU Dresden\, An der Schleife 1\, Dresden\, 01099
CATEGORIES:Hallenkonzert
ATTACH;FMTTYPE=image/jpeg:https://vollgas-richtung-rock.de/wp-content/uploads/2025/02/IMG-20250127-WA0000.jpg
END:VEVENT
END:VCALENDAR