BEGIN:VCALENDAR
VERSION:2.0
PRODID:-//Vollgas Richtung Rock - ECPv6.15.18//NONSGML v1.0//EN
CALSCALE:GREGORIAN
METHOD:PUBLISH
X-ORIGINAL-URL:https://vollgas-richtung-rock.de
X-WR-CALDESC:Veranstaltungen für Vollgas Richtung Rock
REFRESH-INTERVAL;VALUE=DURATION:PT1H
X-Robots-Tag:noindex
X-PUBLISHED-TTL:PT1H
BEGIN:VTIMEZONE
TZID:Europe/Berlin
BEGIN:DAYLIGHT
TZOFFSETFROM:+0100
TZOFFSETTO:+0200
TZNAME:CEST
DTSTART:20250330T010000
END:DAYLIGHT
BEGIN:STANDARD
TZOFFSETFROM:+0200
TZOFFSETTO:+0100
TZNAME:CET
DTSTART:20251026T010000
END:STANDARD
BEGIN:DAYLIGHT
TZOFFSETFROM:+0100
TZOFFSETTO:+0200
TZNAME:CEST
DTSTART:20260329T010000
END:DAYLIGHT
BEGIN:STANDARD
TZOFFSETFROM:+0200
TZOFFSETTO:+0100
TZNAME:CET
DTSTART:20261025T010000
END:STANDARD
BEGIN:DAYLIGHT
TZOFFSETFROM:+0100
TZOFFSETTO:+0200
TZNAME:CEST
DTSTART:20270328T010000
END:DAYLIGHT
BEGIN:STANDARD
TZOFFSETFROM:+0200
TZOFFSETTO:+0100
TZNAME:CET
DTSTART:20271031T010000
END:STANDARD
END:VTIMEZONE
BEGIN:VEVENT
DTSTART;VALUE=DATE:20260501
DTEND;VALUE=DATE:20260502
DTSTAMP:20260424T183032
CREATED:20260401T184132Z
LAST-MODIFIED:20260401T184132Z
UID:80620-1777593600-1777679999@vollgas-richtung-rock.de
SUMMARY:SKILLET – European Tour 2026
DESCRIPTION:Das mehrfach mit Platin ausgezeichnete und zweimal für den GRAMMY® nominierte Hardrock-Quartett Skillet kommt 2026 nach Europa! \nSupport: TBA
URL:https://vollgas-richtung-rock.de/event/skillet-european-tour-2026-5/
LOCATION:Stadthalle Offenbach\, Waldstraße 312\, Offenbach am Main\, 63071\, Germany
CATEGORIES:Hallenkonzert
ATTACH;FMTTYPE=image/jpeg:https://vollgas-richtung-rock.de/wp-content/uploads/2026/04/1758542492-Skillet-Tour-2026.jpg
END:VEVENT
BEGIN:VEVENT
DTSTART;VALUE=DATE:20260502
DTEND;VALUE=DATE:20260503
DTSTAMP:20260424T183032
CREATED:20260401T184103Z
LAST-MODIFIED:20260401T184103Z
UID:80621-1777680000-1777766399@vollgas-richtung-rock.de
SUMMARY:SKILLET – European Tour 2026
DESCRIPTION:Das mehrfach mit Platin ausgezeichnete und zweimal für den GRAMMY® nominierte Hardrock-Quartett Skillet kommt 2026 nach Europa! \nSupport: TBA
URL:https://vollgas-richtung-rock.de/event/skillet-european-tour-2026-4/
LOCATION:Zenith\, die Kulturhalle München\, Lilienthalallee 29\, München\, 80939\, Deutschland
CATEGORIES:Hallenkonzert
ATTACH;FMTTYPE=image/jpeg:https://vollgas-richtung-rock.de/wp-content/uploads/2026/04/1758542492-Skillet-Tour-2026.jpg
END:VEVENT
BEGIN:VEVENT
DTSTART;VALUE=DATE:20260503
DTEND;VALUE=DATE:20260504
DTSTAMP:20260424T183032
CREATED:20260401T184152Z
LAST-MODIFIED:20260401T184152Z
UID:80619-1777766400-1777852799@vollgas-richtung-rock.de
SUMMARY:SKILLET – European Tour 2026
DESCRIPTION:Das mehrfach mit Platin ausgezeichnete und zweimal für den GRAMMY® nominierte Hardrock-Quartett Skillet kommt 2026 nach Europa! \nSupport: TBA
URL:https://vollgas-richtung-rock.de/event/skillet-european-tour-2026-6/
LOCATION:Gasometer Wien\, Guglgasse 6\, Wien\, 1110\, Austria
CATEGORIES:Hallenkonzert
ATTACH;FMTTYPE=image/jpeg:https://vollgas-richtung-rock.de/wp-content/uploads/2026/04/1758542492-Skillet-Tour-2026.jpg
END:VEVENT
BEGIN:VEVENT
DTSTART;VALUE=DATE:20260505
DTEND;VALUE=DATE:20260506
DTSTAMP:20260424T183032
CREATED:20260401T183453Z
LAST-MODIFIED:20260401T183453Z
UID:80616-1777939200-1778025599@vollgas-richtung-rock.de
SUMMARY:SKILLET – European Tour 2026
DESCRIPTION:Das mehrfach mit Platin ausgezeichnete und zweimal für den GRAMMY® nominierte Hardrock-Quartett Skillet kommt 2026 nach Europa! \nSupport: TBA
URL:https://vollgas-richtung-rock.de/event/skillet-european-tour-2026/
LOCATION:Columbiahalle Berlin\, Columbiadamm 13-21\, Berlin\, 10965\, Deutschland
CATEGORIES:Hallenkonzert
ATTACH;FMTTYPE=image/jpeg:https://vollgas-richtung-rock.de/wp-content/uploads/2026/04/1758542492-Skillet-Tour-2026.jpg
END:VEVENT
END:VCALENDAR