BEGIN:VCALENDAR
VERSION:2.0
PRODID:-//Vollgas Richtung Rock - ECPv6.15.18//NONSGML v1.0//EN
CALSCALE:GREGORIAN
METHOD:PUBLISH
X-ORIGINAL-URL:https://vollgas-richtung-rock.de
X-WR-CALDESC:Veranstaltungen für Vollgas Richtung Rock
REFRESH-INTERVAL;VALUE=DURATION:PT1H
X-Robots-Tag:noindex
X-PUBLISHED-TTL:PT1H
BEGIN:VTIMEZONE
TZID:Europe/Berlin
BEGIN:DAYLIGHT
TZOFFSETFROM:+0100
TZOFFSETTO:+0200
TZNAME:CEST
DTSTART:20250330T010000
END:DAYLIGHT
BEGIN:STANDARD
TZOFFSETFROM:+0200
TZOFFSETTO:+0100
TZNAME:CET
DTSTART:20251026T010000
END:STANDARD
BEGIN:DAYLIGHT
TZOFFSETFROM:+0100
TZOFFSETTO:+0200
TZNAME:CEST
DTSTART:20260329T010000
END:DAYLIGHT
BEGIN:STANDARD
TZOFFSETFROM:+0200
TZOFFSETTO:+0100
TZNAME:CET
DTSTART:20261025T010000
END:STANDARD
BEGIN:DAYLIGHT
TZOFFSETFROM:+0100
TZOFFSETTO:+0200
TZNAME:CEST
DTSTART:20270328T010000
END:DAYLIGHT
BEGIN:STANDARD
TZOFFSETFROM:+0200
TZOFFSETTO:+0100
TZNAME:CET
DTSTART:20271031T010000
END:STANDARD
END:VTIMEZONE
BEGIN:VEVENT
DTSTART;VALUE=DATE:20260201
DTEND;VALUE=DATE:20260202
DTSTAMP:20260424T183339
CREATED:20251230T185642Z
LAST-MODIFIED:20251230T185642Z
UID:77376-1769904000-1769990399@vollgas-richtung-rock.de
SUMMARY:Beyond the Black – Rising High Tour 2026
DESCRIPTION:Beyond the Black gehen 2026 mit der Rising High Tour auf große Reise durch Europa. \nBands: Beyond the Black\, SETYØURSAILS\, Seraina Telli
URL:https://vollgas-richtung-rock.de/event/beyond-the-black-rising-high-tour-2026/
LOCATION:Huxley´s neue Welt Berlin\, Hasenheide 107/113\, Berlin\, 10967\, Germany
CATEGORIES:Hallenkonzert
ATTACH;FMTTYPE=image/jpeg:https://vollgas-richtung-rock.de/wp-content/uploads/2025/12/Beyond-the-Black.jpg
END:VEVENT
BEGIN:VEVENT
DTSTART;VALUE=DATE:20260203
DTEND;VALUE=DATE:20260204
DTSTAMP:20260424T183339
CREATED:20251230T191845Z
LAST-MODIFIED:20251230T191845Z
UID:77387-1770076800-1770163199@vollgas-richtung-rock.de
SUMMARY:Beyond the Black – Rising High Tour 2026
DESCRIPTION:Beyond the Black gehen 2026 mit der Rising High Tour auf große Reise durch Europa. \nBands: Beyond the Black\, SETYØURSAILS\, Seraina Telli
URL:https://vollgas-richtung-rock.de/event/beyond-the-black-rising-high-tour-2026-3/
LOCATION:Docks Hamburg\, Spielbudenpl. 19\, Hamburg\, 20359\, Deutschland
CATEGORIES:Hallenkonzert
ATTACH;FMTTYPE=image/jpeg:https://vollgas-richtung-rock.de/wp-content/uploads/2025/12/Beyond-the-Black.jpg
END:VEVENT
BEGIN:VEVENT
DTSTART;VALUE=DATE:20260205
DTEND;VALUE=DATE:20260206
DTSTAMP:20260424T183339
CREATED:20251230T192131Z
LAST-MODIFIED:20251230T192131Z
UID:77383-1770249600-1770335999@vollgas-richtung-rock.de
SUMMARY:Beyond the Black – Rising High Tour 2026
DESCRIPTION:Beyond the Black gehen 2026 mit der Rising High Tour auf große Reise durch Europa. \nBands: Beyond the Black\, SETYØURSAILS\, Seraina Telli
URL:https://vollgas-richtung-rock.de/event/beyond-the-black-rising-high-tour-2026-7/
LOCATION:Turbinenhalle Oberhausen\, Im Lipperfeld 23\, Oberhausen\, 46047\, Deutschland
CATEGORIES:Hallenkonzert
ATTACH;FMTTYPE=image/jpeg:https://vollgas-richtung-rock.de/wp-content/uploads/2025/12/Beyond-the-Black.jpg
END:VEVENT
END:VCALENDAR