BEGIN:VCALENDAR
VERSION:2.0
PRODID:-//Vollgas Richtung Rock - ECPv6.15.18//NONSGML v1.0//EN
CALSCALE:GREGORIAN
METHOD:PUBLISH
X-WR-CALNAME:Vollgas Richtung Rock
X-ORIGINAL-URL:https://vollgas-richtung-rock.de
X-WR-CALDESC:Veranstaltungen für Vollgas Richtung Rock
REFRESH-INTERVAL;VALUE=DURATION:PT1H
X-Robots-Tag:noindex
X-PUBLISHED-TTL:PT1H
BEGIN:VTIMEZONE
TZID:Europe/Berlin
BEGIN:DAYLIGHT
TZOFFSETFROM:+0100
TZOFFSETTO:+0200
TZNAME:CEST
DTSTART:20250330T010000
END:DAYLIGHT
BEGIN:STANDARD
TZOFFSETFROM:+0200
TZOFFSETTO:+0100
TZNAME:CET
DTSTART:20251026T010000
END:STANDARD
BEGIN:DAYLIGHT
TZOFFSETFROM:+0100
TZOFFSETTO:+0200
TZNAME:CEST
DTSTART:20260329T010000
END:DAYLIGHT
BEGIN:STANDARD
TZOFFSETFROM:+0200
TZOFFSETTO:+0100
TZNAME:CET
DTSTART:20261025T010000
END:STANDARD
BEGIN:DAYLIGHT
TZOFFSETFROM:+0100
TZOFFSETTO:+0200
TZNAME:CEST
DTSTART:20270328T010000
END:DAYLIGHT
BEGIN:STANDARD
TZOFFSETFROM:+0200
TZOFFSETTO:+0100
TZNAME:CET
DTSTART:20271031T010000
END:STANDARD
END:VTIMEZONE
BEGIN:VEVENT
DTSTART;VALUE=DATE:20260119
DTEND;VALUE=DATE:20260120
DTSTAMP:20260425T041025
CREATED:20251230T192407Z
LAST-MODIFIED:20251230T192407Z
UID:77379-1768780800-1768867199@vollgas-richtung-rock.de
SUMMARY:Beyond the Black – Rising High Tour 2026
DESCRIPTION:Beyond the Black gehen 2026 mit der Rising High Tour auf große Reise durch Europa. \nBands: Beyond the Black\, SETYØURSAILS\, Seraina Telli
URL:https://vollgas-richtung-rock.de/event/beyond-the-black-rising-high-tour-2026-11/
LOCATION:X-TRA Zürich\, Limmatstrasse 118\, Zürich\, 8004\, Switzerland
CATEGORIES:Hallenkonzert
ATTACH;FMTTYPE=image/jpeg:https://vollgas-richtung-rock.de/wp-content/uploads/2025/12/Beyond-the-Black.jpg
END:VEVENT
BEGIN:VEVENT
DTSTART;VALUE=DATE:20260120
DTEND;VALUE=DATE:20260121
DTSTAMP:20260425T041025
CREATED:20251230T192109Z
LAST-MODIFIED:20251230T192109Z
UID:77384-1768867200-1768953599@vollgas-richtung-rock.de
SUMMARY:Beyond the Black – Rising High Tour 2026
DESCRIPTION:Beyond the Black gehen 2026 mit der Rising High Tour auf große Reise durch Europa. \nBands: Beyond the Black\, SETYØURSAILS\, Seraina Telli
URL:https://vollgas-richtung-rock.de/event/beyond-the-black-rising-high-tour-2026-6/
LOCATION:TonHalle – Eventfabrik München\, Atelierstraße 24\, München\, 81671\, Deutschland
CATEGORIES:Hallenkonzert
ATTACH;FMTTYPE=image/jpeg:https://vollgas-richtung-rock.de/wp-content/uploads/2025/12/Beyond-the-Black.jpg
END:VEVENT
BEGIN:VEVENT
DTSTART;VALUE=DATE:20260123
DTEND;VALUE=DATE:20260124
DTSTAMP:20260425T041026
CREATED:20251230T192310Z
LAST-MODIFIED:20251230T192310Z
UID:77381-1769126400-1769212799@vollgas-richtung-rock.de
SUMMARY:Beyond the Black – Rising High Tour 2026
DESCRIPTION:Beyond the Black gehen 2026 mit der Rising High Tour auf große Reise durch Europa. \nBands: Beyond the Black\, SETYØURSAILS\, Seraina Telli
URL:https://vollgas-richtung-rock.de/event/beyond-the-black-rising-high-tour-2026-9/
LOCATION:Arena Wien\, Baumgasse 80\, Wien\, 1030\, Austria
CATEGORIES:Hallenkonzert
ATTACH;FMTTYPE=image/jpeg:https://vollgas-richtung-rock.de/wp-content/uploads/2025/12/Beyond-the-Black.jpg
END:VEVENT
BEGIN:VEVENT
DTSTART;VALUE=DATE:20260124
DTEND;VALUE=DATE:20260125
DTSTAMP:20260425T041026
CREATED:20251230T191814Z
LAST-MODIFIED:20251230T191814Z
UID:77388-1769212800-1769299199@vollgas-richtung-rock.de
SUMMARY:Beyond the Black – Rising High Tour 2026
DESCRIPTION:Beyond the Black gehen 2026 mit der Rising High Tour auf große Reise durch Europa. \nBands: Beyond the Black\, SETYØURSAILS\, Seraina Telli
URL:https://vollgas-richtung-rock.de/event/beyond-the-black-rising-high-tour-2026-2/
LOCATION:Eventzentrum Strohofer Geiselwind\, Scheinfelder Straße 21\, Geiselwind\, Deutschland
CATEGORIES:Hallenkonzert
ATTACH;FMTTYPE=image/jpeg:https://vollgas-richtung-rock.de/wp-content/uploads/2025/12/Beyond-the-Black.jpg
END:VEVENT
BEGIN:VEVENT
DTSTART;VALUE=DATE:20260126
DTEND;VALUE=DATE:20260127
DTSTAMP:20260425T041026
CREATED:20251230T192225Z
LAST-MODIFIED:20251230T192225Z
UID:77382-1769385600-1769471999@vollgas-richtung-rock.de
SUMMARY:Beyond the Black – Rising High Tour 2026
DESCRIPTION:Beyond the Black gehen 2026 mit der Rising High Tour auf große Reise durch Europa. \nBands: Beyond the Black\, SETYØURSAILS\, Seraina Telli
URL:https://vollgas-richtung-rock.de/event/beyond-the-black-rising-high-tour-2026-8/
LOCATION:Wagenhallen Stuttgart\, Innerer Nordbahnhof 1\, Stutgart\, 70191\, Deutschland
CATEGORIES:Hallenkonzert
ATTACH;FMTTYPE=image/jpeg:https://vollgas-richtung-rock.de/wp-content/uploads/2025/12/Beyond-the-Black.jpg
END:VEVENT
BEGIN:VEVENT
DTSTART;VALUE=DATE:20260127
DTEND;VALUE=DATE:20260128
DTSTAMP:20260425T041026
CREATED:20251230T192340Z
LAST-MODIFIED:20251230T192340Z
UID:77380-1769472000-1769558399@vollgas-richtung-rock.de
SUMMARY:Beyond the Black – Rising High Tour 2026
DESCRIPTION:Beyond the Black gehen 2026 mit der Rising High Tour auf große Reise durch Europa. \nBands: Beyond the Black\, SETYØURSAILS\, Seraina Telli
URL:https://vollgas-richtung-rock.de/event/beyond-the-black-rising-high-tour-2026-10/
LOCATION:Kulturzentrum Schlachthof e.V. Wiesbaden\, Murnaustr. 1\, Wiesbaden\, 65189\, Deutschland
CATEGORIES:Hallenkonzert
ATTACH;FMTTYPE=image/jpeg:https://vollgas-richtung-rock.de/wp-content/uploads/2025/12/Beyond-the-Black.jpg
END:VEVENT
BEGIN:VEVENT
DTSTART;VALUE=DATE:20260128
DTEND;VALUE=DATE:20260129
DTSTAMP:20260425T041026
CREATED:20251230T191912Z
LAST-MODIFIED:20251230T191912Z
UID:77386-1769558400-1769644799@vollgas-richtung-rock.de
SUMMARY:Beyond the Black – Rising High Tour 2026
DESCRIPTION:Beyond the Black gehen 2026 mit der Rising High Tour auf große Reise durch Europa. \nBands: Beyond the Black\, SETYØURSAILS\, Seraina Telli
URL:https://vollgas-richtung-rock.de/event/beyond-the-black-rising-high-tour-2026-4/
LOCATION:Capitol Hannover\, Schwarzer Bär 2\, Hannover\, 30449\, Deutschland
CATEGORIES:Hallenkonzert
ATTACH;FMTTYPE=image/jpeg:https://vollgas-richtung-rock.de/wp-content/uploads/2025/12/Beyond-the-Black.jpg
END:VEVENT
BEGIN:VEVENT
DTSTART;VALUE=DATE:20260131
DTEND;VALUE=DATE:20260201
DTSTAMP:20260425T041026
CREATED:20251230T192044Z
LAST-MODIFIED:20251230T192044Z
UID:77385-1769817600-1769903999@vollgas-richtung-rock.de
SUMMARY:Beyond the Black – Rising High Tour 2026
DESCRIPTION:Beyond the Black gehen 2026 mit der Rising High Tour auf große Reise durch Europa. \nBands: Beyond the Black\, SETYØURSAILS\, Seraina Telli
URL:https://vollgas-richtung-rock.de/event/beyond-the-black-rising-high-tour-2026-5/
LOCATION:Haus Auensee Leipzig\, Gustav-Esche-Straße 4\, Leipzig\, 04159\, Deutschland
CATEGORIES:Hallenkonzert
ATTACH;FMTTYPE=image/jpeg:https://vollgas-richtung-rock.de/wp-content/uploads/2025/12/Beyond-the-Black.jpg
END:VEVENT
END:VCALENDAR