BEGIN:VCALENDAR
VERSION:2.0
PRODID:-//Vollgas Richtung Rock - ECPv6.15.18//NONSGML v1.0//EN
CALSCALE:GREGORIAN
METHOD:PUBLISH
X-ORIGINAL-URL:https://vollgas-richtung-rock.de
X-WR-CALDESC:Veranstaltungen für Vollgas Richtung Rock
REFRESH-INTERVAL;VALUE=DURATION:PT1H
X-Robots-Tag:noindex
X-PUBLISHED-TTL:PT1H
BEGIN:VTIMEZONE
TZID:Europe/Berlin
BEGIN:DAYLIGHT
TZOFFSETFROM:+0100
TZOFFSETTO:+0200
TZNAME:CEST
DTSTART:20240331T010000
END:DAYLIGHT
BEGIN:STANDARD
TZOFFSETFROM:+0200
TZOFFSETTO:+0100
TZNAME:CET
DTSTART:20241027T010000
END:STANDARD
BEGIN:DAYLIGHT
TZOFFSETFROM:+0100
TZOFFSETTO:+0200
TZNAME:CEST
DTSTART:20250330T010000
END:DAYLIGHT
BEGIN:STANDARD
TZOFFSETFROM:+0200
TZOFFSETTO:+0100
TZNAME:CET
DTSTART:20251026T010000
END:STANDARD
BEGIN:DAYLIGHT
TZOFFSETFROM:+0100
TZOFFSETTO:+0200
TZNAME:CEST
DTSTART:20260329T010000
END:DAYLIGHT
BEGIN:STANDARD
TZOFFSETFROM:+0200
TZOFFSETTO:+0100
TZNAME:CET
DTSTART:20261025T010000
END:STANDARD
END:VTIMEZONE
BEGIN:VEVENT
DTSTART;VALUE=DATE:20251220
DTEND;VALUE=DATE:20251221
DTSTAMP:20260424T165216
CREATED:20251103T094736Z
LAST-MODIFIED:20251103T094736Z
UID:75471-1766188800-1766275199@vollgas-richtung-rock.de
SUMMARY:ENGST – 10 Jahre Jubiläumstour 2025
DESCRIPTION:Zehn Jahre\, ungezählte Nächte\, eine Mission: Die Berliner Band ENGST feiern ihr Jubiläum – und ihr seid mit dabei! \nBands:  ENGST\, Treptow\,  Schimmerling
URL:https://vollgas-richtung-rock.de/event/engst-10-jahre-jubilaeumstour-2025/
LOCATION:Astra Kulturhaus Berlin\, Revaler Str. 99\, Berlin\, 10245\, Germany
CATEGORIES:Hallenkonzert
ATTACH;FMTTYPE=image/jpeg:https://vollgas-richtung-rock.de/wp-content/uploads/2025/11/flyer1.jpg
END:VEVENT
BEGIN:VEVENT
DTSTART;VALUE=DATE:20251221
DTEND;VALUE=DATE:20251222
DTSTAMP:20260424T165217
CREATED:20251103T100429Z
LAST-MODIFIED:20251103T100429Z
UID:75489-1766275200-1766361599@vollgas-richtung-rock.de
SUMMARY:ENGST – 10 Jahre Jubiläumstour 2025
DESCRIPTION:Zehn Jahre\, ungezählte Nächte\, eine Mission: Die Berliner Band ENGST feiern ihr Jubiläum – und ihr seid mit dabei! \nBands:  ENGST\, Schimmerling
URL:https://vollgas-richtung-rock.de/event/engst-10-jahre-jubilaeumstour-2025-9/
LOCATION:Skaters Palace Münster\, Dahlweg 126\, Münster\, 48153\, Germany
CATEGORIES:Hallenkonzert
ATTACH;FMTTYPE=image/jpeg:https://vollgas-richtung-rock.de/wp-content/uploads/2025/11/flyer1.jpg
END:VEVENT
END:VCALENDAR