BEGIN:VCALENDAR
VERSION:2.0
PRODID:-//Vollgas Richtung Rock - ECPv6.15.18//NONSGML v1.0//EN
CALSCALE:GREGORIAN
METHOD:PUBLISH
X-WR-CALNAME:Vollgas Richtung Rock
X-ORIGINAL-URL:https://vollgas-richtung-rock.de
X-WR-CALDESC:Veranstaltungen für Vollgas Richtung Rock
REFRESH-INTERVAL;VALUE=DURATION:PT1H
X-Robots-Tag:noindex
X-PUBLISHED-TTL:PT1H
BEGIN:VTIMEZONE
TZID:Europe/Berlin
BEGIN:DAYLIGHT
TZOFFSETFROM:+0100
TZOFFSETTO:+0200
TZNAME:CEST
DTSTART:20240331T010000
END:DAYLIGHT
BEGIN:STANDARD
TZOFFSETFROM:+0200
TZOFFSETTO:+0100
TZNAME:CET
DTSTART:20241027T010000
END:STANDARD
BEGIN:DAYLIGHT
TZOFFSETFROM:+0100
TZOFFSETTO:+0200
TZNAME:CEST
DTSTART:20250330T010000
END:DAYLIGHT
BEGIN:STANDARD
TZOFFSETFROM:+0200
TZOFFSETTO:+0100
TZNAME:CET
DTSTART:20251026T010000
END:STANDARD
BEGIN:DAYLIGHT
TZOFFSETFROM:+0100
TZOFFSETTO:+0200
TZNAME:CEST
DTSTART:20260329T010000
END:DAYLIGHT
BEGIN:STANDARD
TZOFFSETFROM:+0200
TZOFFSETTO:+0100
TZNAME:CET
DTSTART:20261025T010000
END:STANDARD
END:VTIMEZONE
BEGIN:VEVENT
DTSTART;TZID=Europe/Berlin:20250904T080000
DTEND;TZID=Europe/Berlin:20250906T170000
DTSTAMP:20260425T061220
CREATED:20250102T220255Z
LAST-MODIFIED:20250102T220255Z
UID:62236-1756972800-1757178000@vollgas-richtung-rock.de
SUMMARY:30 Jahre In Extremo – Das Jubiläumsfestival
DESCRIPTION:2025 jährt sich die Gründung von In Extremo zum 30. Mal: Um diesen Anlass mit ihren Fansgebührend feiern zu können\, veranstalten die sechs Musiker vom 04. bis 06.09.2025 ein großes\,dreitägiges Jubiläumsfestival auf der Freilichtbühne Loreley. Zahlreiche Freunde und musikalischeWegbegleiter werden mit ihren Auftritten die große Geburtstagsparty bereichern. \nBands: In Extremo\, ASP\, Eisbrecher\, Feuerschwanz\, Versengold\, Faun\, Wind Rose\, Clawfinger\, FiddlersGreen\, Dritte Wahl\, Schandmaul\, Tanzwut\, Rauhbein\, Manntra\, Ye Banished Privateers\, Seasons inBlack und  Irdorath.
URL:https://vollgas-richtung-rock.de/event/30-jahre-in-extremo-das-jubilaeumsfestival/
LOCATION:Loreley Freilichtbühne Bornich\, Auf d. Loreley 9\, Bornich\, 56348\, Germany
CATEGORIES:Open Air / Festival
ATTACH;FMTTYPE=image/jpeg:https://vollgas-richtung-rock.de/wp-content/uploads/2025/01/30-Jahre-In-Extremo.jpg
END:VEVENT
BEGIN:VEVENT
DTSTART;VALUE=DATE:20250913
DTEND;VALUE=DATE:20250914
DTSTAMP:20260425T061220
CREATED:20241003T193810Z
LAST-MODIFIED:20241003T193810Z
UID:57768-1757721600-1757807999@vollgas-richtung-rock.de
SUMMARY:Folkfield Festival 2025
DESCRIPTION:Das von der Folk-Rock-Band Schandmaul organisierte Folkfield Festival wird auch 2025 wieder stattfinden. Am 13. September lädt die Band erneut ins Amphitheater Gelsenkirchen ein. Neben Schandmaul als Headliner sind bereits dArtagnan\, Mr. Hurley & die Pulveraffen\, Korpiklaani\, Manntra\, Storm Seeker und Kupfergold bestätigt.
URL:https://vollgas-richtung-rock.de/event/folkfield-festival-2025/
LOCATION:Amphitheater-Gelsenkirchen\, Grothusstraße 201\, Gelsenkirchen\, 45883\, Germany
CATEGORIES:Open Air / Festival
ATTACH;FMTTYPE=image/jpeg:https://vollgas-richtung-rock.de/wp-content/uploads/2024/10/Flyer-Folkfield-Festival-2025.jpg
END:VEVENT
END:VCALENDAR