BEGIN:VCALENDAR
VERSION:2.0
PRODID:-//Vollgas Richtung Rock - ECPv6.15.18//NONSGML v1.0//EN
CALSCALE:GREGORIAN
METHOD:PUBLISH
X-WR-CALNAME:Vollgas Richtung Rock
X-ORIGINAL-URL:https://vollgas-richtung-rock.de
X-WR-CALDESC:Veranstaltungen für Vollgas Richtung Rock
REFRESH-INTERVAL;VALUE=DURATION:PT1H
X-Robots-Tag:noindex
X-PUBLISHED-TTL:PT1H
BEGIN:VTIMEZONE
TZID:Europe/Berlin
BEGIN:DAYLIGHT
TZOFFSETFROM:+0100
TZOFFSETTO:+0200
TZNAME:CEST
DTSTART:20240331T010000
END:DAYLIGHT
BEGIN:STANDARD
TZOFFSETFROM:+0200
TZOFFSETTO:+0100
TZNAME:CET
DTSTART:20241027T010000
END:STANDARD
BEGIN:DAYLIGHT
TZOFFSETFROM:+0100
TZOFFSETTO:+0200
TZNAME:CEST
DTSTART:20250330T010000
END:DAYLIGHT
BEGIN:STANDARD
TZOFFSETFROM:+0200
TZOFFSETTO:+0100
TZNAME:CET
DTSTART:20251026T010000
END:STANDARD
BEGIN:DAYLIGHT
TZOFFSETFROM:+0100
TZOFFSETTO:+0200
TZNAME:CEST
DTSTART:20260329T010000
END:DAYLIGHT
BEGIN:STANDARD
TZOFFSETFROM:+0200
TZOFFSETTO:+0100
TZNAME:CET
DTSTART:20261025T010000
END:STANDARD
END:VTIMEZONE
BEGIN:VEVENT
DTSTART;VALUE=DATE:20250429
DTEND;VALUE=DATE:20250430
DTSTAMP:20260425T053347
CREATED:20250415T163548Z
LAST-MODIFIED:20250415T163548Z
UID:65493-1745884800-1745971199@vollgas-richtung-rock.de
SUMMARY:Focus. - Live Tour 2025
DESCRIPTION:Focus. gehen im Frühjahr 2025 auf ihre erste Headline-Tour. \nSupport: Rustikarl
URL:https://vollgas-richtung-rock.de/event/focus-live-tour-2025-7/
LOCATION:Lux Hannover\, Schwarzer Bär 2\, Hannover\, 30449\, Deutschland
CATEGORIES:Hallenkonzert
ATTACH;FMTTYPE=image/jpeg:https://vollgas-richtung-rock.de/wp-content/uploads/2025/04/1737380934-Focus-Tour-2025.jpg
END:VEVENT
BEGIN:VEVENT
DTSTART;VALUE=DATE:20250430
DTEND;VALUE=DATE:20250501
DTSTAMP:20260425T053347
CREATED:20250415T164144Z
LAST-MODIFIED:20250415T164144Z
UID:65495-1745971200-1746057599@vollgas-richtung-rock.de
SUMMARY:Focus. - Live Tour 2025
DESCRIPTION:Focus. gehen im Frühjahr 2025 auf ihre erste Headline-Tour. \nSupport: Rustikarl
URL:https://vollgas-richtung-rock.de/event/focus-live-tour-2025-8/
LOCATION:Garagen Köln\, Oskar-Jäger-Straße 179\, Köln\, 50825\, Germany
CATEGORIES:Hallenkonzert
ATTACH;FMTTYPE=image/jpeg:https://vollgas-richtung-rock.de/wp-content/uploads/2025/04/1737380934-Focus-Tour-2025.jpg
END:VEVENT
END:VCALENDAR