BEGIN:VCALENDAR
VERSION:2.0
PRODID:-//Vollgas Richtung Rock - ECPv6.15.18//NONSGML v1.0//EN
CALSCALE:GREGORIAN
METHOD:PUBLISH
X-WR-CALNAME:Vollgas Richtung Rock
X-ORIGINAL-URL:https://vollgas-richtung-rock.de
X-WR-CALDESC:Veranstaltungen für Vollgas Richtung Rock
REFRESH-INTERVAL;VALUE=DURATION:PT1H
X-Robots-Tag:noindex
X-PUBLISHED-TTL:PT1H
BEGIN:VTIMEZONE
TZID:Europe/Berlin
BEGIN:DAYLIGHT
TZOFFSETFROM:+0100
TZOFFSETTO:+0200
TZNAME:CEST
DTSTART:20230326T010000
END:DAYLIGHT
BEGIN:STANDARD
TZOFFSETFROM:+0200
TZOFFSETTO:+0100
TZNAME:CET
DTSTART:20231029T010000
END:STANDARD
BEGIN:DAYLIGHT
TZOFFSETFROM:+0100
TZOFFSETTO:+0200
TZNAME:CEST
DTSTART:20240331T010000
END:DAYLIGHT
BEGIN:STANDARD
TZOFFSETFROM:+0200
TZOFFSETTO:+0100
TZNAME:CET
DTSTART:20241027T010000
END:STANDARD
BEGIN:DAYLIGHT
TZOFFSETFROM:+0100
TZOFFSETTO:+0200
TZNAME:CEST
DTSTART:20250330T010000
END:DAYLIGHT
BEGIN:STANDARD
TZOFFSETFROM:+0200
TZOFFSETTO:+0100
TZNAME:CET
DTSTART:20251026T010000
END:STANDARD
END:VTIMEZONE
BEGIN:VEVENT
DTSTART;VALUE=DATE:20241101
DTEND;VALUE=DATE:20241102
DTSTAMP:20260425T133955
CREATED:20240911T101926Z
LAST-MODIFIED:20240911T101926Z
UID:55878-1730419200-1730505599@vollgas-richtung-rock.de
SUMMARY:Planlos - Taschen voller Glück Tour -
DESCRIPTION:Planlos gehen  ein letztes Mal auf Tour\, bevor sie sich wieder aus dem Musikzirkus zurückziehen. \n+ Spezial Guest
URL:https://vollgas-richtung-rock.de/event/planlos-taschen-voller-glueck-tour-10/
LOCATION:GoldGrube Kassel\, Eisenschmiede 85\, Kassel\, 34127\, Deutschland
CATEGORIES:Hallenkonzert
ATTACH;FMTTYPE=image/jpeg:https://vollgas-richtung-rock.de/wp-content/uploads/2024/09/planlos-abschiedstour-2024.jpg
END:VEVENT
BEGIN:VEVENT
DTSTART;VALUE=DATE:20241102
DTEND;VALUE=DATE:20241103
DTSTAMP:20260425T133955
CREATED:20240911T102159Z
LAST-MODIFIED:20240911T154533Z
UID:55879-1730505600-1730591999@vollgas-richtung-rock.de
SUMMARY:Planlos - Taschen voller Glück Tour -
DESCRIPTION:Planlos gehen  ein letztes Mal auf Tour\, bevor sie sich wieder aus dem Musikzirkus zurückziehen. \n+ Spezial Guest
URL:https://vollgas-richtung-rock.de/event/planlos-taschen-voller-glueck-tour-11/
LOCATION:Backstage München\, Reitknechtstraße 6\, München\, 80639\, Deutschland
CATEGORIES:Hallenkonzert
ATTACH;FMTTYPE=image/jpeg:https://vollgas-richtung-rock.de/wp-content/uploads/2024/09/planlos-abschiedstour-2024.jpg
END:VEVENT
BEGIN:VEVENT
DTSTART;VALUE=DATE:20241115
DTEND;VALUE=DATE:20241116
DTSTAMP:20260425T133955
CREATED:20240911T100345Z
LAST-MODIFIED:20240911T100345Z
UID:55853-1731628800-1731715199@vollgas-richtung-rock.de
SUMMARY:Planlos - Taschen voller Glück Tour -
DESCRIPTION:Planlos gehen  ein letztes Mal auf Tour\, bevor sie sich wieder aus dem Musikzirkus zurückziehen. \nSupport: DEAD DATES
URL:https://vollgas-richtung-rock.de/event/planlos-taschen-voller-glueck-tour-4/
LOCATION:Tower Musikclub\, Herdentorsteinweg 7a\, Bremen\, 28195\, Deutschland
CATEGORIES:Hallenkonzert
ATTACH;FMTTYPE=image/jpeg:https://vollgas-richtung-rock.de/wp-content/uploads/2024/09/planlos-abschiedstour-2024.jpg
END:VEVENT
BEGIN:VEVENT
DTSTART;VALUE=DATE:20241116
DTEND;VALUE=DATE:20241117
DTSTAMP:20260425T133955
CREATED:20240911T100338Z
LAST-MODIFIED:20240911T100338Z
UID:55854-1731715200-1731801599@vollgas-richtung-rock.de
SUMMARY:Planlos - Taschen voller Glück Tour -
DESCRIPTION:Planlos gehen  ein letztes Mal auf Tour\, bevor sie sich wieder aus dem Musikzirkus zurückziehen. \nSupport: DEAD DATES
URL:https://vollgas-richtung-rock.de/event/planlos-taschen-voller-glueck-tour-3/
LOCATION:Logo Hamburg\, Grindelallee 5\, Hamburg\, 20146\, Deutschland
CATEGORIES:Hallenkonzert
ATTACH;FMTTYPE=image/jpeg:https://vollgas-richtung-rock.de/wp-content/uploads/2024/09/planlos-abschiedstour-2024.jpg
END:VEVENT
BEGIN:VEVENT
DTSTART;VALUE=DATE:20241123
DTEND;VALUE=DATE:20241124
DTSTAMP:20260425T133955
CREATED:20240911T100233Z
LAST-MODIFIED:20240911T100233Z
UID:55855-1732320000-1732406399@vollgas-richtung-rock.de
SUMMARY:Planlos - Taschen voller Glück Tour -
DESCRIPTION:Planlos gehen  ein letztes Mal auf Tour\, bevor sie sich wieder aus dem Musikzirkus zurückziehen. \nSupport: DEAD DATES
URL:https://vollgas-richtung-rock.de/event/planlos-taschen-voller-glueck-tour-2/
LOCATION:zakk Club Düsseldorf\, Fichtenstraße 40\, Düsseldorf\, 40233
CATEGORIES:Hallenkonzert
ATTACH;FMTTYPE=image/jpeg:https://vollgas-richtung-rock.de/wp-content/uploads/2024/09/planlos-abschiedstour-2024.jpg
END:VEVENT
END:VCALENDAR