BEGIN:VCALENDAR
VERSION:2.0
PRODID:-//Vollgas Richtung Rock - ECPv6.15.18//NONSGML v1.0//EN
CALSCALE:GREGORIAN
METHOD:PUBLISH
X-WR-CALNAME:Vollgas Richtung Rock
X-ORIGINAL-URL:https://vollgas-richtung-rock.de
X-WR-CALDESC:Veranstaltungen für Vollgas Richtung Rock
REFRESH-INTERVAL;VALUE=DURATION:PT1H
X-Robots-Tag:noindex
X-PUBLISHED-TTL:PT1H
BEGIN:VTIMEZONE
TZID:Europe/Berlin
BEGIN:DAYLIGHT
TZOFFSETFROM:+0100
TZOFFSETTO:+0200
TZNAME:CEST
DTSTART:20230326T010000
END:DAYLIGHT
BEGIN:STANDARD
TZOFFSETFROM:+0200
TZOFFSETTO:+0100
TZNAME:CET
DTSTART:20231029T010000
END:STANDARD
BEGIN:DAYLIGHT
TZOFFSETFROM:+0100
TZOFFSETTO:+0200
TZNAME:CEST
DTSTART:20240331T010000
END:DAYLIGHT
BEGIN:STANDARD
TZOFFSETFROM:+0200
TZOFFSETTO:+0100
TZNAME:CET
DTSTART:20241027T010000
END:STANDARD
BEGIN:DAYLIGHT
TZOFFSETFROM:+0100
TZOFFSETTO:+0200
TZNAME:CEST
DTSTART:20250330T010000
END:DAYLIGHT
BEGIN:STANDARD
TZOFFSETFROM:+0200
TZOFFSETTO:+0100
TZNAME:CET
DTSTART:20251026T010000
END:STANDARD
END:VTIMEZONE
BEGIN:VEVENT
DTSTART;VALUE=DATE:20241004
DTEND;VALUE=DATE:20241005
DTSTAMP:20260425T152803
CREATED:20240911T094002Z
LAST-MODIFIED:20240911T100521Z
UID:55840-1728000000-1728086399@vollgas-richtung-rock.de
SUMMARY:Planlos - Taschen voller Glück Tour -
DESCRIPTION:Planlos gehen  ein letztes Mal auf Tour\, bevor sie sich wieder aus dem Musikzirkus zurückziehen. \nSupport: DEAD DATES
URL:https://vollgas-richtung-rock.de/event/planlos-taschen-voller-glueck-tour/
LOCATION:Turock Essen\, Viehofer Platz 3\, Essen\, 45127\, Deutschland
CATEGORIES:Hallenkonzert
ATTACH;FMTTYPE=image/jpeg:https://vollgas-richtung-rock.de/wp-content/uploads/2024/09/planlos-abschiedstour-2024.jpg
END:VEVENT
BEGIN:VEVENT
DTSTART;VALUE=DATE:20241005
DTEND;VALUE=DATE:20241006
DTSTAMP:20260425T152803
CREATED:20240911T100508Z
LAST-MODIFIED:20240911T100508Z
UID:55850-1728086400-1728172799@vollgas-richtung-rock.de
SUMMARY:Planlos - Taschen voller Glück Tour -
DESCRIPTION:Planlos gehen  ein letztes Mal auf Tour\, bevor sie sich wieder aus dem Musikzirkus zurückziehen. \nSupport: DEAD DATES
URL:https://vollgas-richtung-rock.de/event/planlos-taschen-voller-glueck-tour-7/
LOCATION:Gebäude 9 Köln\, Deutz-Mülheimer-Str. 127 - 129\, Köln\, 51063\, Deutschland
CATEGORIES:Hallenkonzert
ATTACH;FMTTYPE=image/jpeg:https://vollgas-richtung-rock.de/wp-content/uploads/2024/09/planlos-abschiedstour-2024.jpg
END:VEVENT
BEGIN:VEVENT
DTSTART;VALUE=DATE:20241018
DTEND;VALUE=DATE:20241019
DTSTAMP:20260425T152804
CREATED:20240911T101123Z
LAST-MODIFIED:20240911T101123Z
UID:55873-1729209600-1729295999@vollgas-richtung-rock.de
SUMMARY:Planlos - Taschen voller Glück Tour -
DESCRIPTION:Planlos gehen  ein letztes Mal auf Tour\, bevor sie sich wieder aus dem Musikzirkus zurückziehen.
URL:https://vollgas-richtung-rock.de/event/planlos-taschen-voller-glueck-tour-8/
LOCATION:Nachtleben Frankfurt\, Kurt-Schumacher-Straße 45\, Frankfurt am Main\, 60313
CATEGORIES:Hallenkonzert
ATTACH;FMTTYPE=image/jpeg:https://vollgas-richtung-rock.de/wp-content/uploads/2024/09/planlos-abschiedstour-2024.jpg
END:VEVENT
BEGIN:VEVENT
DTSTART;VALUE=DATE:20241019
DTEND;VALUE=DATE:20241020
DTSTAMP:20260425T152804
CREATED:20240911T101359Z
LAST-MODIFIED:20240911T101359Z
UID:55874-1729296000-1729382399@vollgas-richtung-rock.de
SUMMARY:Planlos - Taschen voller Glück Tour -
DESCRIPTION:Planlos gehen  ein letztes Mal auf Tour\, bevor sie sich wieder aus dem Musikzirkus zurückziehen.
URL:https://vollgas-richtung-rock.de/event/planlos-taschen-voller-glueck-tour-9/
LOCATION:Club Stereo\, Nürnberg\, Klaragasse 8\, Nürnberg\, 90402
CATEGORIES:Hallenkonzert
ATTACH;FMTTYPE=image/jpeg:https://vollgas-richtung-rock.de/wp-content/uploads/2024/09/planlos-abschiedstour-2024.jpg
END:VEVENT
BEGIN:VEVENT
DTSTART;VALUE=DATE:20241025
DTEND;VALUE=DATE:20241026
DTSTAMP:20260425T152804
CREATED:20240911T100443Z
LAST-MODIFIED:20240911T100443Z
UID:55851-1729814400-1729900799@vollgas-richtung-rock.de
SUMMARY:Planlos - Taschen voller Glück Tour -
DESCRIPTION:Planlos gehen  ein letztes Mal auf Tour\, bevor sie sich wieder aus dem Musikzirkus zurückziehen. \nSupport: DEAD DATES
URL:https://vollgas-richtung-rock.de/event/planlos-taschen-voller-glueck-tour-6/
LOCATION:Musikzentrum Hannover\, Emil-Meyer-Str. 26-28\, Hannover\, 30165\, Deutschland
CATEGORIES:Hallenkonzert
ATTACH;FMTTYPE=image/jpeg:https://vollgas-richtung-rock.de/wp-content/uploads/2024/09/planlos-abschiedstour-2024.jpg
END:VEVENT
BEGIN:VEVENT
DTSTART;VALUE=DATE:20241026
DTEND;VALUE=DATE:20241027
DTSTAMP:20260425T152804
CREATED:20240911T100418Z
LAST-MODIFIED:20240911T100418Z
UID:55852-1729900800-1729987199@vollgas-richtung-rock.de
SUMMARY:Planlos - Taschen voller Glück Tour -
DESCRIPTION:Planlos gehen  ein letztes Mal auf Tour\, bevor sie sich wieder aus dem Musikzirkus zurückziehen. \nSupport: DEAD DATES
URL:https://vollgas-richtung-rock.de/event/planlos-taschen-voller-glueck-tour-5/
LOCATION:FRANNZ Club\, Schönhauser Allee 36\, Berlin\, 10435\, Deutschland
CATEGORIES:Hallenkonzert
ATTACH;FMTTYPE=image/jpeg:https://vollgas-richtung-rock.de/wp-content/uploads/2024/09/planlos-abschiedstour-2024.jpg
END:VEVENT
END:VCALENDAR