BEGIN:VCALENDAR
VERSION:2.0
PRODID:-//Vollgas Richtung Rock - ECPv6.15.18//NONSGML v1.0//EN
CALSCALE:GREGORIAN
METHOD:PUBLISH
X-ORIGINAL-URL:https://vollgas-richtung-rock.de
X-WR-CALDESC:Veranstaltungen für Vollgas Richtung Rock
REFRESH-INTERVAL;VALUE=DURATION:PT1H
X-Robots-Tag:noindex
X-PUBLISHED-TTL:PT1H
BEGIN:VTIMEZONE
TZID:Europe/Berlin
BEGIN:DAYLIGHT
TZOFFSETFROM:+0100
TZOFFSETTO:+0200
TZNAME:CEST
DTSTART:20240331T010000
END:DAYLIGHT
BEGIN:STANDARD
TZOFFSETFROM:+0200
TZOFFSETTO:+0100
TZNAME:CET
DTSTART:20241027T010000
END:STANDARD
BEGIN:DAYLIGHT
TZOFFSETFROM:+0100
TZOFFSETTO:+0200
TZNAME:CEST
DTSTART:20250330T010000
END:DAYLIGHT
BEGIN:STANDARD
TZOFFSETFROM:+0200
TZOFFSETTO:+0100
TZNAME:CET
DTSTART:20251026T010000
END:STANDARD
BEGIN:DAYLIGHT
TZOFFSETFROM:+0100
TZOFFSETTO:+0200
TZNAME:CEST
DTSTART:20260329T010000
END:DAYLIGHT
BEGIN:STANDARD
TZOFFSETFROM:+0200
TZOFFSETTO:+0100
TZNAME:CET
DTSTART:20261025T010000
END:STANDARD
END:VTIMEZONE
BEGIN:VEVENT
DTSTART;TZID=Europe/Berlin:20250620T080000
DTEND;TZID=Europe/Berlin:20250622T170000
DTSTAMP:20260425T163623
CREATED:20241219T074938Z
LAST-MODIFIED:20241219T074938Z
UID:61571-1750406400-1750611600@vollgas-richtung-rock.de
SUMMARY:Schlossfestspiele Merseburg
DESCRIPTION:Vom 20. bis 22.06.2025 wird im Dom-Schloss-Ensemble Merseburgs groß aufgefahren. Wie im letzten Jahr ist auch 2025 nur für das Rock-Festival mit historischem Markt im Schlossgarten Eintritt zu entrichten. \nBands: Finntrol\, Schandmaul\, Letzte Instanz\, Rauhbein\, Harpyie\, Ost+Front uvm.
URL:https://vollgas-richtung-rock.de/event/schlossfestspiele-merseburg/
LOCATION:Schlossgarten Merseburg\, Oberaltenburg\, Merseburg\, 06217\, Germany
CATEGORIES:Open Air / Festival
ATTACH;FMTTYPE=image/jpeg:https://vollgas-richtung-rock.de/wp-content/uploads/2024/12/Schlossfestspiele-Flyer_direkt-von-der-Facebook-Seite-der-Veranstaltung-2.jpg
END:VEVENT
END:VCALENDAR