BEGIN:VCALENDAR
VERSION:2.0
PRODID:-//Vollgas Richtung Rock - ECPv6.15.18//NONSGML v1.0//EN
CALSCALE:GREGORIAN
METHOD:PUBLISH
X-WR-CALNAME:Vollgas Richtung Rock
X-ORIGINAL-URL:https://vollgas-richtung-rock.de
X-WR-CALDESC:Veranstaltungen für Vollgas Richtung Rock
REFRESH-INTERVAL;VALUE=DURATION:PT1H
X-Robots-Tag:noindex
X-PUBLISHED-TTL:PT1H
BEGIN:VTIMEZONE
TZID:Europe/Berlin
BEGIN:DAYLIGHT
TZOFFSETFROM:+0100
TZOFFSETTO:+0200
TZNAME:CEST
DTSTART:20240331T010000
END:DAYLIGHT
BEGIN:STANDARD
TZOFFSETFROM:+0200
TZOFFSETTO:+0100
TZNAME:CET
DTSTART:20241027T010000
END:STANDARD
BEGIN:DAYLIGHT
TZOFFSETFROM:+0100
TZOFFSETTO:+0200
TZNAME:CEST
DTSTART:20250330T010000
END:DAYLIGHT
BEGIN:STANDARD
TZOFFSETFROM:+0200
TZOFFSETTO:+0100
TZNAME:CET
DTSTART:20251026T010000
END:STANDARD
BEGIN:DAYLIGHT
TZOFFSETFROM:+0100
TZOFFSETTO:+0200
TZNAME:CEST
DTSTART:20260329T010000
END:DAYLIGHT
BEGIN:STANDARD
TZOFFSETFROM:+0200
TZOFFSETTO:+0100
TZNAME:CET
DTSTART:20261025T010000
END:STANDARD
END:VTIMEZONE
BEGIN:VEVENT
DTSTART;VALUE=DATE:20251003
DTEND;VALUE=DATE:20251004
DTSTAMP:20260424T203353
CREATED:20250817T164218Z
LAST-MODIFIED:20250817T164327Z
UID:72055-1759449600-1759535999@vollgas-richtung-rock.de
SUMMARY:Wind Rose – Tourslayer Europe 2025
DESCRIPTION:Die Zwerge ziehen wieder in die Schlacht! Wind Rose bringen ihren epischen Dwarf-Metal 2025 mit voller Wucht auf die Bühnen Europas – und sie kommen nicht allein: Mit dabei sind die Power-Metal-Giganten Orden Ogan und der glorreiche Schwertschwinger Angus McSix! Drei Mal Bombast\, drei Mal Metal\, drei Mal Abriss – Tourslayer Europe wird laut\, legendär und absolut heroisch! \nBands: Wind Rose\, Orden Ogan und Angus McSix
URL:https://vollgas-richtung-rock.de/event/wind-rose-tourslayer-europe-2025-7/
LOCATION:TonHalle – Eventfabrik München\, Atelierstraße 24\, München\, 81671\, Deutschland
CATEGORIES:Hallenkonzert
ATTACH;FMTTYPE=image/jpeg:https://vollgas-richtung-rock.de/wp-content/uploads/2025/08/wind-rose-tour-2025-724x1024-1.jpg
END:VEVENT
BEGIN:VEVENT
DTSTART;VALUE=DATE:20251005
DTEND;VALUE=DATE:20251006
DTSTAMP:20260424T203354
CREATED:20250817T163726Z
LAST-MODIFIED:20250817T163726Z
UID:72053-1759622400-1759708799@vollgas-richtung-rock.de
SUMMARY:Wind Rose – Tourslayer Europe 2025
DESCRIPTION:Die Zwerge ziehen wieder in die Schlacht! Wind Rose bringen ihren epischen Dwarf-Metal 2025 mit voller Wucht auf die Bühnen Europas – und sie kommen nicht allein: Mit dabei sind die Power-Metal-Giganten Orden Ogan und der glorreiche Schwertschwinger Angus McSix! Drei Mal Bombast\, drei Mal Metal\, drei Mal Abriss – Tourslayer Europe wird laut\, legendär und absolut heroisch! \nBands: Wind Rose\, Orden Ogan und Angus McSix
URL:https://vollgas-richtung-rock.de/event/wind-rose-tourslayer-europe-2025-6/
LOCATION:Felsenkeller Leipzig\, Karl-Heine-Straße 32\, Leipzig\, 04229\, Deutschland
CATEGORIES:Hallenkonzert
ATTACH;FMTTYPE=image/jpeg:https://vollgas-richtung-rock.de/wp-content/uploads/2025/08/wind-rose-tour-2025-724x1024-1.jpg
END:VEVENT
BEGIN:VEVENT
DTSTART;VALUE=DATE:20251008
DTEND;VALUE=DATE:20251009
DTSTAMP:20260424T203354
CREATED:20250817T162122Z
LAST-MODIFIED:20250817T163425Z
UID:72040-1759881600-1759967999@vollgas-richtung-rock.de
SUMMARY:Wind Rose – Tourslayer Europe 2025
DESCRIPTION:Die Zwerge ziehen wieder in die Schlacht! Wind Rose bringen ihren epischen Dwarf-Metal 2025 mit voller Wucht auf die Bühnen Europas – und sie kommen nicht allein: Mit dabei sind die Power-Metal-Giganten Orden Ogan und der glorreiche Schwertschwinger Angus McSix! Drei Mal Bombast\, drei Mal Metal\, drei Mal Abriss – Tourslayer Europe wird laut\, legendär und absolut heroisch! \nBands: Wind Rose\, Orden Ogan und Angus McSix
URL:https://vollgas-richtung-rock.de/event/wind-rose-tourslayer-europe-2025/
LOCATION:Astra Kulturhaus Berlin\, Revaler Str. 99\, Berlin\, 10245\, Germany
CATEGORIES:Hallenkonzert
ATTACH;FMTTYPE=image/jpeg:https://vollgas-richtung-rock.de/wp-content/uploads/2025/08/wind-rose-tour-2025-724x1024-1.jpg
END:VEVENT
BEGIN:VEVENT
DTSTART;VALUE=DATE:20251009
DTEND;VALUE=DATE:20251010
DTSTAMP:20260424T203354
CREATED:20250817T163125Z
LAST-MODIFIED:20250817T163125Z
UID:72048-1759968000-1760054399@vollgas-richtung-rock.de
SUMMARY:Wind Rose – Tourslayer Europe 2025
DESCRIPTION:Die Zwerge ziehen wieder in die Schlacht! Wind Rose bringen ihren epischen Dwarf-Metal 2025 mit voller Wucht auf die Bühnen Europas – und sie kommen nicht allein: Mit dabei sind die Power-Metal-Giganten Orden Ogan und der glorreiche Schwertschwinger Angus McSix! Drei Mal Bombast\, drei Mal Metal\, drei Mal Abriss – Tourslayer Europe wird laut\, legendär und absolut heroisch! \nBands: Wind Rose\, Orden Ogan und Angus McSix
URL:https://vollgas-richtung-rock.de/event/wind-rose-tourslayer-europe-2025-4/
LOCATION:Große Freiheit 36 Hamburg\, Große Freiheit 36\, Hamburg\, 22767\, Deutschland
CATEGORIES:Hallenkonzert
ATTACH;FMTTYPE=image/jpeg:https://vollgas-richtung-rock.de/wp-content/uploads/2025/08/wind-rose-tour-2025-724x1024-1.jpg
END:VEVENT
BEGIN:VEVENT
DTSTART;VALUE=DATE:20251020
DTEND;VALUE=DATE:20251021
DTSTAMP:20260424T203354
CREATED:20250817T164857Z
LAST-MODIFIED:20250817T164857Z
UID:72059-1760918400-1761004799@vollgas-richtung-rock.de
SUMMARY:Wind Rose – Tourslayer Europe 2025
DESCRIPTION:Die Zwerge ziehen wieder in die Schlacht! Wind Rose bringen ihren epischen Dwarf-Metal 2025 mit voller Wucht auf die Bühnen Europas – und sie kommen nicht allein: Mit dabei sind die Power-Metal-Giganten Orden Ogan und der glorreiche Schwertschwinger Angus McSix! Drei Mal Bombast\, drei Mal Metal\, drei Mal Abriss – Tourslayer Europe wird laut\, legendär und absolut heroisch! \nBands: Wind Rose\, Orden Ogan und Angus McSix
URL:https://vollgas-richtung-rock.de/event/wind-rose-tourslayer-europe-2025-9/
LOCATION:Arena Wien\, Baumgasse 80\, Wien\, 1030\, Austria
CATEGORIES:Hallenkonzert
ATTACH;FMTTYPE=image/jpeg:https://vollgas-richtung-rock.de/wp-content/uploads/2025/08/wind-rose-tour-2025-724x1024-1.jpg
END:VEVENT
BEGIN:VEVENT
DTSTART;VALUE=DATE:20251021
DTEND;VALUE=DATE:20251022
DTSTAMP:20260424T203354
CREATED:20250817T163514Z
LAST-MODIFIED:20250817T163514Z
UID:72050-1761004800-1761091199@vollgas-richtung-rock.de
SUMMARY:Wind Rose – Tourslayer Europe 2025
DESCRIPTION:Die Zwerge ziehen wieder in die Schlacht! Wind Rose bringen ihren epischen Dwarf-Metal 2025 mit voller Wucht auf die Bühnen Europas – und sie kommen nicht allein: Mit dabei sind die Power-Metal-Giganten Orden Ogan und der glorreiche Schwertschwinger Angus McSix! Drei Mal Bombast\, drei Mal Metal\, drei Mal Abriss – Tourslayer Europe wird laut\, legendär und absolut heroisch! \nBands: Wind Rose\, Orden Ogan und Angus McSix
URL:https://vollgas-richtung-rock.de/event/wind-rose-tourslayer-europe-2025-5/
LOCATION:Carlswerk Victoria Köln\, Schanzenstr. 6 - 20 (Gebäude 3.12)\, Köln\, 51063\, Germany
CATEGORIES:Hallenkonzert
ATTACH;FMTTYPE=image/jpeg:https://vollgas-richtung-rock.de/wp-content/uploads/2025/08/wind-rose-tour-2025-724x1024-1.jpg
END:VEVENT
BEGIN:VEVENT
DTSTART;VALUE=DATE:20251022
DTEND;VALUE=DATE:20251023
DTSTAMP:20260424T203354
CREATED:20250817T162530Z
LAST-MODIFIED:20250817T162530Z
UID:72043-1761091200-1761177599@vollgas-richtung-rock.de
SUMMARY:Wind Rose – Tourslayer Europe 2025
DESCRIPTION:Die Zwerge ziehen wieder in die Schlacht! Wind Rose bringen ihren epischen Dwarf-Metal 2025 mit voller Wucht auf die Bühnen Europas – und sie kommen nicht allein: Mit dabei sind die Power-Metal-Giganten Orden Ogan und der glorreiche Schwertschwinger Angus McSix! Drei Mal Bombast\, drei Mal Metal\, drei Mal Abriss – Tourslayer Europe wird laut\, legendär und absolut heroisch! \nBands: Wind Rose\, Orden Ogan und Angus McSix
URL:https://vollgas-richtung-rock.de/event/wind-rose-tourslayer-europe-2025-2/
LOCATION:Batschkapp Frankfurt\, Gwinnerstraße 5\, Frankfurt am Main\, 60388\, Deutschland
CATEGORIES:Hallenkonzert
ATTACH;FMTTYPE=image/jpeg:https://vollgas-richtung-rock.de/wp-content/uploads/2025/08/wind-rose-tour-2025-724x1024-1.jpg
END:VEVENT
BEGIN:VEVENT
DTSTART;VALUE=DATE:20251023
DTEND;VALUE=DATE:20251024
DTSTAMP:20260424T203354
CREATED:20250817T164534Z
LAST-MODIFIED:20250817T164534Z
UID:72057-1761177600-1761263999@vollgas-richtung-rock.de
SUMMARY:Wind Rose – Tourslayer Europe 2025
DESCRIPTION:Die Zwerge ziehen wieder in die Schlacht! Wind Rose bringen ihren epischen Dwarf-Metal 2025 mit voller Wucht auf die Bühnen Europas – und sie kommen nicht allein: Mit dabei sind die Power-Metal-Giganten Orden Ogan und der glorreiche Schwertschwinger Angus McSix! Drei Mal Bombast\, drei Mal Metal\, drei Mal Abriss – Tourslayer Europe wird laut\, legendär und absolut heroisch! \nBands: Wind Rose\, Orden Ogan und Angus McSix
URL:https://vollgas-richtung-rock.de/event/wind-rose-tourslayer-europe-2025-8/
LOCATION:LKA Longhorn Stuttgart\, Heiligenwiesen 6\, Stuttgart\, 70327\, Deutschland
CATEGORIES:Hallenkonzert
ATTACH;FMTTYPE=image/jpeg:https://vollgas-richtung-rock.de/wp-content/uploads/2025/08/wind-rose-tour-2025-724x1024-1.jpg
END:VEVENT
BEGIN:VEVENT
DTSTART;VALUE=DATE:20251024
DTEND;VALUE=DATE:20251025
DTSTAMP:20260424T203354
CREATED:20250817T162935Z
LAST-MODIFIED:20250817T162935Z
UID:72046-1761264000-1761350399@vollgas-richtung-rock.de
SUMMARY:Wind Rose – Tourslayer Europe 2025
DESCRIPTION:Die Zwerge ziehen wieder in die Schlacht! Wind Rose bringen ihren epischen Dwarf-Metal 2025 mit voller Wucht auf die Bühnen Europas – und sie kommen nicht allein: Mit dabei sind die Power-Metal-Giganten Orden Ogan und der glorreiche Schwertschwinger Angus McSix! Drei Mal Bombast\, drei Mal Metal\, drei Mal Abriss – Tourslayer Europe wird laut\, legendär und absolut heroisch! \nBands: Wind Rose\, Orden Ogan und Angus McSix
URL:https://vollgas-richtung-rock.de/event/wind-rose-tourslayer-europe-2025-3/
LOCATION:Eventzentrum Strohofer Geiselwind\, Scheinfelder Straße 21\, Geiselwind\, Deutschland
CATEGORIES:Hallenkonzert
ATTACH;FMTTYPE=image/jpeg:https://vollgas-richtung-rock.de/wp-content/uploads/2025/08/wind-rose-tour-2025-724x1024-1.jpg
END:VEVENT
END:VCALENDAR