BEGIN:VCALENDAR
VERSION:2.0
PRODID:-//Vollgas Richtung Rock - ECPv6.15.18//NONSGML v1.0//EN
CALSCALE:GREGORIAN
METHOD:PUBLISH
X-ORIGINAL-URL:https://vollgas-richtung-rock.de
X-WR-CALDESC:Veranstaltungen für Vollgas Richtung Rock
REFRESH-INTERVAL;VALUE=DURATION:PT1H
X-Robots-Tag:noindex
X-PUBLISHED-TTL:PT1H
BEGIN:VTIMEZONE
TZID:Europe/Berlin
BEGIN:DAYLIGHT
TZOFFSETFROM:+0100
TZOFFSETTO:+0200
TZNAME:CEST
DTSTART:20250330T010000
END:DAYLIGHT
BEGIN:STANDARD
TZOFFSETFROM:+0200
TZOFFSETTO:+0100
TZNAME:CET
DTSTART:20251026T010000
END:STANDARD
BEGIN:DAYLIGHT
TZOFFSETFROM:+0100
TZOFFSETTO:+0200
TZNAME:CEST
DTSTART:20260329T010000
END:DAYLIGHT
BEGIN:STANDARD
TZOFFSETFROM:+0200
TZOFFSETTO:+0100
TZNAME:CET
DTSTART:20261025T010000
END:STANDARD
BEGIN:DAYLIGHT
TZOFFSETFROM:+0100
TZOFFSETTO:+0200
TZNAME:CEST
DTSTART:20270328T010000
END:DAYLIGHT
BEGIN:STANDARD
TZOFFSETFROM:+0200
TZOFFSETTO:+0100
TZNAME:CET
DTSTART:20271031T010000
END:STANDARD
END:VTIMEZONE
BEGIN:VEVENT
DTSTART;VALUE=DATE:20261103
DTEND;VALUE=DATE:20261104
DTSTAMP:20260424T183026
CREATED:20251230T180815Z
LAST-MODIFIED:20251230T180815Z
UID:77341-1793664000-1793750399@vollgas-richtung-rock.de
SUMMARY:Amon Amarth – The Allfather Awakens Tour 2026
DESCRIPTION:Für Herbst 2026 kündigt Amon Amarth  die „The Allfather Awakens Tour“ an und führt damit ihre Kriegszüge erneut durch Europa. \nBands: Amon Amarth\, Orbit Culture\, Soilwork
URL:https://vollgas-richtung-rock.de/event/amon-amarth-the-allfather-awakens-tour-2026-9/
LOCATION:Gasometer Wien\, Guglgasse 6\, Wien\, 1110\, Austria
CATEGORIES:Hallenkonzert
ATTACH;FMTTYPE=image/jpeg:https://vollgas-richtung-rock.de/wp-content/uploads/2025/12/20251124_AAtour26_1.jpg
END:VEVENT
BEGIN:VEVENT
DTSTART;VALUE=DATE:20261104
DTEND;VALUE=DATE:20261105
DTSTAMP:20260424T183026
CREATED:20251230T175421Z
LAST-MODIFIED:20251230T175421Z
UID:77330-1793750400-1793836799@vollgas-richtung-rock.de
SUMMARY:Amon Amarth – The Allfather Awakens Tour 2026
DESCRIPTION:Für Herbst 2026 kündigt Amon Amarth  die „The Allfather Awakens Tour“ an und führt damit ihre Kriegszüge erneut durch Europa. \nBands: Amon Amarth\, Orbit Culture\, Soilwork
URL:https://vollgas-richtung-rock.de/event/amon-amarth-the-allfather-awakens-tour-2026/
LOCATION:Brose Arena\, Bamberg\, Forchheimer Straße 15\, Bamberg\, 96050\, Germany
CATEGORIES:Hallenkonzert
ATTACH;FMTTYPE=image/jpeg:https://vollgas-richtung-rock.de/wp-content/uploads/2025/12/20251124_AAtour26_1.jpg
END:VEVENT
BEGIN:VEVENT
DTSTART;VALUE=DATE:20261107
DTEND;VALUE=DATE:20261108
DTSTAMP:20260424T183026
CREATED:20251230T180247Z
LAST-MODIFIED:20251230T180247Z
UID:77334-1794009600-1794095999@vollgas-richtung-rock.de
SUMMARY:Amon Amarth – The Allfather Awakens Tour 2026
DESCRIPTION:Für Herbst 2026 kündigt Amon Amarth  die „The Allfather Awakens Tour“ an und führt damit ihre Kriegszüge erneut durch Europa. \nBands: Amon Amarth\, Orbit Culture\, Soilwork
URL:https://vollgas-richtung-rock.de/event/amon-amarth-the-allfather-awakens-tour-2026-2/
LOCATION:Velodrom Berlin\, Paul-Heyse-Straße 26\, Berlin\, 10407\, Germany
CATEGORIES:Hallenkonzert
ATTACH;FMTTYPE=image/jpeg:https://vollgas-richtung-rock.de/wp-content/uploads/2025/12/20251124_AAtour26_1.jpg
END:VEVENT
BEGIN:VEVENT
DTSTART;VALUE=DATE:20261108
DTEND;VALUE=DATE:20261109
DTSTAMP:20260424T183026
CREATED:20251230T180550Z
LAST-MODIFIED:20251230T180550Z
UID:77338-1794096000-1794182399@vollgas-richtung-rock.de
SUMMARY:Amon Amarth – The Allfather Awakens Tour 2026
DESCRIPTION:Für Herbst 2026 kündigt Amon Amarth  die „The Allfather Awakens Tour“ an und führt damit ihre Kriegszüge erneut durch Europa. \nBands: Amon Amarth\, Orbit Culture\, Soilwork
URL:https://vollgas-richtung-rock.de/event/amon-amarth-the-allfather-awakens-tour-2026-6/
LOCATION:Zenith\, die Kulturhalle München\, Lilienthalallee 29\, München\, 80939\, Deutschland
CATEGORIES:Hallenkonzert
ATTACH;FMTTYPE=image/jpeg:https://vollgas-richtung-rock.de/wp-content/uploads/2025/12/20251124_AAtour26_1.jpg
END:VEVENT
BEGIN:VEVENT
DTSTART;VALUE=DATE:20261111
DTEND;VALUE=DATE:20261112
DTSTAMP:20260424T183026
CREATED:20251230T180854Z
LAST-MODIFIED:20251230T180854Z
UID:77342-1794355200-1794441599@vollgas-richtung-rock.de
SUMMARY:Amon Amarth – The Allfather Awakens Tour 2026
DESCRIPTION:Für Herbst 2026 kündigt Amon Amarth  die „The Allfather Awakens Tour“ an und führt damit ihre Kriegszüge erneut durch Europa. \nBands: Amon Amarth\, Orbit Culture\, Soilwork
URL:https://vollgas-richtung-rock.de/event/amon-amarth-the-allfather-awakens-tour-2026-10/
LOCATION:The Hall Zürich\, Hoffnigstrasse 1\, Dübendorf\, 8600\, Switzerland
CATEGORIES:Hallenkonzert
ATTACH;FMTTYPE=image/jpeg:https://vollgas-richtung-rock.de/wp-content/uploads/2025/12/20251124_AAtour26_1.jpg
END:VEVENT
END:VCALENDAR