BEGIN:VCALENDAR
VERSION:2.0
PRODID:-//Vollgas Richtung Rock - ECPv6.15.18//NONSGML v1.0//EN
CALSCALE:GREGORIAN
METHOD:PUBLISH
X-WR-CALNAME:Vollgas Richtung Rock
X-ORIGINAL-URL:https://vollgas-richtung-rock.de
X-WR-CALDESC:Veranstaltungen für Vollgas Richtung Rock
REFRESH-INTERVAL;VALUE=DURATION:PT1H
X-Robots-Tag:noindex
X-PUBLISHED-TTL:PT1H
BEGIN:VTIMEZONE
TZID:Europe/Berlin
BEGIN:DAYLIGHT
TZOFFSETFROM:+0100
TZOFFSETTO:+0200
TZNAME:CEST
DTSTART:20250330T010000
END:DAYLIGHT
BEGIN:STANDARD
TZOFFSETFROM:+0200
TZOFFSETTO:+0100
TZNAME:CET
DTSTART:20251026T010000
END:STANDARD
BEGIN:DAYLIGHT
TZOFFSETFROM:+0100
TZOFFSETTO:+0200
TZNAME:CEST
DTSTART:20260329T010000
END:DAYLIGHT
BEGIN:STANDARD
TZOFFSETFROM:+0200
TZOFFSETTO:+0100
TZNAME:CET
DTSTART:20261025T010000
END:STANDARD
BEGIN:DAYLIGHT
TZOFFSETFROM:+0100
TZOFFSETTO:+0200
TZNAME:CEST
DTSTART:20270328T010000
END:DAYLIGHT
BEGIN:STANDARD
TZOFFSETFROM:+0200
TZOFFSETTO:+0100
TZNAME:CET
DTSTART:20271031T010000
END:STANDARD
END:VTIMEZONE
BEGIN:VEVENT
DTSTART;VALUE=DATE:20260729
DTEND;VALUE=DATE:20260802
DTSTAMP:20260424T120200
CREATED:20260126T102217Z
LAST-MODIFIED:20260126T102217Z
UID:78571-1785283200-1785628799@vollgas-richtung-rock.de
SUMMARY:WACKEN OPEN AIR 2026 – 35 YEARS LOUDER THAN HELL
DESCRIPTION:2026 feiert das Wacken Open Air sein 35-jähriges Bestehen. Vier Tage Ausnahmezustand\, legendäre Premieren\, exklusive Shows und emotionale Abschiede. Wacken ist kein Festival – Wacken ist Familie. Rain or Shine. \nBands: Ad Infinitum\, Airbourne\, Alestorm\, Alfahanne\, Allt\, Anaal Nathrakh\, Angelus Apatrida\, Any Given Day\, Arch Enemy\, Black Label Society\, Bleed From Within\, Blood Command\, Blood Fire Death (Bathory Tribute – Germany exclusive)\, Blood Red Throne\, Broken By The Scream\, Brunhilde\, Castle Rat\, Chaosbay\, Corrosion of Conformity\, Craft\, Crimson Glory\, Danko Jones\, Def Leppard\, Divlje Jagode\, Dritte Wahl\, Dubioza Kolektiv\, Einherjer\, Eläkeläiset\, Electric Bassboy\, Emperor\, Employed To Serve\, Europe\, Faun\, Firespawn\, Focus.\, Future Palace\, Grand Magus\, Guilt Trip\, Gutalax\, H-Blockx\, Hackneyed\, Hämatom\, Hardline\, Hatebreed\, Heavysaurus\, In Flames\, Insanity Alert\, Judas Priest\, Katerfahrt\, Kim Dracula\, Kittie\, Kupfergold\, Lagwagon\, Lamb of God\, Life of Agony\, Luna Kills\, Mantar\, Misery Index\, Misþyrming & Nergal\, Mr. Hurley & die Pulveraffen\, Municipal Waste\, Nevermore\, Nita Strauss\, Nothing More\, Orbit Culture\, Our Promise\, P.O.D.\, Paleface Swiss\, Paradise Lost\, Pig Destroyer\, Powerwolf\, President\, Ricky Warwick\, Rose Tattoo\, Running Wild\, Savatage\, Saxon\, Sepultura\, Skynd\, Spectral Wound\, Storm Seeker\, Ten56.\, The Butcher Sisters\, The Gathering\, The Hardkiss\, The Haunted\, Therapy?\, Thrown\, Thundermother\, Thy Art Is Murder\, Triptykon\, Turbonegro\, Uli Jon Roth\, Vanir\, Vended\, Vogelfrey\, Yngwie Malmsteen \n 
URL:https://vollgas-richtung-rock.de/event/wacken-open-air-2026-35-years-louder-than-hell/
LOCATION:Wacken Open Air Gelände\, Norderstraße\, Wacken\, 25596\, Deutschland
CATEGORIES:Open Air / Festival
ATTACH;FMTTYPE=image/jpeg:https://vollgas-richtung-rock.de/wp-content/uploads/2026/01/wacken.jpg
END:VEVENT
END:VCALENDAR