BEGIN:VCALENDAR
VERSION:2.0
PRODID:-//Vollgas Richtung Rock - ECPv6.15.18//NONSGML v1.0//EN
CALSCALE:GREGORIAN
METHOD:PUBLISH
X-ORIGINAL-URL:https://vollgas-richtung-rock.de
X-WR-CALDESC:Veranstaltungen für Vollgas Richtung Rock
REFRESH-INTERVAL;VALUE=DURATION:PT1H
X-Robots-Tag:noindex
X-PUBLISHED-TTL:PT1H
BEGIN:VTIMEZONE
TZID:Europe/Berlin
BEGIN:DAYLIGHT
TZOFFSETFROM:+0100
TZOFFSETTO:+0200
TZNAME:CEST
DTSTART:20250330T010000
END:DAYLIGHT
BEGIN:STANDARD
TZOFFSETFROM:+0200
TZOFFSETTO:+0100
TZNAME:CET
DTSTART:20251026T010000
END:STANDARD
BEGIN:DAYLIGHT
TZOFFSETFROM:+0100
TZOFFSETTO:+0200
TZNAME:CEST
DTSTART:20260329T010000
END:DAYLIGHT
BEGIN:STANDARD
TZOFFSETFROM:+0200
TZOFFSETTO:+0100
TZNAME:CET
DTSTART:20261025T010000
END:STANDARD
BEGIN:DAYLIGHT
TZOFFSETFROM:+0100
TZOFFSETTO:+0200
TZNAME:CEST
DTSTART:20270328T010000
END:DAYLIGHT
BEGIN:STANDARD
TZOFFSETFROM:+0200
TZOFFSETTO:+0100
TZNAME:CET
DTSTART:20271031T010000
END:STANDARD
END:VTIMEZONE
BEGIN:VEVENT
DTSTART;VALUE=DATE:20260605
DTEND;VALUE=DATE:20260608
DTSTAMP:20260424T104318
CREATED:20260126T100545Z
LAST-MODIFIED:20260126T100545Z
UID:78561-1780617600-1780876799@vollgas-richtung-rock.de
SUMMARY:ROCK IM PARK / ROCK AM RING 2026
DESCRIPTION:Rock im Park und Rock am Ring sind 2026 wieder das Zentrum der internationalen Rock- und Metalwelt. Drei Tage Eskalation\, riesige Bühnen\, fette Headliner und ein Line-up\, das Generationen verbindet. Ob im Infield des Nürburgrings oder auf dem Zeppelinfeld in Nürnberg – dieses Wochenende ist Pflichtprogramm für alle Rockfans. \nBands: Judas Priest\, Def Leppard\, Powerwolf\, Arch Enemy\, In Flames\, Lamb of God\, Saxon\, Sepultura\, Emperor\, Savatage\, Running Wild\, Europe\, Black Label Society\, Paradise Lost\, Rose Tattoo\, Yngwie Malmsteen\, Airbourne\, Alestorm\, Dritte Wahl\, Mr. Hurley & die Pulveraffen\, Faun\, H-Blockx\, Hatebreed\, Municipal Waste\, Orbit Culture\, P.O.D.\, Thundermother\, Thy Art Is Murder\, Turbonegro\, Focus.\, Storm Seeker\, Kupfergold\, Vogelfrey u.v.m.
URL:https://vollgas-richtung-rock.de/event/rock-im-park-rock-am-ring-2026/
LOCATION:Zeppelinfeld / Nürburgring\, Nürburgring Boulevard 1\, Nürburg\, 53520\, Germany
CATEGORIES:Open Air / Festival
ATTACH;FMTTYPE=image/jpeg:https://vollgas-richtung-rock.de/wp-content/uploads/2026/01/rock-im-Park.jpg
END:VEVENT
END:VCALENDAR