BEGIN:VCALENDAR
VERSION:2.0
PRODID:-//Vollgas Richtung Rock - ECPv6.15.18//NONSGML v1.0//EN
CALSCALE:GREGORIAN
METHOD:PUBLISH
X-ORIGINAL-URL:https://vollgas-richtung-rock.de
X-WR-CALDESC:Veranstaltungen für Vollgas Richtung Rock
REFRESH-INTERVAL;VALUE=DURATION:PT1H
X-Robots-Tag:noindex
X-PUBLISHED-TTL:PT1H
BEGIN:VTIMEZONE
TZID:Europe/Berlin
BEGIN:DAYLIGHT
TZOFFSETFROM:+0100
TZOFFSETTO:+0200
TZNAME:CEST
DTSTART:20250330T010000
END:DAYLIGHT
BEGIN:STANDARD
TZOFFSETFROM:+0200
TZOFFSETTO:+0100
TZNAME:CET
DTSTART:20251026T010000
END:STANDARD
BEGIN:DAYLIGHT
TZOFFSETFROM:+0100
TZOFFSETTO:+0200
TZNAME:CEST
DTSTART:20260329T010000
END:DAYLIGHT
BEGIN:STANDARD
TZOFFSETFROM:+0200
TZOFFSETTO:+0100
TZNAME:CET
DTSTART:20261025T010000
END:STANDARD
BEGIN:DAYLIGHT
TZOFFSETFROM:+0100
TZOFFSETTO:+0200
TZNAME:CEST
DTSTART:20270328T010000
END:DAYLIGHT
BEGIN:STANDARD
TZOFFSETFROM:+0200
TZOFFSETTO:+0100
TZNAME:CET
DTSTART:20271031T010000
END:STANDARD
END:VTIMEZONE
BEGIN:VEVENT
DTSTART;VALUE=DATE:20260207
DTEND;VALUE=DATE:20260308
DTSTAMP:20260424T190827
CREATED:20260118T180708Z
LAST-MODIFIED:20260118T180708Z
UID:78176-1770422400-1772927999@vollgas-richtung-rock.de
SUMMARY:HIRAES – Nightflight Tour 2026
DESCRIPTION:Bereit zum Abheben: HIRAES starten 2026 zur Nightflight Tour. \nSupport: nopreachers
URL:https://vollgas-richtung-rock.de/event/hiraes-nightflight-tour-2026-4/
LOCATION:Nachtleben Frankfurt\, Kurt-Schumacher-Straße 45\, Frankfurt am Main\, 60313
CATEGORIES:Hallenkonzert
ATTACH;FMTTYPE=image/jpeg:https://vollgas-richtung-rock.de/wp-content/uploads/2026/01/HIRARES.jpg
END:VEVENT
BEGIN:VEVENT
DTSTART;VALUE=DATE:20260212
DTEND;VALUE=DATE:20260213
DTSTAMP:20260424T190827
CREATED:20260118T181520Z
LAST-MODIFIED:20260118T181520Z
UID:78169-1770854400-1770940799@vollgas-richtung-rock.de
SUMMARY:HIRAES – Nightflight Tour 2026
DESCRIPTION:Bereit zum Abheben: HIRAES starten 2026 zur Nightflight Tour. \nSupport: nopreachers
URL:https://vollgas-richtung-rock.de/event/hiraes-nightflight-tour-2026-11/
LOCATION:Z-Bau Nürnberg\, Frankenstraße 200\, Nürnberg\, 90461\, Germany
CATEGORIES:Hallenkonzert
ATTACH;FMTTYPE=image/jpeg:https://vollgas-richtung-rock.de/wp-content/uploads/2026/01/HIRARES.jpg
END:VEVENT
BEGIN:VEVENT
DTSTART;VALUE=DATE:20260213
DTEND;VALUE=DATE:20260214
DTSTAMP:20260424T190828
CREATED:20260118T182033Z
LAST-MODIFIED:20260118T182033Z
UID:78167-1770940800-1771027199@vollgas-richtung-rock.de
SUMMARY:HIRAES – Nightflight Tour 2026
DESCRIPTION:Bereit zum Abheben: HIRAES starten 2026 zur Nightflight Tour. \nSupport: nopreachers
URL:https://vollgas-richtung-rock.de/event/hiraes-nightflight-tour-2026-13/
LOCATION:Rockclub Nordbayern e.V. \, Selb\, Weißenbacher Str. 40\, Selb\, 95100\, Germany
CATEGORIES:Hallenkonzert
ATTACH;FMTTYPE=image/jpeg:https://vollgas-richtung-rock.de/wp-content/uploads/2026/01/HIRARES.jpg
END:VEVENT
BEGIN:VEVENT
DTSTART;VALUE=DATE:20260214
DTEND;VALUE=DATE:20260215
DTSTAMP:20260424T190828
CREATED:20260118T181830Z
LAST-MODIFIED:20260118T181830Z
UID:78168-1771027200-1771113599@vollgas-richtung-rock.de
SUMMARY:HIRAES – Nightflight Tour 2026
DESCRIPTION:Bereit zum Abheben: HIRAES starten 2026 zur Nightflight Tour. \nSupport: nopreachers
URL:https://vollgas-richtung-rock.de/event/hiraes-nightflight-tour-2026-12/
LOCATION:Rockhouse\, Salzburg\, Schallmooser Hauptstraße 46\,\, Salzburg\, 5020\, Austria
CATEGORIES:Hallenkonzert
ATTACH;FMTTYPE=image/jpeg:https://vollgas-richtung-rock.de/wp-content/uploads/2026/01/HIRARES.jpg
END:VEVENT
BEGIN:VEVENT
DTSTART;VALUE=DATE:20260222
DTEND;VALUE=DATE:20260223
DTSTAMP:20260424T190828
CREATED:20260118T180436Z
LAST-MODIFIED:20260118T180436Z
UID:78178-1771718400-1771804799@vollgas-richtung-rock.de
SUMMARY:HIRAES – Nightflight Tour 2026
DESCRIPTION:Bereit zum Abheben: HIRAES starten 2026 zur Nightflight Tour. \nSupport: nopreachers
URL:https://vollgas-richtung-rock.de/event/hiraes-nightflight-tour-2026-2/
LOCATION:Ratinger Hof\, Düsseldorf\, Ratinger Straße 10\, Düsseldorf\, 40213\, Germany
CATEGORIES:Hallenkonzert
ATTACH;FMTTYPE=image/jpeg:https://vollgas-richtung-rock.de/wp-content/uploads/2026/01/HIRARES.jpg
END:VEVENT
BEGIN:VEVENT
DTSTART;VALUE=DATE:20260228
DTEND;VALUE=DATE:20260301
DTSTAMP:20260424T190828
CREATED:20260118T181147Z
LAST-MODIFIED:20260118T181147Z
UID:78173-1772236800-1772323199@vollgas-richtung-rock.de
SUMMARY:HIRAES – Nightflight Tour 2026
DESCRIPTION:Bereit zum Abheben: HIRAES starten 2026 zur Nightflight Tour. \nSupport: nopreachers
URL:https://vollgas-richtung-rock.de/event/hiraes-nightflight-tour-2026-7/
LOCATION:Sumpfblume\, Hameln\, Am Stockhof 2a\, Hameln\, 31785\, Germany
CATEGORIES:Hallenkonzert
ATTACH;FMTTYPE=image/jpeg:https://vollgas-richtung-rock.de/wp-content/uploads/2026/01/HIRARES.jpg
END:VEVENT
END:VCALENDAR