BEGIN:VCALENDAR
VERSION:2.0
PRODID:-//Vollgas Richtung Rock - ECPv6.15.18//NONSGML v1.0//EN
CALSCALE:GREGORIAN
METHOD:PUBLISH
X-ORIGINAL-URL:https://vollgas-richtung-rock.de
X-WR-CALDESC:Veranstaltungen für Vollgas Richtung Rock
REFRESH-INTERVAL;VALUE=DURATION:PT1H
X-Robots-Tag:noindex
X-PUBLISHED-TTL:PT1H
BEGIN:VTIMEZONE
TZID:Europe/Berlin
BEGIN:DAYLIGHT
TZOFFSETFROM:+0100
TZOFFSETTO:+0200
TZNAME:CEST
DTSTART:20240331T010000
END:DAYLIGHT
BEGIN:STANDARD
TZOFFSETFROM:+0200
TZOFFSETTO:+0100
TZNAME:CET
DTSTART:20241027T010000
END:STANDARD
BEGIN:DAYLIGHT
TZOFFSETFROM:+0100
TZOFFSETTO:+0200
TZNAME:CEST
DTSTART:20250330T010000
END:DAYLIGHT
BEGIN:STANDARD
TZOFFSETFROM:+0200
TZOFFSETTO:+0100
TZNAME:CET
DTSTART:20251026T010000
END:STANDARD
BEGIN:DAYLIGHT
TZOFFSETFROM:+0100
TZOFFSETTO:+0200
TZNAME:CEST
DTSTART:20260329T010000
END:DAYLIGHT
BEGIN:STANDARD
TZOFFSETFROM:+0200
TZOFFSETTO:+0100
TZNAME:CET
DTSTART:20261025T010000
END:STANDARD
END:VTIMEZONE
BEGIN:VEVENT
DTSTART;VALUE=DATE:20250801
DTEND;VALUE=DATE:20250803
DTSTAMP:20260425T125804
CREATED:20240911T094512Z
LAST-MODIFIED:20240911T094512Z
UID:55844-1754006400-1754179199@vollgas-richtung-rock.de
SUMMARY:Toxfest 2025
DESCRIPTION:Nach dem Festivaldebüt 2023 geht das Toxfest 2025 in die zweite Runde. Am 1. und 2. August werden wieder zahlreiche Bands das Gelände des Wunderlands Kalkar unsicher machen. \nBands: Neurotox\, WILLKUER\, Rebel Tell\, EGOISTEN\, Hörsturz Moers\, Testosterons u.v.m.
URL:https://vollgas-richtung-rock.de/event/toxfest-2025/
LOCATION:Wunderland Kalkar\, Griether Str. 110-120\, Kalkar\, 47546\, Deutschland
CATEGORIES:Open Air / Festival
ATTACH;FMTTYPE=image/jpeg:https://vollgas-richtung-rock.de/wp-content/uploads/2024/09/Toxfest.jpg
END:VEVENT
END:VCALENDAR