BEGIN:VCALENDAR
VERSION:2.0
PRODID:-//Vollgas Richtung Rock - ECPv6.15.18//NONSGML v1.0//EN
CALSCALE:GREGORIAN
METHOD:PUBLISH
X-ORIGINAL-URL:https://vollgas-richtung-rock.de
X-WR-CALDESC:Veranstaltungen für Vollgas Richtung Rock
REFRESH-INTERVAL;VALUE=DURATION:PT1H
X-Robots-Tag:noindex
X-PUBLISHED-TTL:PT1H
BEGIN:VTIMEZONE
TZID:Europe/Berlin
BEGIN:DAYLIGHT
TZOFFSETFROM:+0100
TZOFFSETTO:+0200
TZNAME:CEST
DTSTART:20240331T010000
END:DAYLIGHT
BEGIN:STANDARD
TZOFFSETFROM:+0200
TZOFFSETTO:+0100
TZNAME:CET
DTSTART:20241027T010000
END:STANDARD
BEGIN:DAYLIGHT
TZOFFSETFROM:+0100
TZOFFSETTO:+0200
TZNAME:CEST
DTSTART:20250330T010000
END:DAYLIGHT
BEGIN:STANDARD
TZOFFSETFROM:+0200
TZOFFSETTO:+0100
TZNAME:CET
DTSTART:20251026T010000
END:STANDARD
BEGIN:DAYLIGHT
TZOFFSETFROM:+0100
TZOFFSETTO:+0200
TZNAME:CEST
DTSTART:20260329T010000
END:DAYLIGHT
BEGIN:STANDARD
TZOFFSETFROM:+0200
TZOFFSETTO:+0100
TZNAME:CET
DTSTART:20261025T010000
END:STANDARD
END:VTIMEZONE
BEGIN:VEVENT
DTSTART;VALUE=DATE:20250906
DTEND;VALUE=DATE:20250907
DTSTAMP:20260425T122136
CREATED:20250522T071505Z
LAST-MODIFIED:20250522T071604Z
UID:66416-1757116800-1757203199@vollgas-richtung-rock.de
SUMMARY:"Naggisch ohne Strom"-Open Air
DESCRIPTION:Nach den sensationellen “Naggisch ohne Strom” Shows im frankfurter Schöppche Keller 2024\, wird es Zeit\, dass Event auf die Wiese zu verlegen! Das Open Air findet im wunderschönen Licht- und Luftbad in Hanau statt. Dort erwarten euch 5 Livebands\, die auch in diesem Jahr wieder auf Lichtgewitter und Verzerrer verzichten und euch nur mit eurem Können überzeugen werden. Die Location lädt nicht nur zum musikalischen Genuss ein\, sondern ist ein extrem chilliges und grünes Plätzchen am Stadtrand von Hanau.\nLineup: V.E.R.S.U.S\, Ex-Pizit\, Marcel Hä und mehr
URL:https://vollgas-richtung-rock.de/event/naggisch-ohne-strom-open-air/
LOCATION:Licht und Luftbad Hanau\, August-Schärttner-Straße 19a\, Hanau\, 63452\, Germany
CATEGORIES:Open Air / Festival
ATTACH;FMTTYPE=image/jpeg:https://vollgas-richtung-rock.de/wp-content/uploads/2025/05/naggisch-ohne-strom-2025-scaled.jpg
END:VEVENT
END:VCALENDAR