BEGIN:VCALENDAR
VERSION:2.0
PRODID:-//Vollgas Richtung Rock - ECPv6.15.18//NONSGML v1.0//EN
CALSCALE:GREGORIAN
METHOD:PUBLISH
X-ORIGINAL-URL:https://vollgas-richtung-rock.de
X-WR-CALDESC:Veranstaltungen für Vollgas Richtung Rock
REFRESH-INTERVAL;VALUE=DURATION:PT1H
X-Robots-Tag:noindex
X-PUBLISHED-TTL:PT1H
BEGIN:VTIMEZONE
TZID:Europe/Berlin
BEGIN:DAYLIGHT
TZOFFSETFROM:+0100
TZOFFSETTO:+0200
TZNAME:CEST
DTSTART:20240331T010000
END:DAYLIGHT
BEGIN:STANDARD
TZOFFSETFROM:+0200
TZOFFSETTO:+0100
TZNAME:CET
DTSTART:20241027T010000
END:STANDARD
BEGIN:DAYLIGHT
TZOFFSETFROM:+0100
TZOFFSETTO:+0200
TZNAME:CEST
DTSTART:20250330T010000
END:DAYLIGHT
BEGIN:STANDARD
TZOFFSETFROM:+0200
TZOFFSETTO:+0100
TZNAME:CET
DTSTART:20251026T010000
END:STANDARD
BEGIN:DAYLIGHT
TZOFFSETFROM:+0100
TZOFFSETTO:+0200
TZNAME:CEST
DTSTART:20260329T010000
END:DAYLIGHT
BEGIN:STANDARD
TZOFFSETFROM:+0200
TZOFFSETTO:+0100
TZNAME:CET
DTSTART:20261025T010000
END:STANDARD
END:VTIMEZONE
BEGIN:VEVENT
DTSTART;VALUE=DATE:20250302
DTEND;VALUE=DATE:20250303
DTSTAMP:20260425T061213
CREATED:20250111T142153Z
LAST-MODIFIED:20250111T142153Z
UID:62797-1740873600-1740959999@vollgas-richtung-rock.de
SUMMARY:Nachtblut – Todschick Tour 2025
DESCRIPTION:Nachtblut machen sich für euch „Todschick“ und gehen damit 2025 auf Tour.
URL:https://vollgas-richtung-rock.de/event/nachtblut-todschick-tour-2025-10/
LOCATION:ClubCANN  Stuttgart\, Kegelenstraße 21\, Stuttgart\, 70372\, Germany
CATEGORIES:Hallenkonzert
ATTACH;FMTTYPE=image/jpeg:https://vollgas-richtung-rock.de/wp-content/uploads/2025/01/Nachtblut-Todschick-Tour-25.jpg
END:VEVENT
BEGIN:VEVENT
DTSTART;VALUE=DATE:20250303
DTEND;VALUE=DATE:20250304
DTSTAMP:20260425T061213
CREATED:20250111T142613Z
LAST-MODIFIED:20250111T142613Z
UID:62800-1740960000-1741046399@vollgas-richtung-rock.de
SUMMARY:Nachtblut – Todschick Tour 2025
DESCRIPTION:Nachtblut machen sich für euch „Todschick“ und gehen damit 2025 auf Tour.
URL:https://vollgas-richtung-rock.de/event/nachtblut-todschick-tour-2025-11/
LOCATION:ClubCANN  Stuttgart\, Kegelenstraße 21\, Stuttgart\, 70372\, Germany
CATEGORIES:Hallenkonzert
ATTACH;FMTTYPE=image/jpeg:https://vollgas-richtung-rock.de/wp-content/uploads/2025/01/Nachtblut-Todschick-Tour-25.jpg
END:VEVENT
BEGIN:VEVENT
DTSTART;VALUE=DATE:20250306
DTEND;VALUE=DATE:20250307
DTSTAMP:20260425T061213
CREATED:20250111T140655Z
LAST-MODIFIED:20250111T140655Z
UID:62791-1741219200-1741305599@vollgas-richtung-rock.de
SUMMARY:Nachtblut – Todschick Tour 2025
DESCRIPTION:Nachtblut machen sich für euch „Todschick“ und gehen damit 2025 auf Tour.
URL:https://vollgas-richtung-rock.de/event/nachtblut-todschick-tour-2025-7/
LOCATION:Der Hirsch Nürnberg\, Vogelweiherstraße 66\, Nürnberg\, 90441\, Deutschland
CATEGORIES:Hallenkonzert
ATTACH;FMTTYPE=image/jpeg:https://vollgas-richtung-rock.de/wp-content/uploads/2025/01/Nachtblut-Todschick-Tour-25.jpg
END:VEVENT
BEGIN:VEVENT
DTSTART;VALUE=DATE:20250307
DTEND;VALUE=DATE:20250308
DTSTAMP:20260425T061213
CREATED:20250111T134958Z
LAST-MODIFIED:20250111T134958Z
UID:62784-1741305600-1741391999@vollgas-richtung-rock.de
SUMMARY:Nachtblut – Todschick Tour 2025
DESCRIPTION:Nachtblut machen sich für euch „Todschick“ und gehen damit 2025 auf Tour.
URL:https://vollgas-richtung-rock.de/event/nachtblut-todschick-tour-2025-4/
LOCATION:Hellraiser Leipzig\, Werkstättenstraße 4\, Leipzig\, Deutschland
CATEGORIES:Hallenkonzert
ATTACH;FMTTYPE=image/jpeg:https://vollgas-richtung-rock.de/wp-content/uploads/2025/01/Nachtblut-Todschick-Tour-25.jpg
END:VEVENT
BEGIN:VEVENT
DTSTART;VALUE=DATE:20250308
DTEND;VALUE=DATE:20250309
DTSTAMP:20260425T061213
CREATED:20250111T133148Z
LAST-MODIFIED:20250111T133148Z
UID:62776-1741392000-1741478399@vollgas-richtung-rock.de
SUMMARY:Nachtblut – Todschick Tour 2025
DESCRIPTION:Nachtblut machen sich für euch „Todschick“ und gehen damit 2025 auf Tour.
URL:https://vollgas-richtung-rock.de/event/nachtblut-todschick-tour-2025/
LOCATION:Hole 44  Berlin\, Hermannstraße 146\, Berlin\, 12051\, Germany
CATEGORIES:Hallenkonzert
ATTACH;FMTTYPE=image/jpeg:https://vollgas-richtung-rock.de/wp-content/uploads/2025/01/Nachtblut-Todschick-Tour-25.jpg
END:VEVENT
BEGIN:VEVENT
DTSTART;VALUE=DATE:20250313
DTEND;VALUE=DATE:20250314
DTSTAMP:20260425T061213
CREATED:20250111T141145Z
LAST-MODIFIED:20250111T141145Z
UID:62793-1741824000-1741910399@vollgas-richtung-rock.de
SUMMARY:Nachtblut – Todschick Tour 2025
DESCRIPTION:Nachtblut machen sich für euch „Todschick“ und gehen damit 2025 auf Tour.
URL:https://vollgas-richtung-rock.de/event/nachtblut-todschick-tour-2025-8/
LOCATION:Kulttempel Oberhausen\, Mülheimer Str. 24\, Oberhausen\, 46049\, Deutschland
CATEGORIES:Hallenkonzert
ATTACH;FMTTYPE=image/jpeg:https://vollgas-richtung-rock.de/wp-content/uploads/2025/01/Nachtblut-Todschick-Tour-25.jpg
END:VEVENT
BEGIN:VEVENT
DTSTART;VALUE=DATE:20250314
DTEND;VALUE=DATE:20250315
DTSTAMP:20260425T061214
CREATED:20250111T133953Z
LAST-MODIFIED:20250111T133953Z
UID:62780-1741910400-1741996799@vollgas-richtung-rock.de
SUMMARY:Nachtblut – Todschick Tour 2025
DESCRIPTION:Nachtblut machen sich für euch „Todschick“ und gehen damit 2025 auf Tour.
URL:https://vollgas-richtung-rock.de/event/nachtblut-todschick-tour-2025-2/
LOCATION:Das Bett Frankfurt am Main\, Schmidtstraße 12\, Frankfurt am Main\, 60326\, Germany
CATEGORIES:Hallenkonzert
ATTACH;FMTTYPE=image/jpeg:https://vollgas-richtung-rock.de/wp-content/uploads/2025/01/Nachtblut-Todschick-Tour-25.jpg
END:VEVENT
BEGIN:VEVENT
DTSTART;VALUE=DATE:20250315
DTEND;VALUE=DATE:20250316
DTSTAMP:20260425T061214
CREATED:20250111T135747Z
LAST-MODIFIED:20250111T135747Z
UID:62786-1741996800-1742083199@vollgas-richtung-rock.de
SUMMARY:Nachtblut – Todschick Tour 2025
DESCRIPTION:Nachtblut machen sich für euch „Todschick“ und gehen damit 2025 auf Tour.
URL:https://vollgas-richtung-rock.de/event/nachtblut-todschick-tour-2025-5/
LOCATION:Konzerthaus Schüür  Luzern (CH)\, Tribschenstrasse 1\, Luzern\, 6005\, Switzerland
CATEGORIES:Hallenkonzert
ATTACH;FMTTYPE=image/jpeg:https://vollgas-richtung-rock.de/wp-content/uploads/2025/01/Nachtblut-Todschick-Tour-25.jpg
END:VEVENT
END:VCALENDAR