BEGIN:VCALENDAR
VERSION:2.0
PRODID:-//Vollgas Richtung Rock - ECPv6.15.18//NONSGML v1.0//EN
CALSCALE:GREGORIAN
METHOD:PUBLISH
X-WR-CALNAME:Vollgas Richtung Rock
X-ORIGINAL-URL:https://vollgas-richtung-rock.de
X-WR-CALDESC:Veranstaltungen für Vollgas Richtung Rock
REFRESH-INTERVAL;VALUE=DURATION:PT1H
X-Robots-Tag:noindex
X-PUBLISHED-TTL:PT1H
BEGIN:VTIMEZONE
TZID:Europe/Berlin
BEGIN:DAYLIGHT
TZOFFSETFROM:+0100
TZOFFSETTO:+0200
TZNAME:CEST
DTSTART:20230326T010000
END:DAYLIGHT
BEGIN:STANDARD
TZOFFSETFROM:+0200
TZOFFSETTO:+0100
TZNAME:CET
DTSTART:20231029T010000
END:STANDARD
BEGIN:DAYLIGHT
TZOFFSETFROM:+0100
TZOFFSETTO:+0200
TZNAME:CEST
DTSTART:20240331T010000
END:DAYLIGHT
BEGIN:STANDARD
TZOFFSETFROM:+0200
TZOFFSETTO:+0100
TZNAME:CET
DTSTART:20241027T010000
END:STANDARD
BEGIN:DAYLIGHT
TZOFFSETFROM:+0100
TZOFFSETTO:+0200
TZNAME:CEST
DTSTART:20250330T010000
END:DAYLIGHT
BEGIN:STANDARD
TZOFFSETFROM:+0200
TZOFFSETTO:+0100
TZNAME:CET
DTSTART:20251026T010000
END:STANDARD
END:VTIMEZONE
BEGIN:VEVENT
DTSTART;VALUE=DATE:20241214
DTEND;VALUE=DATE:20241215
DTSTAMP:20260425T153302
CREATED:20240906T054943Z
LAST-MODIFIED:20240906T055335Z
UID:54930-1734134400-1734220799@vollgas-richtung-rock.de
SUMMARY:Schlussakkord - der Jahresabschluss 2024
DESCRIPTION:Schlussakkord – Jahresabschluss 2024\nEinlass: 18:00 Uhr\nAuslass: Wenn keiner mehr da ist….. \nBands: Schlussakkord\, ElbRebellen\, Hartholz\, Morgenrot und weitere
URL:https://vollgas-richtung-rock.de/event/schlussakkord-der-jahresabschluss-2024/
LOCATION:Schützenhaus Mücheln\, Rudolf-Breitscheid-Straße 18\,\, Mücheln\, 06249
CATEGORIES:Hallenkonzert
ATTACH;FMTTYPE=image/jpeg:https://vollgas-richtung-rock.de/wp-content/uploads/2024/09/schlussakkord-jahresabschluss-2024.jpg
END:VEVENT
END:VCALENDAR