BEGIN:VCALENDAR
VERSION:2.0
PRODID:-//Vollgas Richtung Rock - ECPv6.15.18//NONSGML v1.0//EN
CALSCALE:GREGORIAN
METHOD:PUBLISH
X-ORIGINAL-URL:https://vollgas-richtung-rock.de
X-WR-CALDESC:Veranstaltungen für Vollgas Richtung Rock
REFRESH-INTERVAL;VALUE=DURATION:PT1H
X-Robots-Tag:noindex
X-PUBLISHED-TTL:PT1H
BEGIN:VTIMEZONE
TZID:Europe/Berlin
BEGIN:DAYLIGHT
TZOFFSETFROM:+0100
TZOFFSETTO:+0200
TZNAME:CEST
DTSTART:20250330T010000
END:DAYLIGHT
BEGIN:STANDARD
TZOFFSETFROM:+0200
TZOFFSETTO:+0100
TZNAME:CET
DTSTART:20251026T010000
END:STANDARD
BEGIN:DAYLIGHT
TZOFFSETFROM:+0100
TZOFFSETTO:+0200
TZNAME:CEST
DTSTART:20260329T010000
END:DAYLIGHT
BEGIN:STANDARD
TZOFFSETFROM:+0200
TZOFFSETTO:+0100
TZNAME:CET
DTSTART:20261025T010000
END:STANDARD
BEGIN:DAYLIGHT
TZOFFSETFROM:+0100
TZOFFSETTO:+0200
TZNAME:CEST
DTSTART:20270328T010000
END:DAYLIGHT
BEGIN:STANDARD
TZOFFSETFROM:+0200
TZOFFSETTO:+0100
TZNAME:CET
DTSTART:20271031T010000
END:STANDARD
END:VTIMEZONE
BEGIN:VEVENT
DTSTART;VALUE=DATE:20260424
DTEND;VALUE=DATE:20260425
DTSTAMP:20260424T120211
CREATED:20260401T180754Z
LAST-MODIFIED:20260401T180754Z
UID:80591-1776988800-1777075199@vollgas-richtung-rock.de
SUMMARY:Monsters of Liedermaching – Aufnahme Tour 2026
DESCRIPTION:Monsters of Liedermaching gehen 2026 auf große Aufnahme-Tour. Jede Show wird live mitgeschnitten und fließt direkt in das nächste Live-Album ein. Lachen\, Zwischenrufe\, Applaus – alles bleibt erhalten. \nDiese Abende sind mehr als Konzerte: Sie sind Momentaufnahmen voller Spontanität\, Wortwitz und musikalischer Eskalation. Kein Support\, kein doppelter Boden – nur Monsters of Liedermaching und ein Publikum\, das Teil der Aufnahme wird.
URL:https://vollgas-richtung-rock.de/event/monsters-of-liedermaching-aufnahme-tour-2026-8/
LOCATION:Gebäude 9 Köln\, Deutz-Mülheimer-Str. 127 - 129\, Köln\, 51063\, Deutschland
CATEGORIES:Hallenkonzert
ATTACH;FMTTYPE=image/jpeg:https://vollgas-richtung-rock.de/wp-content/uploads/2026/04/597748759_1377015343802153_6844188407352527302_n.jpg
END:VEVENT
BEGIN:VEVENT
DTSTART;VALUE=DATE:20260425
DTEND;VALUE=DATE:20260426
DTSTAMP:20260424T120211
CREATED:20260401T180340Z
LAST-MODIFIED:20260401T180340Z
UID:80594-1777075200-1777161599@vollgas-richtung-rock.de
SUMMARY:Monsters of Liedermaching – Aufnahme Tour 2026
DESCRIPTION:Monsters of Liedermaching gehen 2026 auf große Aufnahme-Tour. Jede Show wird live mitgeschnitten und fließt direkt in das nächste Live-Album ein. Lachen\, Zwischenrufe\, Applaus – alles bleibt erhalten. \nDiese Abende sind mehr als Konzerte: Sie sind Momentaufnahmen voller Spontanität\, Wortwitz und musikalischer Eskalation. Kein Support\, kein doppelter Boden – nur Monsters of Liedermaching und ein Publikum\, das Teil der Aufnahme wird.
URL:https://vollgas-richtung-rock.de/event/monsters-of-liedermaching-aufnahme-tour-2026-5/
LOCATION:Die Stadtmitte \, Karlsruhe\, Baumeisterstraße 3\, Karlsruhe\, 76137\, Germany
CATEGORIES:Hallenkonzert
ATTACH;FMTTYPE=image/jpeg:https://vollgas-richtung-rock.de/wp-content/uploads/2026/04/597748759_1377015343802153_6844188407352527302_n.jpg
END:VEVENT
BEGIN:VEVENT
DTSTART;VALUE=DATE:20260426
DTEND;VALUE=DATE:20260427
DTSTAMP:20260424T120211
CREATED:20260401T181802Z
LAST-MODIFIED:20260401T181802Z
UID:80588-1777161600-1777247999@vollgas-richtung-rock.de
SUMMARY:Monsters of Liedermaching – Aufnahme Tour 2026
DESCRIPTION:Monsters of Liedermaching gehen 2026 auf große Aufnahme-Tour. Jede Show wird live mitgeschnitten und fließt direkt in das nächste Live-Album ein. Lachen\, Zwischenrufe\, Applaus – alles bleibt erhalten. \nDiese Abende sind mehr als Konzerte: Sie sind Momentaufnahmen voller Spontanität\, Wortwitz und musikalischer Eskalation. Kein Support\, kein doppelter Boden – nur Monsters of Liedermaching und ein Publikum\, das Teil der Aufnahme wird.
URL:https://vollgas-richtung-rock.de/event/monsters-of-liedermaching-aufnahme-tour-2026-11/
LOCATION:Backstage München\, Reitknechtstraße 6\, München\, 80639\, Deutschland
CATEGORIES:Hallenkonzert
ATTACH;FMTTYPE=image/jpeg:https://vollgas-richtung-rock.de/wp-content/uploads/2026/04/597748759_1377015343802153_6844188407352527302_n.jpg
END:VEVENT
BEGIN:VEVENT
DTSTART;VALUE=DATE:20260427
DTEND;VALUE=DATE:20260428
DTSTAMP:20260424T120211
CREATED:20260401T181839Z
LAST-MODIFIED:20260401T181839Z
UID:80587-1777248000-1777334399@vollgas-richtung-rock.de
SUMMARY:Monsters of Liedermaching – Aufnahme Tour 2026
DESCRIPTION:Monsters of Liedermaching gehen 2026 auf große Aufnahme-Tour. Jede Show wird live mitgeschnitten und fließt direkt in das nächste Live-Album ein. Lachen\, Zwischenrufe\, Applaus – alles bleibt erhalten. \nDiese Abende sind mehr als Konzerte: Sie sind Momentaufnahmen voller Spontanität\, Wortwitz und musikalischer Eskalation. Kein Support\, kein doppelter Boden – nur Monsters of Liedermaching und ein Publikum\, das Teil der Aufnahme wird.
URL:https://vollgas-richtung-rock.de/event/monsters-of-liedermaching-aufnahme-tour-2026-12/
LOCATION:Der Hirsch Nürnberg\, Vogelweiherstraße 66\, Nürnberg\, 90441\, Deutschland
CATEGORIES:Hallenkonzert
ATTACH;FMTTYPE=image/jpeg:https://vollgas-richtung-rock.de/wp-content/uploads/2026/04/597748759_1377015343802153_6844188407352527302_n.jpg
END:VEVENT
BEGIN:VEVENT
DTSTART;VALUE=DATE:20260428
DTEND;VALUE=DATE:20260429
DTSTAMP:20260424T120212
CREATED:20260401T181220Z
LAST-MODIFIED:20260401T181220Z
UID:80590-1777334400-1777420799@vollgas-richtung-rock.de
SUMMARY:Monsters of Liedermaching – Aufnahme Tour 2026
DESCRIPTION:Monsters of Liedermaching gehen 2026 auf große Aufnahme-Tour. Jede Show wird live mitgeschnitten und fließt direkt in das nächste Live-Album ein. Lachen\, Zwischenrufe\, Applaus – alles bleibt erhalten. \nDiese Abende sind mehr als Konzerte: Sie sind Momentaufnahmen voller Spontanität\, Wortwitz und musikalischer Eskalation. Kein Support\, kein doppelter Boden – nur Monsters of Liedermaching und ein Publikum\, das Teil der Aufnahme wird.
URL:https://vollgas-richtung-rock.de/event/monsters-of-liedermaching-aufnahme-tour-2026-9/
LOCATION:Kulturzentrum KFZ e.V. \, Marburg\, Biegenstraße 13\, Marburg\, 35037\, Germany
CATEGORIES:Hallenkonzert
ATTACH;FMTTYPE=image/jpeg:https://vollgas-richtung-rock.de/wp-content/uploads/2026/04/597748759_1377015343802153_6844188407352527302_n.jpg
END:VEVENT
BEGIN:VEVENT
DTSTART;VALUE=DATE:20260429
DTEND;VALUE=DATE:20260430
DTSTAMP:20260424T120212
CREATED:20260401T181909Z
LAST-MODIFIED:20260401T181909Z
UID:80586-1777420800-1777507199@vollgas-richtung-rock.de
SUMMARY:Monsters of Liedermaching – Aufnahme Tour 2026
DESCRIPTION:Monsters of Liedermaching gehen 2026 auf große Aufnahme-Tour. Jede Show wird live mitgeschnitten und fließt direkt in das nächste Live-Album ein. Lachen\, Zwischenrufe\, Applaus – alles bleibt erhalten. \nDiese Abende sind mehr als Konzerte: Sie sind Momentaufnahmen voller Spontanität\, Wortwitz und musikalischer Eskalation. Kein Support\, kein doppelter Boden – nur Monsters of Liedermaching und ein Publikum\, das Teil der Aufnahme wird.
URL:https://vollgas-richtung-rock.de/event/monsters-of-liedermaching-aufnahme-tour-2026-13/
LOCATION:Rosenhof Osnabrück\, Rosenpl. 23\, Osnabrück\, 49074\, Germany
CATEGORIES:Hallenkonzert
ATTACH;FMTTYPE=image/jpeg:https://vollgas-richtung-rock.de/wp-content/uploads/2026/04/597748759_1377015343802153_6844188407352527302_n.jpg
END:VEVENT
BEGIN:VEVENT
DTSTART;VALUE=DATE:20260430
DTEND;VALUE=DATE:20260501
DTSTAMP:20260424T120212
CREATED:20260401T175733Z
LAST-MODIFIED:20260401T175733Z
UID:80596-1777507200-1777593599@vollgas-richtung-rock.de
SUMMARY:Monsters of Liedermaching – Aufnahme Tour 2026
DESCRIPTION:Monsters of Liedermaching gehen 2026 auf große Aufnahme-Tour. Jede Show wird live mitgeschnitten und fließt direkt in das nächste Live-Album ein. Lachen\, Zwischenrufe\, Applaus – alles bleibt erhalten. \nDiese Abende sind mehr als Konzerte: Sie sind Momentaufnahmen voller Spontanität\, Wortwitz und musikalischer Eskalation. Kein Support\, kein doppelter Boden – nur Monsters of Liedermaching und ein Publikum\, das Teil der Aufnahme wird.
URL:https://vollgas-richtung-rock.de/event/monsters-of-liedermaching-aufnahme-tour-2026-4/
LOCATION:Logo Hamburg\, Grindelallee 5\, Hamburg\, 20146\, Deutschland
CATEGORIES:Hallenkonzert
ATTACH;FMTTYPE=image/jpeg:https://vollgas-richtung-rock.de/wp-content/uploads/2026/04/597748759_1377015343802153_6844188407352527302_n.jpg
END:VEVENT
END:VCALENDAR