BEGIN:VCALENDAR
VERSION:2.0
PRODID:-//Vollgas Richtung Rock - ECPv6.15.18//NONSGML v1.0//EN
CALSCALE:GREGORIAN
METHOD:PUBLISH
X-WR-CALNAME:Vollgas Richtung Rock
X-ORIGINAL-URL:https://vollgas-richtung-rock.de
X-WR-CALDESC:Veranstaltungen für Vollgas Richtung Rock
REFRESH-INTERVAL;VALUE=DURATION:PT1H
X-Robots-Tag:noindex
X-PUBLISHED-TTL:PT1H
BEGIN:VTIMEZONE
TZID:Europe/Berlin
BEGIN:DAYLIGHT
TZOFFSETFROM:+0100
TZOFFSETTO:+0200
TZNAME:CEST
DTSTART:20250330T010000
END:DAYLIGHT
BEGIN:STANDARD
TZOFFSETFROM:+0200
TZOFFSETTO:+0100
TZNAME:CET
DTSTART:20251026T010000
END:STANDARD
BEGIN:DAYLIGHT
TZOFFSETFROM:+0100
TZOFFSETTO:+0200
TZNAME:CEST
DTSTART:20260329T010000
END:DAYLIGHT
BEGIN:STANDARD
TZOFFSETFROM:+0200
TZOFFSETTO:+0100
TZNAME:CET
DTSTART:20261025T010000
END:STANDARD
BEGIN:DAYLIGHT
TZOFFSETFROM:+0100
TZOFFSETTO:+0200
TZNAME:CEST
DTSTART:20270328T010000
END:DAYLIGHT
BEGIN:STANDARD
TZOFFSETFROM:+0200
TZOFFSETTO:+0100
TZNAME:CET
DTSTART:20271031T010000
END:STANDARD
END:VTIMEZONE
BEGIN:VEVENT
DTSTART;VALUE=DATE:20260613
DTEND;VALUE=DATE:20260614
DTSTAMP:20260425T002611
CREATED:20251230T212800Z
LAST-MODIFIED:20251230T212800Z
UID:77446-1781308800-1781395199@vollgas-richtung-rock.de
SUMMARY:Die Toten Hosen – Trink Aus! Wir Müssen Gehen – Tour 2026
DESCRIPTION:Sie sind wieder da. Laut\, unbequem und mit genug Energie\, um ganze Stadien umzupflügen. Die Toten Hosen gehen 2026 mit der „Trink Aus! Wir Müssen Gehen“-Tour auf die Straße.\nNoch einmal alles geben\, noch einmal zusammenstehen – das ist kein Rückblick. Das ist Jetzt. \nSupport: Feine Sahne Fischfilet\, Bar Stool Preachers\, Leftovers
URL:https://vollgas-richtung-rock.de/event/die-toten-hosen-trink-aus-wir-muessen-gehen-tour-2026-18/
LOCATION:Cannstatter Wasen Stuttgart\, Mercedesstraße 50\, Stuttgart\, 70372\, Germany
CATEGORIES:Open Air / Festival
ATTACH;FMTTYPE=image/png:https://vollgas-richtung-rock.de/wp-content/uploads/2025/12/Toten-Hosen.png
END:VEVENT
BEGIN:VEVENT
DTSTART;VALUE=DATE:20260627
DTEND;VALUE=DATE:20260628
DTSTAMP:20260425T002611
CREATED:20251230T204930Z
LAST-MODIFIED:20251230T204930Z
UID:77457-1782518400-1782604799@vollgas-richtung-rock.de
SUMMARY:Die Toten Hosen – Trink Aus! Wir Müssen Gehen – Tour 2026
DESCRIPTION:Sie sind wieder da. Laut\, unbequem und mit genug Energie\, um ganze Stadien umzupflügen. Die Toten Hosen gehen 2026 mit der „Trink Aus! Wir Müssen Gehen“-Tour auf die Straße.\nNoch einmal alles geben\, noch einmal zusammenstehen – das ist kein Rückblick. Das ist Jetzt. \nSupport: Feine Sahne Fischfilet\, Leftovers
URL:https://vollgas-richtung-rock.de/event/die-toten-hosen-trink-aus-wir-muessen-gehen-tour-2026-7/
LOCATION:Deutsche Bank Park Frankfurt\, Mörfelder Landstraße 362\, Frankfurt am Main\, 60528\, Germany
CATEGORIES:Open Air / Festival
ATTACH;FMTTYPE=image/png:https://vollgas-richtung-rock.de/wp-content/uploads/2025/12/Toten-Hosen.png
END:VEVENT
END:VCALENDAR