BEGIN:VCALENDAR
VERSION:2.0
PRODID:-//Vollgas Richtung Rock - ECPv6.15.18//NONSGML v1.0//EN
CALSCALE:GREGORIAN
METHOD:PUBLISH
X-ORIGINAL-URL:https://vollgas-richtung-rock.de
X-WR-CALDESC:Veranstaltungen für Vollgas Richtung Rock
REFRESH-INTERVAL;VALUE=DURATION:PT1H
X-Robots-Tag:noindex
X-PUBLISHED-TTL:PT1H
BEGIN:VTIMEZONE
TZID:Europe/Berlin
BEGIN:DAYLIGHT
TZOFFSETFROM:+0100
TZOFFSETTO:+0200
TZNAME:CEST
DTSTART:20230326T010000
END:DAYLIGHT
BEGIN:STANDARD
TZOFFSETFROM:+0200
TZOFFSETTO:+0100
TZNAME:CET
DTSTART:20231029T010000
END:STANDARD
BEGIN:DAYLIGHT
TZOFFSETFROM:+0100
TZOFFSETTO:+0200
TZNAME:CEST
DTSTART:20240331T010000
END:DAYLIGHT
BEGIN:STANDARD
TZOFFSETFROM:+0200
TZOFFSETTO:+0100
TZNAME:CET
DTSTART:20241027T010000
END:STANDARD
BEGIN:DAYLIGHT
TZOFFSETFROM:+0100
TZOFFSETTO:+0200
TZNAME:CEST
DTSTART:20250330T010000
END:DAYLIGHT
BEGIN:STANDARD
TZOFFSETFROM:+0200
TZOFFSETTO:+0100
TZNAME:CET
DTSTART:20251026T010000
END:STANDARD
END:VTIMEZONE
BEGIN:VEVENT
DTSTART;VALUE=DATE:20241109
DTEND;VALUE=DATE:20241110
DTSTAMP:20260425T043632
CREATED:20241107T101531Z
LAST-MODIFIED:20241107T101531Z
UID:59528-1731110400-1731196799@vollgas-richtung-rock.de
SUMMARY:Rock den Fuchs 2024 - Ganz oder gar nicht!
DESCRIPTION:Nach dem Erfolg von 2023 geht Rock den Fuchs am 09. November 2024 im Kulturzentrum Metronom in die nächste Runde​. Für euch live on stage die energiegeladene Rockband Crawling Noise aus Reinickendorf\, grooviger Hardrock von Leaves in Flames aus Mönchengladbach\, die Jugend-Rockband Viasko mit ihren Coversongs aus Stahnsdorf und natürlich die Gastgeber von Jevatta. Kommt vorbei und unterstützt das Kulturleben\, sowie die Bands.
URL:https://vollgas-richtung-rock.de/event/rock-den-fuchs-2024-ganz-oder-gar-nicht/
LOCATION:Metronom Berlin\, Sterkrader Straße 44\, Berlin\, 13507\, Germany
CATEGORIES:Hallenkonzert
ATTACH;FMTTYPE=image/jpeg:https://vollgas-richtung-rock.de/wp-content/uploads/2024/11/RDF_2024-ganz-oder-gar-nicht_Flyer-A6_1.1.jpg
END:VEVENT
END:VCALENDAR