BEGIN:VCALENDAR
VERSION:2.0
PRODID:-//Vollgas Richtung Rock - ECPv6.15.18//NONSGML v1.0//EN
CALSCALE:GREGORIAN
METHOD:PUBLISH
X-ORIGINAL-URL:https://vollgas-richtung-rock.de
X-WR-CALDESC:Veranstaltungen für Vollgas Richtung Rock
REFRESH-INTERVAL;VALUE=DURATION:PT1H
X-Robots-Tag:noindex
X-PUBLISHED-TTL:PT1H
BEGIN:VTIMEZONE
TZID:Europe/Berlin
BEGIN:DAYLIGHT
TZOFFSETFROM:+0100
TZOFFSETTO:+0200
TZNAME:CEST
DTSTART:20250330T010000
END:DAYLIGHT
BEGIN:STANDARD
TZOFFSETFROM:+0200
TZOFFSETTO:+0100
TZNAME:CET
DTSTART:20251026T010000
END:STANDARD
BEGIN:DAYLIGHT
TZOFFSETFROM:+0100
TZOFFSETTO:+0200
TZNAME:CEST
DTSTART:20260329T010000
END:DAYLIGHT
BEGIN:STANDARD
TZOFFSETFROM:+0200
TZOFFSETTO:+0100
TZNAME:CET
DTSTART:20261025T010000
END:STANDARD
BEGIN:DAYLIGHT
TZOFFSETFROM:+0100
TZOFFSETTO:+0200
TZNAME:CEST
DTSTART:20270328T010000
END:DAYLIGHT
BEGIN:STANDARD
TZOFFSETFROM:+0200
TZOFFSETTO:+0100
TZNAME:CET
DTSTART:20271031T010000
END:STANDARD
END:VTIMEZONE
BEGIN:VEVENT
DTSTART;VALUE=DATE:20260807
DTEND;VALUE=DATE:20260810
DTSTAMP:20260424T164829
CREATED:20260211T093932Z
LAST-MODIFIED:20260211T093932Z
UID:79042-1786060800-1786319999@vollgas-richtung-rock.de
SUMMARY:Goitzsche Festival 2026
DESCRIPTION:10 Jahre Goitzsche Festival heißt es 2026. Neben der Rückkehr zu den Anfängen wird es nicht wie vor 10 Jahren klein und gemütlich\, aber Laut und Wild werden. Echte Ossipower trifft auf die Halbinsel Pouch. \nBands: Goitzsche Front\, Asenblut\, Rauhbein\, Ampex\, Toxpack\, Stahlzeit\, Kneipenterroristen
URL:https://vollgas-richtung-rock.de/event/goitzsche-festival-2026/
LOCATION:Halbinsel Pouch\, Pouch\, Zur Agora\, Muldestausee OT Pouch\, 06774\, Germany
CATEGORIES:Open Air / Festival
ATTACH;FMTTYPE=image/jpeg:https://vollgas-richtung-rock.de/wp-content/uploads/2026/02/Goitzsche-Festival-Flyer-1.jpg
END:VEVENT
END:VCALENDAR