BEGIN:VCALENDAR
VERSION:2.0
PRODID:-//Vollgas Richtung Rock - ECPv6.15.18//NONSGML v1.0//EN
CALSCALE:GREGORIAN
METHOD:PUBLISH
X-WR-CALNAME:Vollgas Richtung Rock
X-ORIGINAL-URL:https://vollgas-richtung-rock.de
X-WR-CALDESC:Veranstaltungen für Vollgas Richtung Rock
REFRESH-INTERVAL;VALUE=DURATION:PT1H
X-Robots-Tag:noindex
X-PUBLISHED-TTL:PT1H
BEGIN:VTIMEZONE
TZID:Europe/Berlin
BEGIN:DAYLIGHT
TZOFFSETFROM:+0100
TZOFFSETTO:+0200
TZNAME:CEST
DTSTART:20230326T010000
END:DAYLIGHT
BEGIN:STANDARD
TZOFFSETFROM:+0200
TZOFFSETTO:+0100
TZNAME:CET
DTSTART:20231029T010000
END:STANDARD
BEGIN:DAYLIGHT
TZOFFSETFROM:+0100
TZOFFSETTO:+0200
TZNAME:CEST
DTSTART:20240331T010000
END:DAYLIGHT
BEGIN:STANDARD
TZOFFSETFROM:+0200
TZOFFSETTO:+0100
TZNAME:CET
DTSTART:20241027T010000
END:STANDARD
BEGIN:DAYLIGHT
TZOFFSETFROM:+0100
TZOFFSETTO:+0200
TZNAME:CEST
DTSTART:20250330T010000
END:DAYLIGHT
BEGIN:STANDARD
TZOFFSETFROM:+0200
TZOFFSETTO:+0100
TZNAME:CET
DTSTART:20251026T010000
END:STANDARD
END:VTIMEZONE
BEGIN:VEVENT
DTSTART;VALUE=DATE:20241004
DTEND;VALUE=DATE:20241006
DTSTAMP:20260425T174252
CREATED:20240830T124433Z
LAST-MODIFIED:20240830T124433Z
UID:54377-1728000000-1728172799@vollgas-richtung-rock.de
SUMMARY:Kohle & Stahl
DESCRIPTION:Der Pott bebt! Am Freitag\, den 04.10.2024 und Samstag\, den 05.10.2024 fliegen in der Turbinenhalle in Oberhausen die Löcher aus dem Käse. Hochkaräter wie Frei.Wild\, KrawallBrüder\, Psychopunch\, KneipenTerroristen\, Haymaker\, Berserker\, Oldschool 28 und Durstige Nachbarn laden zum gepflegten Eskalieren ein.
URL:https://vollgas-richtung-rock.de/event/kohle-stahl/
LOCATION:Turbinenhalle Oberhausen\, Im Lipperfeld 23\, Oberhausen\, 46047\, Deutschland
CATEGORIES:Hallenkonzert
ATTACH;FMTTYPE=image/jpeg:https://vollgas-richtung-rock.de/wp-content/uploads/2024/08/Beitragsbild-Kohle-und-Stahl.jpg
END:VEVENT
END:VCALENDAR