BEGIN:VCALENDAR
VERSION:2.0
PRODID:-//Vollgas Richtung Rock - ECPv6.15.18//NONSGML v1.0//EN
CALSCALE:GREGORIAN
METHOD:PUBLISH
X-ORIGINAL-URL:https://vollgas-richtung-rock.de
X-WR-CALDESC:Veranstaltungen für Vollgas Richtung Rock
REFRESH-INTERVAL;VALUE=DURATION:PT1H
X-Robots-Tag:noindex
X-PUBLISHED-TTL:PT1H
BEGIN:VTIMEZONE
TZID:Europe/Berlin
BEGIN:DAYLIGHT
TZOFFSETFROM:+0100
TZOFFSETTO:+0200
TZNAME:CEST
DTSTART:20250330T010000
END:DAYLIGHT
BEGIN:STANDARD
TZOFFSETFROM:+0200
TZOFFSETTO:+0100
TZNAME:CET
DTSTART:20251026T010000
END:STANDARD
BEGIN:DAYLIGHT
TZOFFSETFROM:+0100
TZOFFSETTO:+0200
TZNAME:CEST
DTSTART:20260329T010000
END:DAYLIGHT
BEGIN:STANDARD
TZOFFSETFROM:+0200
TZOFFSETTO:+0100
TZNAME:CET
DTSTART:20261025T010000
END:STANDARD
BEGIN:DAYLIGHT
TZOFFSETFROM:+0100
TZOFFSETTO:+0200
TZNAME:CEST
DTSTART:20270328T010000
END:DAYLIGHT
BEGIN:STANDARD
TZOFFSETFROM:+0200
TZOFFSETTO:+0100
TZNAME:CET
DTSTART:20271031T010000
END:STANDARD
END:VTIMEZONE
BEGIN:VEVENT
DTSTART;VALUE=DATE:20260320
DTEND;VALUE=DATE:20260322
DTSTAMP:20260424T134504
CREATED:20251208T122705Z
LAST-MODIFIED:20251208T122705Z
UID:76658-1773964800-1774137599@vollgas-richtung-rock.de
SUMMARY:Pottbeben 2026
DESCRIPTION:Ein neues\, kleines aber feines Festival über 2 Tage im Herzen des Ruhrgebiets. Am 20. und 21.03.2026 soll dieses zum ersten mal im ResonanzWerk in Oberhausen stattfinden. \nBands: Bockxhorn\, Leidbild\, El Postre\, Antidepressiva\, Krankenkasse\, Direkt – BAND\, RÜCKENWIND\, Hörsturz Moers\, 4 Kings
URL:https://vollgas-richtung-rock.de/event/pottbeben-2026/
LOCATION:Resonanzwerk Oberhausen\, Annemarie-Renger Weg 5\, Oberhausen\, 46047\, Deutschland
CATEGORIES:Hallenkonzert
ATTACH;FMTTYPE=image/jpeg:https://vollgas-richtung-rock.de/wp-content/uploads/2025/12/2026-03-20-Oberhausen.jpg
END:VEVENT
END:VCALENDAR