BEGIN:VCALENDAR
VERSION:2.0
PRODID:-//Vollgas Richtung Rock - ECPv6.15.18//NONSGML v1.0//EN
CALSCALE:GREGORIAN
METHOD:PUBLISH
X-ORIGINAL-URL:https://vollgas-richtung-rock.de
X-WR-CALDESC:Veranstaltungen für Vollgas Richtung Rock
REFRESH-INTERVAL;VALUE=DURATION:PT1H
X-Robots-Tag:noindex
X-PUBLISHED-TTL:PT1H
BEGIN:VTIMEZONE
TZID:Europe/Berlin
BEGIN:DAYLIGHT
TZOFFSETFROM:+0100
TZOFFSETTO:+0200
TZNAME:CEST
DTSTART:20230326T010000
END:DAYLIGHT
BEGIN:STANDARD
TZOFFSETFROM:+0200
TZOFFSETTO:+0100
TZNAME:CET
DTSTART:20231029T010000
END:STANDARD
BEGIN:DAYLIGHT
TZOFFSETFROM:+0100
TZOFFSETTO:+0200
TZNAME:CEST
DTSTART:20240331T010000
END:DAYLIGHT
BEGIN:STANDARD
TZOFFSETFROM:+0200
TZOFFSETTO:+0100
TZNAME:CET
DTSTART:20241027T010000
END:STANDARD
BEGIN:DAYLIGHT
TZOFFSETFROM:+0100
TZOFFSETTO:+0200
TZNAME:CEST
DTSTART:20250330T010000
END:DAYLIGHT
BEGIN:STANDARD
TZOFFSETFROM:+0200
TZOFFSETTO:+0100
TZNAME:CET
DTSTART:20251026T010000
END:STANDARD
END:VTIMEZONE
BEGIN:VEVENT
DTSTART;VALUE=DATE:20241211
DTEND;VALUE=DATE:20241212
DTSTAMP:20260425T132138
CREATED:20241108T133232Z
LAST-MODIFIED:20241108T135959Z
UID:60014-1733875200-1733961599@vollgas-richtung-rock.de
SUMMARY:Philipp Burger - Good Bad Girls + Good Bad Boys Tour 2024
DESCRIPTION:Philipp Burger geht mit Good Bad Girls + Good Bad Boys nochmal auf Tour. \nSupport: HARDY
URL:https://vollgas-richtung-rock.de/event/philipp-burger-good-bad-girls-good-bad-boys-tour-5/
LOCATION:Golfpark Dessau\, Junkersstr. 52\, Dessau\, 06847\, Germany
CATEGORIES:Hallenkonzert
ATTACH;FMTTYPE=image/jpeg:https://vollgas-richtung-rock.de/wp-content/uploads/2024/11/facebook_1731070654436_7260636570183963425.jpg
END:VEVENT
BEGIN:VEVENT
DTSTART;VALUE=DATE:20241212
DTEND;VALUE=DATE:20241213
DTSTAMP:20260425T132138
CREATED:20241108T134153Z
LAST-MODIFIED:20241108T134421Z
UID:60022-1733961600-1734047999@vollgas-richtung-rock.de
SUMMARY:Philipp Burger - Good Bad Girls + Good Bad Boys Tour 2024
DESCRIPTION:Philipp Burger geht mit Good Bad Girls + Good Bad Boys nochmal auf Tour. \nSupport: HARDY
URL:https://vollgas-richtung-rock.de/event/philipp-burger-good-bad-girls-good-bad-boys-tour-6/
LOCATION:Remontehalle Grossenhain\, Husarenstr. 1-3\, Grossenhain\, 01558\, Germany
CATEGORIES:Hallenkonzert
ATTACH;FMTTYPE=image/jpeg:https://vollgas-richtung-rock.de/wp-content/uploads/2024/11/facebook_1731070654436_7260636570183963425.jpg
END:VEVENT
END:VCALENDAR