BEGIN:VCALENDAR
VERSION:2.0
PRODID:-//Vollgas Richtung Rock - ECPv6.15.18//NONSGML v1.0//EN
CALSCALE:GREGORIAN
METHOD:PUBLISH
X-WR-CALNAME:Vollgas Richtung Rock
X-ORIGINAL-URL:https://vollgas-richtung-rock.de
X-WR-CALDESC:Veranstaltungen für Vollgas Richtung Rock
REFRESH-INTERVAL;VALUE=DURATION:PT1H
X-Robots-Tag:noindex
X-PUBLISHED-TTL:PT1H
BEGIN:VTIMEZONE
TZID:Europe/Berlin
BEGIN:DAYLIGHT
TZOFFSETFROM:+0100
TZOFFSETTO:+0200
TZNAME:CEST
DTSTART:20250330T010000
END:DAYLIGHT
BEGIN:STANDARD
TZOFFSETFROM:+0200
TZOFFSETTO:+0100
TZNAME:CET
DTSTART:20251026T010000
END:STANDARD
BEGIN:DAYLIGHT
TZOFFSETFROM:+0100
TZOFFSETTO:+0200
TZNAME:CEST
DTSTART:20260329T010000
END:DAYLIGHT
BEGIN:STANDARD
TZOFFSETFROM:+0200
TZOFFSETTO:+0100
TZNAME:CET
DTSTART:20261025T010000
END:STANDARD
BEGIN:DAYLIGHT
TZOFFSETFROM:+0100
TZOFFSETTO:+0200
TZNAME:CEST
DTSTART:20270328T010000
END:DAYLIGHT
BEGIN:STANDARD
TZOFFSETFROM:+0200
TZOFFSETTO:+0100
TZNAME:CET
DTSTART:20271031T010000
END:STANDARD
END:VTIMEZONE
BEGIN:VEVENT
DTSTART;VALUE=DATE:20260812
DTEND;VALUE=DATE:20260816
DTSTAMP:20260424T145536
CREATED:20260126T101556Z
LAST-MODIFIED:20260126T101556Z
UID:78568-1786492800-1786838399@vollgas-richtung-rock.de
SUMMARY:Summer Breeze Open Air 2026
DESCRIPTION:Wenn sich im Hochsommer die Tore von Dinkelsbühl öffnen\, beginnt einer der heiligen Fixpunkte des europäischen Metal-Jahres. Das Summer Breeze Open Air 2026 ruft erneut tausende Metalheads auf den Flugplatz von Sinbronn – zu vier Tagen voller Riffs\, Staub\, Gemeinschaft und grenzenloser Leidenschaft. \nBands: Helloween\, In Flames\, Arch Enemy\, Saxon\, Lamb Of God\, Airbourne\, Alestorm\, Versengold\, The Ghost Inside\, Thy Art Is Murder\, Testament\, Amorphis\, Imminence\, Paleface Swiss\, Alcest\, The Butcher Sisters\, Orbit Culture\, Kim Dracula\, Deicide\, Brothers Of Metal\, Northlane\, dARTAGNAN\, Betontod\, Terror\, Deafheaven\, Future Palace\, BLACKBRAID\, Der Weg Einer Freiheit\, Miracle Of Sound\, Soen\, Alien Ant Farm\, Mushroomhead\, Municipal Waste\, Das Lumpenpack\, Trollfest\, Thundermother\, Saor\, Nanowar of Steel\, From Fall To Spring\, Unprocessed\, Deserted Fear\, Misery Index\, Bloodred Hourglass\, Cryptopsy\, Brainstorm\, Parasite Inc.\, Excrementory Grindfuckers\, Grand Magus\, Our Promise\, Illdisposed\, Setyøursails\, Ten56.\, Møl\, 200 Stab Wounds\, Groza\, Mittel Alta\, Slomosa\, Nytt Land\, Soulbound\, Manntra\, Haggefugg\, Wucan\, Blood Command\, Cabal\, Filth\, Erdling\, Brymir\, Rectal Smegma\, Stam1na\, Zerre\, Luna Kills
URL:https://vollgas-richtung-rock.de/event/summer-breeze-open-air-2026/
LOCATION:Flugplatz Dinkelsbühl\, Flugplatzstraße 1\, Dinkelsbühl\, 91550\, Deutschland
CATEGORIES:Open Air / Festival
ATTACH;FMTTYPE=image/jpeg:https://vollgas-richtung-rock.de/wp-content/uploads/2026/01/summer-breez.jpg
END:VEVENT
END:VCALENDAR