BEGIN:VCALENDAR
VERSION:2.0
PRODID:-//Vollgas Richtung Rock - ECPv6.15.18//NONSGML v1.0//EN
CALSCALE:GREGORIAN
METHOD:PUBLISH
X-ORIGINAL-URL:https://vollgas-richtung-rock.de
X-WR-CALDESC:Veranstaltungen für Vollgas Richtung Rock
REFRESH-INTERVAL;VALUE=DURATION:PT1H
X-Robots-Tag:noindex
X-PUBLISHED-TTL:PT1H
BEGIN:VTIMEZONE
TZID:Europe/Berlin
BEGIN:DAYLIGHT
TZOFFSETFROM:+0100
TZOFFSETTO:+0200
TZNAME:CEST
DTSTART:20250330T010000
END:DAYLIGHT
BEGIN:STANDARD
TZOFFSETFROM:+0200
TZOFFSETTO:+0100
TZNAME:CET
DTSTART:20251026T010000
END:STANDARD
BEGIN:DAYLIGHT
TZOFFSETFROM:+0100
TZOFFSETTO:+0200
TZNAME:CEST
DTSTART:20260329T010000
END:DAYLIGHT
BEGIN:STANDARD
TZOFFSETFROM:+0200
TZOFFSETTO:+0100
TZNAME:CET
DTSTART:20261025T010000
END:STANDARD
BEGIN:DAYLIGHT
TZOFFSETFROM:+0100
TZOFFSETTO:+0200
TZNAME:CEST
DTSTART:20270328T010000
END:DAYLIGHT
BEGIN:STANDARD
TZOFFSETFROM:+0200
TZOFFSETTO:+0100
TZNAME:CET
DTSTART:20271031T010000
END:STANDARD
END:VTIMEZONE
BEGIN:VEVENT
DTSTART;VALUE=DATE:20260701
DTEND;VALUE=DATE:20260705
DTSTAMP:20260424T120210
CREATED:20251231T103027Z
LAST-MODIFIED:20251231T103027Z
UID:77529-1782864000-1783209599@vollgas-richtung-rock.de
SUMMARY:Rockharz Festival 2026
DESCRIPTION:Wenn sich die Tore am Fuße der sagenumwobenen Devil’s Wall öffnen\, ist klar: Rockharz-Zeit. Vom 1. bis 4. Juli 2026 wird der Flugplatz Ballenstedt erneut zum Zentrum der harten Klänge – eingerahmt von Fels\, Geschichte und verdammt viel Metal. \nHeadliner & große Namen: Alice Cooper\, Helloween\, Emperor\, Kreator\, Black Label Society\, Doro\, Airbourne\, P.O.D.\, Avatar\, Kataklysm\, Saxon\, Feuerschwanz \nWeitere Acts: Annisokay\, Betontod\, Biohazard\, Finntroll\, Gothminister\, Motorjesus\, Stahlmann\, Subway to Sally\, Knorkator\, Agnostic Front\, Ex Deo\, Dominum\, Soulbound\, Die Habenichtse\, Haggefugg\, Final Cry\, Walls of Jericho\, Paradise Lost\, Coroner\, Lucifer
URL:https://vollgas-richtung-rock.de/event/rockharz-festival-2026/
LOCATION:Flugplatz Ballenstedt\, Asmusstedt 13\, Ballenstedt\, 06493\, Deutschland
CATEGORIES:Open Air / Festival
ATTACH;FMTTYPE=image/jpeg:https://vollgas-richtung-rock.de/wp-content/uploads/2025/12/592219256_1404623254364198_6111209621978935343_n.jpg
END:VEVENT
END:VCALENDAR