BEGIN:VCALENDAR
VERSION:2.0
PRODID:-//Vollgas Richtung Rock - ECPv6.15.18//NONSGML v1.0//EN
CALSCALE:GREGORIAN
METHOD:PUBLISH
X-WR-CALNAME:Vollgas Richtung Rock
X-ORIGINAL-URL:https://vollgas-richtung-rock.de
X-WR-CALDESC:Veranstaltungen für Vollgas Richtung Rock
REFRESH-INTERVAL;VALUE=DURATION:PT1H
X-Robots-Tag:noindex
X-PUBLISHED-TTL:PT1H
BEGIN:VTIMEZONE
TZID:Europe/Berlin
BEGIN:DAYLIGHT
TZOFFSETFROM:+0100
TZOFFSETTO:+0200
TZNAME:CEST
DTSTART:20240331T010000
END:DAYLIGHT
BEGIN:STANDARD
TZOFFSETFROM:+0200
TZOFFSETTO:+0100
TZNAME:CET
DTSTART:20241027T010000
END:STANDARD
BEGIN:DAYLIGHT
TZOFFSETFROM:+0100
TZOFFSETTO:+0200
TZNAME:CEST
DTSTART:20250330T010000
END:DAYLIGHT
BEGIN:STANDARD
TZOFFSETFROM:+0200
TZOFFSETTO:+0100
TZNAME:CET
DTSTART:20251026T010000
END:STANDARD
BEGIN:DAYLIGHT
TZOFFSETFROM:+0100
TZOFFSETTO:+0200
TZNAME:CEST
DTSTART:20260329T010000
END:DAYLIGHT
BEGIN:STANDARD
TZOFFSETFROM:+0200
TZOFFSETTO:+0100
TZNAME:CET
DTSTART:20261025T010000
END:STANDARD
END:VTIMEZONE
BEGIN:VEVENT
DTSTART;TZID=Europe/Berlin:20250822T080000
DTEND;TZID=Europe/Berlin:20250823T170000
DTSTAMP:20260424T234106
CREATED:20250102T221828Z
LAST-MODIFIED:20250628T041803Z
UID:62243-1755849600-1755968400@vollgas-richtung-rock.de
SUMMARY:Schlosshof Festival 2025
DESCRIPTION:Das kleine Mittelalter Festival in Höchstadt/Aisch. \nBands: Versengold\, Eisbrecher\, Letzte Instanz\, Equlibrium\, Coppelius\, Manntra\, Gossenpoeten\,Haggefugg\, Veralux\, Katerfahrt\, Fatzwerk und Gebrüder Schlimm
URL:https://vollgas-richtung-rock.de/event/schlosshof-festival-2025/
LOCATION:Schlosshof Festival\, Höchstadt/Aisch\, Schlossberg\, Höchstadt\, 91315\, Germany
CATEGORIES:Open Air / Festival
ATTACH;FMTTYPE=image/jpeg:https://vollgas-richtung-rock.de/wp-content/uploads/2025/01/Schlosshof-Festival-25.jpg
END:VEVENT
BEGIN:VEVENT
DTSTART;VALUE=DATE:20250830
DTEND;VALUE=DATE:20250831
DTSTAMP:20260424T234106
CREATED:20250423T091407Z
LAST-MODIFIED:20250423T091407Z
UID:65681-1756512000-1756598399@vollgas-richtung-rock.de
SUMMARY:Hexenkessel Festival
DESCRIPTION:10 Jahre Haggefugg–10 Jahre Rock\, Dudelsack und eine Prise Wahnsinn! \nBands: Haggefugg\, Rauhbein\,Harpyie\,Deus Vult
URL:https://vollgas-richtung-rock.de/event/hexenkessel-festival/
LOCATION:Bürgerhaus Stollwerck Köln\, Dreikönigenstr. 23\, Köln\, 50678\, Germany
CATEGORIES:Hallenkonzert
ATTACH;FMTTYPE=image/jpeg:https://vollgas-richtung-rock.de/wp-content/uploads/2025/04/FB_IMG_1744637963990.jpg
END:VEVENT
END:VCALENDAR