BEGIN:VCALENDAR
VERSION:2.0
PRODID:-//Vollgas Richtung Rock - ECPv6.15.18//NONSGML v1.0//EN
CALSCALE:GREGORIAN
METHOD:PUBLISH
X-WR-CALNAME:Vollgas Richtung Rock
X-ORIGINAL-URL:https://vollgas-richtung-rock.de
X-WR-CALDESC:Veranstaltungen für Vollgas Richtung Rock
REFRESH-INTERVAL;VALUE=DURATION:PT1H
X-Robots-Tag:noindex
X-PUBLISHED-TTL:PT1H
BEGIN:VTIMEZONE
TZID:Europe/Berlin
BEGIN:DAYLIGHT
TZOFFSETFROM:+0100
TZOFFSETTO:+0200
TZNAME:CEST
DTSTART:20250330T010000
END:DAYLIGHT
BEGIN:STANDARD
TZOFFSETFROM:+0200
TZOFFSETTO:+0100
TZNAME:CET
DTSTART:20251026T010000
END:STANDARD
BEGIN:DAYLIGHT
TZOFFSETFROM:+0100
TZOFFSETTO:+0200
TZNAME:CEST
DTSTART:20260329T010000
END:DAYLIGHT
BEGIN:STANDARD
TZOFFSETFROM:+0200
TZOFFSETTO:+0100
TZNAME:CET
DTSTART:20261025T010000
END:STANDARD
BEGIN:DAYLIGHT
TZOFFSETFROM:+0100
TZOFFSETTO:+0200
TZNAME:CEST
DTSTART:20270328T010000
END:DAYLIGHT
BEGIN:STANDARD
TZOFFSETFROM:+0200
TZOFFSETTO:+0100
TZNAME:CET
DTSTART:20271031T010000
END:STANDARD
END:VTIMEZONE
BEGIN:VEVENT
DTSTART;VALUE=DATE:20260116
DTEND;VALUE=DATE:20260117
DTSTAMP:20260424T174251
CREATED:20251024T085152Z
LAST-MODIFIED:20251024T085152Z
UID:75252-1768521600-1768607999@vollgas-richtung-rock.de
SUMMARY:DIE DORKS Albumreleaseparty "Unberechenbar"
DESCRIPTION:Die Dorks brechen zu ihrer ersten eigenen Club-Tour auf und bringen in jeder Stadt der “Unberechenbar-Tour” großartige regionale Gäste mit! Und\, wie sollte es auch anders kommen: Die offizielle Album-Releaseparty findet im Lieblingsclub L.A. Cham statt. Freut euch auf ein paar Überraschungen! Hardtickets für die Show gibt es beim L.A. selbst oder ganz klassisch bei Eventim. \nBands: Die Dorks\, 33RPM und Green Frog Feet
URL:https://vollgas-richtung-rock.de/event/die-dorks-albumreleaseparty-unberechenbar/
LOCATION:L.A. Cham\, Badstraße 19\, Cham\, 93413\, Germany
CATEGORIES:Hallenkonzert
ATTACH;FMTTYPE=image/png:https://vollgas-richtung-rock.de/wp-content/uploads/2025/10/16.01.26-L.A.-Cham.png
END:VEVENT
END:VCALENDAR