BEGIN:VCALENDAR
VERSION:2.0
PRODID:-//Vollgas Richtung Rock - ECPv6.15.18//NONSGML v1.0//EN
CALSCALE:GREGORIAN
METHOD:PUBLISH
X-WR-CALNAME:Vollgas Richtung Rock
X-ORIGINAL-URL:https://vollgas-richtung-rock.de
X-WR-CALDESC:Veranstaltungen für Vollgas Richtung Rock
REFRESH-INTERVAL;VALUE=DURATION:PT1H
X-Robots-Tag:noindex
X-PUBLISHED-TTL:PT1H
BEGIN:VTIMEZONE
TZID:Europe/Berlin
BEGIN:DAYLIGHT
TZOFFSETFROM:+0100
TZOFFSETTO:+0200
TZNAME:CEST
DTSTART:20230326T010000
END:DAYLIGHT
BEGIN:STANDARD
TZOFFSETFROM:+0200
TZOFFSETTO:+0100
TZNAME:CET
DTSTART:20231029T010000
END:STANDARD
BEGIN:DAYLIGHT
TZOFFSETFROM:+0100
TZOFFSETTO:+0200
TZNAME:CEST
DTSTART:20240331T010000
END:DAYLIGHT
BEGIN:STANDARD
TZOFFSETFROM:+0200
TZOFFSETTO:+0100
TZNAME:CET
DTSTART:20241027T010000
END:STANDARD
BEGIN:DAYLIGHT
TZOFFSETFROM:+0100
TZOFFSETTO:+0200
TZNAME:CEST
DTSTART:20250330T010000
END:DAYLIGHT
BEGIN:STANDARD
TZOFFSETFROM:+0200
TZOFFSETTO:+0100
TZNAME:CET
DTSTART:20251026T010000
END:STANDARD
END:VTIMEZONE
BEGIN:VEVENT
DTSTART;VALUE=DATE:20241102
DTEND;VALUE=DATE:20241103
DTSTAMP:20260426T041348
CREATED:20240826T215823Z
LAST-MODIFIED:20240903T172220Z
UID:53987-1730505600-1730591999@vollgas-richtung-rock.de
SUMMARY:Existent - Die fast ne Tour-Tour 2024
DESCRIPTION:Very Special Guest: LUMBEMATZ
URL:https://vollgas-richtung-rock.de/event/existent-die-fast-ne-tour-tour-2024-2/
LOCATION:ORWOhaus Berlin
CATEGORIES:Hallenkonzert
ATTACH;FMTTYPE=image/jpeg:https://vollgas-richtung-rock.de/wp-content/uploads/2024/08/existent_tour_2024.jpg
END:VEVENT
BEGIN:VEVENT
DTSTART;VALUE=DATE:20241108
DTEND;VALUE=DATE:20241109
DTSTAMP:20260426T041348
CREATED:20240826T215947Z
LAST-MODIFIED:20240904T184200Z
UID:53990-1731024000-1731110399@vollgas-richtung-rock.de
SUMMARY:Existent - Die fast ne Tour-Tour 2024
DESCRIPTION:Very Special Guest: LUMBEMATZ
URL:https://vollgas-richtung-rock.de/event/existent-die-fast-ne-tour-tour-2024-3/
LOCATION:Helvete Oberhausen\, Friedrich-Karl-Straße 63\, Oberhausen\, 44045\, Deutschland
CATEGORIES:Hallenkonzert
ATTACH;FMTTYPE=image/jpeg:https://vollgas-richtung-rock.de/wp-content/uploads/2024/08/existent_tour_2024.jpg
END:VEVENT
BEGIN:VEVENT
DTSTART;VALUE=DATE:20241109
DTEND;VALUE=DATE:20241110
DTSTAMP:20260426T041348
CREATED:20240826T220217Z
LAST-MODIFIED:20240903T153100Z
UID:53993-1731110400-1731196799@vollgas-richtung-rock.de
SUMMARY:Existent - Die fast ne Tour-Tour 2024
DESCRIPTION:Very Special Guest: LUMBEMATZ
URL:https://vollgas-richtung-rock.de/event/existent-die-fast-ne-tour-tour-2024-4/
LOCATION:Hellraiser Leipzig\, Werkstättenstraße 4\, Leipzig\, Deutschland
CATEGORIES:Hallenkonzert
ATTACH;FMTTYPE=image/jpeg:https://vollgas-richtung-rock.de/wp-content/uploads/2024/08/existent_tour_2024.jpg
END:VEVENT
END:VCALENDAR