BEGIN:VCALENDAR
VERSION:2.0
PRODID:-//Vollgas Richtung Rock - ECPv6.15.18//NONSGML v1.0//EN
CALSCALE:GREGORIAN
METHOD:PUBLISH
X-ORIGINAL-URL:https://vollgas-richtung-rock.de
X-WR-CALDESC:Veranstaltungen für Vollgas Richtung Rock
REFRESH-INTERVAL;VALUE=DURATION:PT1H
X-Robots-Tag:noindex
X-PUBLISHED-TTL:PT1H
BEGIN:VTIMEZONE
TZID:Europe/Berlin
BEGIN:DAYLIGHT
TZOFFSETFROM:+0100
TZOFFSETTO:+0200
TZNAME:CEST
DTSTART:20240331T010000
END:DAYLIGHT
BEGIN:STANDARD
TZOFFSETFROM:+0200
TZOFFSETTO:+0100
TZNAME:CET
DTSTART:20241027T010000
END:STANDARD
BEGIN:DAYLIGHT
TZOFFSETFROM:+0100
TZOFFSETTO:+0200
TZNAME:CEST
DTSTART:20250330T010000
END:DAYLIGHT
BEGIN:STANDARD
TZOFFSETFROM:+0200
TZOFFSETTO:+0100
TZNAME:CET
DTSTART:20251026T010000
END:STANDARD
BEGIN:DAYLIGHT
TZOFFSETFROM:+0100
TZOFFSETTO:+0200
TZNAME:CEST
DTSTART:20260329T010000
END:DAYLIGHT
BEGIN:STANDARD
TZOFFSETFROM:+0200
TZOFFSETTO:+0100
TZNAME:CET
DTSTART:20261025T010000
END:STANDARD
END:VTIMEZONE
BEGIN:VEVENT
DTSTART;VALUE=DATE:20251003
DTEND;VALUE=DATE:20251004
DTSTAMP:20260424T233002
CREATED:20250208T173842Z
LAST-MODIFIED:20250208T173842Z
UID:63918-1759449600-1759535999@vollgas-richtung-rock.de
SUMMARY:Drei Meter Feldweg gehen 2025 auf  Gut Holz Tour
DESCRIPTION:Von der idyllischen Lüneburger Heide\, raus in die Welt\, das war das Ziel. Drei Meter Feldweg kommen 2025 mit ihrem fünften Album GUT HOLZ um die Ecke und stürmen die Bühnen der Republik. \nBands: Drei Meter Feldweg
URL:https://vollgas-richtung-rock.de/event/drei-meter-feldweg-gehen-2025-auf-gut-holz-tour/
LOCATION:Lido Berlin\, Cuvrystraße 7\, Berlin\, 10997\, Germany
CATEGORIES:Hallenkonzert
ATTACH;FMTTYPE=image/jpeg:https://vollgas-richtung-rock.de/wp-content/uploads/2025/02/drei-meter-feldweg.jpg
END:VEVENT
BEGIN:VEVENT
DTSTART;VALUE=DATE:20251004
DTEND;VALUE=DATE:20251005
DTSTAMP:20260424T233002
CREATED:20250208T181843Z
LAST-MODIFIED:20250208T181843Z
UID:63944-1759536000-1759622399@vollgas-richtung-rock.de
SUMMARY:Drei Meter Feldweg gehen 2025 auf  Gut Holz Tour
DESCRIPTION:Von der idyllischen Lüneburger Heide\, raus in die Welt\, das war das Ziel. Drei Meter Feldweg kommen 2025 mit ihrem fünften Album GUT HOLZ um die Ecke und stürmen die Bühnen der Republik. \nBands: Drei Meter Feldweg
URL:https://vollgas-richtung-rock.de/event/drei-meter-feldweg-gehen-2025-auf-gut-holz-tour-12/
LOCATION:Peter Weiss Haus\, Rostock\, Doberaner Str. 21\, Rostock\, 18057\, Germany
CATEGORIES:Hallenkonzert
ATTACH;FMTTYPE=image/jpeg:https://vollgas-richtung-rock.de/wp-content/uploads/2025/02/drei-meter-feldweg.jpg
END:VEVENT
BEGIN:VEVENT
DTSTART;VALUE=DATE:20251010
DTEND;VALUE=DATE:20251011
DTSTAMP:20260424T233003
CREATED:20250208T174209Z
LAST-MODIFIED:20250208T174209Z
UID:63921-1760054400-1760140799@vollgas-richtung-rock.de
SUMMARY:Drei Meter Feldweg gehen 2025 auf  Gut Holz Tour
DESCRIPTION:Von der idyllischen Lüneburger Heide\, raus in die Welt\, das war das Ziel. Drei Meter Feldweg kommen 2025 mit ihrem fünften Album GUT HOLZ um die Ecke und stürmen die Bühnen der Republik. \nBands: Drei Meter Feldweg
URL:https://vollgas-richtung-rock.de/event/drei-meter-feldweg-gehen-2025-auf-gut-holz-tour-2/
LOCATION:Tower Musikclub\, Herdentorsteinweg 7a\, Bremen\, 28195\, Deutschland
CATEGORIES:Hallenkonzert
ATTACH;FMTTYPE=image/jpeg:https://vollgas-richtung-rock.de/wp-content/uploads/2025/02/drei-meter-feldweg.jpg
END:VEVENT
BEGIN:VEVENT
DTSTART;VALUE=DATE:20251011
DTEND;VALUE=DATE:20251012
DTSTAMP:20260424T233003
CREATED:20250208T175613Z
LAST-MODIFIED:20250208T175613Z
UID:63929-1760140800-1760227199@vollgas-richtung-rock.de
SUMMARY:Drei Meter Feldweg gehen 2025 auf  Gut Holz Tour
DESCRIPTION:Von der idyllischen Lüneburger Heide\, raus in die Welt\, das war das Ziel. Drei Meter Feldweg kommen 2025 mit ihrem fünften Album GUT HOLZ um die Ecke und stürmen die Bühnen der Republik. \nBands: Drei Meter Feldweg
URL:https://vollgas-richtung-rock.de/event/drei-meter-feldweg-gehen-2025-auf-gut-holz-tour-6/
LOCATION:GoldGrube Kassel\, Eisenschmiede 85\, Kassel\, 34127\, Deutschland
CATEGORIES:Hallenkonzert
ATTACH;FMTTYPE=image/jpeg:https://vollgas-richtung-rock.de/wp-content/uploads/2025/02/drei-meter-feldweg.jpg
END:VEVENT
BEGIN:VEVENT
DTSTART;VALUE=DATE:20251017
DTEND;VALUE=DATE:20251018
DTSTAMP:20260424T233003
CREATED:20250208T181407Z
LAST-MODIFIED:20250208T181407Z
UID:63941-1760659200-1760745599@vollgas-richtung-rock.de
SUMMARY:Drei Meter Feldweg gehen 2025 auf  Gut Holz Tour
DESCRIPTION:Von der idyllischen Lüneburger Heide\, raus in die Welt\, das war das Ziel. Drei Meter Feldweg kommen 2025 mit ihrem fünften Album GUT HOLZ um die Ecke und stürmen die Bühnen der Republik. \nBands: Drei Meter Feldweg
URL:https://vollgas-richtung-rock.de/event/drei-meter-feldweg-gehen-2025-auf-gut-holz-tour-11/
LOCATION:Kleine Freiheit\, Osnabrück\, Dammstraße 2\, Osnabrück\, 49084\, Germany
CATEGORIES:Hallenkonzert
ATTACH;FMTTYPE=image/jpeg:https://vollgas-richtung-rock.de/wp-content/uploads/2025/02/drei-meter-feldweg.jpg
END:VEVENT
BEGIN:VEVENT
DTSTART;VALUE=DATE:20251018
DTEND;VALUE=DATE:20251019
DTSTAMP:20260424T233003
CREATED:20250208T174610Z
LAST-MODIFIED:20250208T174610Z
UID:63923-1760745600-1760831999@vollgas-richtung-rock.de
SUMMARY:Drei Meter Feldweg gehen 2025 auf  Gut Holz Tour
DESCRIPTION:Von der idyllischen Lüneburger Heide\, raus in die Welt\, das war das Ziel. Drei Meter Feldweg kommen 2025 mit ihrem fünften Album GUT HOLZ um die Ecke und stürmen die Bühnen der Republik. \nBands: Drei Meter Feldweg
URL:https://vollgas-richtung-rock.de/event/drei-meter-feldweg-gehen-2025-auf-gut-holz-tour-3/
LOCATION:JunkYard Dortmund\, Schlägelstraße 57\, Dortmund\, 44145\, Germany
CATEGORIES:Hallenkonzert
ATTACH;FMTTYPE=image/jpeg:https://vollgas-richtung-rock.de/wp-content/uploads/2025/02/drei-meter-feldweg.jpg
END:VEVENT
BEGIN:VEVENT
DTSTART;VALUE=DATE:20251024
DTEND;VALUE=DATE:20251025
DTSTAMP:20260424T233003
CREATED:20250208T180110Z
LAST-MODIFIED:20250208T180110Z
UID:63931-1761264000-1761350399@vollgas-richtung-rock.de
SUMMARY:Drei Meter Feldweg gehen 2025 auf  Gut Holz Tour
DESCRIPTION:Von der idyllischen Lüneburger Heide\, raus in die Welt\, das war das Ziel. Drei Meter Feldweg kommen 2025 mit ihrem fünften Album GUT HOLZ um die Ecke und stürmen die Bühnen der Republik. \nBands: Drei Meter Feldweg
URL:https://vollgas-richtung-rock.de/event/drei-meter-feldweg-gehen-2025-auf-gut-holz-tour-7/
LOCATION:Gebäude 9 Köln\, Deutz-Mülheimer-Str. 127 - 129\, Köln\, 51063\, Deutschland
CATEGORIES:Hallenkonzert
ATTACH;FMTTYPE=image/jpeg:https://vollgas-richtung-rock.de/wp-content/uploads/2025/02/drei-meter-feldweg.jpg
END:VEVENT
BEGIN:VEVENT
DTSTART;VALUE=DATE:20251025
DTEND;VALUE=DATE:20251026
DTSTAMP:20260424T233003
CREATED:20250208T182206Z
LAST-MODIFIED:20250208T182206Z
UID:63947-1761350400-1761436799@vollgas-richtung-rock.de
SUMMARY:Drei Meter Feldweg gehen 2025 auf  Gut Holz Tour
DESCRIPTION:Von der idyllischen Lüneburger Heide\, raus in die Welt\, das war das Ziel. Drei Meter Feldweg kommen 2025 mit ihrem fünften Album GUT HOLZ um die Ecke und stürmen die Bühnen der Republik. \nBands: Drei Meter Feldweg
URL:https://vollgas-richtung-rock.de/event/drei-meter-feldweg-gehen-2025-auf-gut-holz-tour-13/
LOCATION:ClubCANN  Stuttgart\, Kegelenstraße 21\, Stuttgart\, 70372\, Germany
CATEGORIES:Hallenkonzert
ATTACH;FMTTYPE=image/jpeg:https://vollgas-richtung-rock.de/wp-content/uploads/2025/02/drei-meter-feldweg.jpg
END:VEVENT
END:VCALENDAR