BEGIN:VCALENDAR
VERSION:2.0
PRODID:-//Vollgas Richtung Rock - ECPv6.15.18//NONSGML v1.0//EN
CALSCALE:GREGORIAN
METHOD:PUBLISH
X-WR-CALNAME:Vollgas Richtung Rock
X-ORIGINAL-URL:https://vollgas-richtung-rock.de
X-WR-CALDESC:Veranstaltungen für Vollgas Richtung Rock
REFRESH-INTERVAL;VALUE=DURATION:PT1H
X-Robots-Tag:noindex
X-PUBLISHED-TTL:PT1H
BEGIN:VTIMEZONE
TZID:Europe/Berlin
BEGIN:DAYLIGHT
TZOFFSETFROM:+0100
TZOFFSETTO:+0200
TZNAME:CEST
DTSTART:20240331T010000
END:DAYLIGHT
BEGIN:STANDARD
TZOFFSETFROM:+0200
TZOFFSETTO:+0100
TZNAME:CET
DTSTART:20241027T010000
END:STANDARD
BEGIN:DAYLIGHT
TZOFFSETFROM:+0100
TZOFFSETTO:+0200
TZNAME:CEST
DTSTART:20250330T010000
END:DAYLIGHT
BEGIN:STANDARD
TZOFFSETFROM:+0200
TZOFFSETTO:+0100
TZNAME:CET
DTSTART:20251026T010000
END:STANDARD
BEGIN:DAYLIGHT
TZOFFSETFROM:+0100
TZOFFSETTO:+0200
TZNAME:CEST
DTSTART:20260329T010000
END:DAYLIGHT
BEGIN:STANDARD
TZOFFSETFROM:+0200
TZOFFSETTO:+0100
TZNAME:CET
DTSTART:20261025T010000
END:STANDARD
END:VTIMEZONE
BEGIN:VEVENT
DTSTART;VALUE=DATE:20250404
DTEND;VALUE=DATE:20250405
DTSTAMP:20260425T140453
CREATED:20250109T220024Z
LAST-MODIFIED:20250109T220024Z
UID:62759-1743724800-1743811199@vollgas-richtung-rock.de
SUMMARY:Releasekonzert Drei Meter Feldweg
DESCRIPTION:Passend zum neuen Album gibt es auch eine kleine Releasekonzerttour mit vier Stopps. Leider sind alle Shows bereits restlos ausverkauft. Doch keine Sorge\, sicher wird das nicht die letzte Tour der Band sein.
URL:https://vollgas-richtung-rock.de/event/releasekonzert-drei-meter-feldweg-4/
LOCATION:Reset Club Berlin\, Wiener Straße 34\, Berlin\, 10999\, Germany
CATEGORIES:Hallenkonzert
ATTACH;FMTTYPE=image/jpeg:https://vollgas-richtung-rock.de/wp-content/uploads/2025/01/Flyer-Drei-Meter-Feldweg-_2025.jpg
END:VEVENT
BEGIN:VEVENT
DTSTART;VALUE=DATE:20250405
DTEND;VALUE=DATE:20250406
DTSTAMP:20260425T140453
CREATED:20250109T215900Z
LAST-MODIFIED:20250109T215900Z
UID:62758-1743811200-1743897599@vollgas-richtung-rock.de
SUMMARY:Releasekonzert Drei Meter Feldweg
DESCRIPTION:Passend zum neuen Album gibt es auch eine kleine Releasekonzerttour mit vier Stopps. Leider sind alle Shows bereits restlos ausverkauft. Doch keine Sorge\, sicher wird das nicht die letzte Tour der Band sein.
URL:https://vollgas-richtung-rock.de/event/releasekonzert-drei-meter-feldweg-3/
LOCATION:Ostpol Dresden\, Königsbrücker Str. 47\, Dresden\, 01099\, Germany
CATEGORIES:Hallenkonzert
ATTACH;FMTTYPE=image/jpeg:https://vollgas-richtung-rock.de/wp-content/uploads/2025/01/Flyer-Drei-Meter-Feldweg-_2025.jpg
END:VEVENT
BEGIN:VEVENT
DTSTART;VALUE=DATE:20250411
DTEND;VALUE=DATE:20250412
DTSTAMP:20260425T140453
CREATED:20250109T215853Z
LAST-MODIFIED:20250109T215853Z
UID:62756-1744329600-1744415999@vollgas-richtung-rock.de
SUMMARY:Releasekonzert Drei Meter Feldweg
DESCRIPTION:Passend zum neuen Album gibt es auch eine kleine Releasekonzerttour mit vier Stopps. Leider sind alle Shows bereits restlos ausverkauft. Doch keine Sorge\, sicher wird das nicht die letzte Tour der Band sein.
URL:https://vollgas-richtung-rock.de/event/releasekonzert-drei-meter-feldweg/
LOCATION:Ponyhof Club Frankfurt am Main\, Klappergasse 16\, Frankfurt am Main\, 60594\, Germany
CATEGORIES:Hallenkonzert
ATTACH;FMTTYPE=image/jpeg:https://vollgas-richtung-rock.de/wp-content/uploads/2025/01/Flyer-Drei-Meter-Feldweg-_2025.jpg
END:VEVENT
BEGIN:VEVENT
DTSTART;VALUE=DATE:20250412
DTEND;VALUE=DATE:20250413
DTSTAMP:20260425T140453
CREATED:20250109T215857Z
LAST-MODIFIED:20250109T215857Z
UID:62757-1744416000-1744502399@vollgas-richtung-rock.de
SUMMARY:Releasekonzert Drei Meter Feldweg
DESCRIPTION:Passend zum neuen Album gibt es auch eine kleine Releasekonzerttour mit vier Stopps. Leider sind alle Shows bereits restlos ausverkauft. Doch keine Sorge\, sicher wird das nicht die letzte Tour der Band sein.
URL:https://vollgas-richtung-rock.de/event/releasekonzert-drei-meter-feldweg-2/
LOCATION:Don’t Panic  Essen\, Viehofer Platz 2\, Essen\, 45127\, Germany
CATEGORIES:Hallenkonzert
ATTACH;FMTTYPE=image/jpeg:https://vollgas-richtung-rock.de/wp-content/uploads/2025/01/Flyer-Drei-Meter-Feldweg-_2025.jpg
END:VEVENT
END:VCALENDAR