BEGIN:VCALENDAR
VERSION:2.0
PRODID:-//Vollgas Richtung Rock - ECPv6.15.18//NONSGML v1.0//EN
CALSCALE:GREGORIAN
METHOD:PUBLISH
X-WR-CALNAME:Vollgas Richtung Rock
X-ORIGINAL-URL:https://vollgas-richtung-rock.de
X-WR-CALDESC:Veranstaltungen für Vollgas Richtung Rock
REFRESH-INTERVAL;VALUE=DURATION:PT1H
X-Robots-Tag:noindex
X-PUBLISHED-TTL:PT1H
BEGIN:VTIMEZONE
TZID:Europe/Berlin
BEGIN:DAYLIGHT
TZOFFSETFROM:+0100
TZOFFSETTO:+0200
TZNAME:CEST
DTSTART:20230326T010000
END:DAYLIGHT
BEGIN:STANDARD
TZOFFSETFROM:+0200
TZOFFSETTO:+0100
TZNAME:CET
DTSTART:20231029T010000
END:STANDARD
BEGIN:DAYLIGHT
TZOFFSETFROM:+0100
TZOFFSETTO:+0200
TZNAME:CEST
DTSTART:20240331T010000
END:DAYLIGHT
BEGIN:STANDARD
TZOFFSETFROM:+0200
TZOFFSETTO:+0100
TZNAME:CET
DTSTART:20241027T010000
END:STANDARD
BEGIN:DAYLIGHT
TZOFFSETFROM:+0100
TZOFFSETTO:+0200
TZNAME:CEST
DTSTART:20250330T010000
END:DAYLIGHT
BEGIN:STANDARD
TZOFFSETFROM:+0200
TZOFFSETTO:+0100
TZNAME:CET
DTSTART:20251026T010000
END:STANDARD
END:VTIMEZONE
BEGIN:VEVENT
DTSTART;VALUE=DATE:20241102
DTEND;VALUE=DATE:20241103
DTSTAMP:20260426T050137
CREATED:20240904T182006Z
LAST-MODIFIED:20240904T182006Z
UID:54834-1730505600-1730591999@vollgas-richtung-rock.de
SUMMARY:Bitterfelder Onkelznacht
DESCRIPTION:Bei der Bitterfelder Onkelznacht kommen Deutschrockfans voll auf ihre Kosten. \nBands: Heilige Legenden\, Chaos Messerschmitt\, Eschengrund\, WK7
URL:https://vollgas-richtung-rock.de/event/bitterfelder-onkelznacht/
LOCATION:SKZ Weißandt-Gölzau\, Hauptstraße 31 B\, Weißandt-Gölzau\, 06369\, Deutschland
CATEGORIES:Hallenkonzert
ATTACH;FMTTYPE=image/jpeg:https://vollgas-richtung-rock.de/wp-content/uploads/2024/09/bitterfelder-Onkelznacht.jpg
END:VEVENT
END:VCALENDAR