BEGIN:VCALENDAR
VERSION:2.0
PRODID:-//Vollgas Richtung Rock - ECPv6.15.18//NONSGML v1.0//EN
CALSCALE:GREGORIAN
METHOD:PUBLISH
X-WR-CALNAME:Vollgas Richtung Rock
X-ORIGINAL-URL:https://vollgas-richtung-rock.de
X-WR-CALDESC:Veranstaltungen für Vollgas Richtung Rock
REFRESH-INTERVAL;VALUE=DURATION:PT1H
X-Robots-Tag:noindex
X-PUBLISHED-TTL:PT1H
BEGIN:VTIMEZONE
TZID:Europe/Berlin
BEGIN:DAYLIGHT
TZOFFSETFROM:+0100
TZOFFSETTO:+0200
TZNAME:CEST
DTSTART:20230326T010000
END:DAYLIGHT
BEGIN:STANDARD
TZOFFSETFROM:+0200
TZOFFSETTO:+0100
TZNAME:CET
DTSTART:20231029T010000
END:STANDARD
BEGIN:DAYLIGHT
TZOFFSETFROM:+0100
TZOFFSETTO:+0200
TZNAME:CEST
DTSTART:20240331T010000
END:DAYLIGHT
BEGIN:STANDARD
TZOFFSETFROM:+0200
TZOFFSETTO:+0100
TZNAME:CET
DTSTART:20241027T010000
END:STANDARD
BEGIN:DAYLIGHT
TZOFFSETFROM:+0100
TZOFFSETTO:+0200
TZNAME:CEST
DTSTART:20250330T010000
END:DAYLIGHT
BEGIN:STANDARD
TZOFFSETFROM:+0200
TZOFFSETTO:+0100
TZNAME:CET
DTSTART:20251026T010000
END:STANDARD
END:VTIMEZONE
BEGIN:VEVENT
DTSTART;VALUE=DATE:20241101
DTEND;VALUE=DATE:20241102
DTSTAMP:20260426T015201
CREATED:20240905T101758Z
LAST-MODIFIED:20240905T101758Z
UID:54864-1730419200-1730505599@vollgas-richtung-rock.de
SUMMARY:Drunken Swallows – „Im Namen des Wahnsinns“-Tour
DESCRIPTION:Die Drunken Swallows sind mit ihrem neuen Album auf „Im Namen des Wahnsinns“-Tour. \nBands: Drunken Swallows\, Biest
URL:https://vollgas-richtung-rock.de/event/drunken-swallows-im-namen-des-wahnsinns-tour-3/
LOCATION:Lux Hannover\, Schwarzer Bär 2\, Hannover\, 30449\, Deutschland
CATEGORIES:Hallenkonzert
ATTACH;FMTTYPE=image/jpeg:https://vollgas-richtung-rock.de/wp-content/uploads/2024/09/drunken-swallows-tour-2024-scaled.jpg
END:VEVENT
BEGIN:VEVENT
DTSTART;VALUE=DATE:20241102
DTEND;VALUE=DATE:20241103
DTSTAMP:20260426T015201
CREATED:20240905T101448Z
LAST-MODIFIED:20240905T101448Z
UID:54861-1730505600-1730591999@vollgas-richtung-rock.de
SUMMARY:Drunken Swallows – „Im Namen des Wahnsinns“-Tour
DESCRIPTION:Die Drunken Swallows sind mit ihrem neuen Album auf „Im Namen des Wahnsinns“-Tour. \nBands: Drunken Swallows\, Biest
URL:https://vollgas-richtung-rock.de/event/drunken-swallows-im-namen-des-wahnsinns-tour-2/
LOCATION:Monkeys Club Hamburg\, Barnerstraße 16\, Hamburg\, 22765
CATEGORIES:Hallenkonzert
ATTACH;FMTTYPE=image/jpeg:https://vollgas-richtung-rock.de/wp-content/uploads/2024/09/drunken-swallows-tour-2024-scaled.jpg
END:VEVENT
END:VCALENDAR