BEGIN:VCALENDAR
VERSION:2.0
PRODID:-//Vollgas Richtung Rock - ECPv6.15.18//NONSGML v1.0//EN
CALSCALE:GREGORIAN
METHOD:PUBLISH
X-ORIGINAL-URL:https://vollgas-richtung-rock.de
X-WR-CALDESC:Veranstaltungen für Vollgas Richtung Rock
REFRESH-INTERVAL;VALUE=DURATION:PT1H
X-Robots-Tag:noindex
X-PUBLISHED-TTL:PT1H
BEGIN:VTIMEZONE
TZID:Europe/Berlin
BEGIN:DAYLIGHT
TZOFFSETFROM:+0100
TZOFFSETTO:+0200
TZNAME:CEST
DTSTART:20230326T010000
END:DAYLIGHT
BEGIN:STANDARD
TZOFFSETFROM:+0200
TZOFFSETTO:+0100
TZNAME:CET
DTSTART:20231029T010000
END:STANDARD
BEGIN:DAYLIGHT
TZOFFSETFROM:+0100
TZOFFSETTO:+0200
TZNAME:CEST
DTSTART:20240331T010000
END:DAYLIGHT
BEGIN:STANDARD
TZOFFSETFROM:+0200
TZOFFSETTO:+0100
TZNAME:CET
DTSTART:20241027T010000
END:STANDARD
BEGIN:DAYLIGHT
TZOFFSETFROM:+0100
TZOFFSETTO:+0200
TZNAME:CEST
DTSTART:20250330T010000
END:DAYLIGHT
BEGIN:STANDARD
TZOFFSETFROM:+0200
TZOFFSETTO:+0100
TZNAME:CET
DTSTART:20251026T010000
END:STANDARD
END:VTIMEZONE
BEGIN:VEVENT
DTSTART;VALUE=DATE:20241018
DTEND;VALUE=DATE:20241019
DTSTAMP:20260426T035807
CREATED:20240905T102702Z
LAST-MODIFIED:20240905T102702Z
UID:54876-1729209600-1729295999@vollgas-richtung-rock.de
SUMMARY:Drunken Swallows – „Im Namen des Wahnsinns“-Tour
DESCRIPTION:Die Drunken Swallows sind mit ihrem neuen Album auf „Im Namen des Wahnsinns“-Tour. \nBands: Drunken Swallows\, Biest
URL:https://vollgas-richtung-rock.de/event/drunken-swallows-im-namen-des-wahnsinns-tour-7/
LOCATION:Butze Tönisvorst\, Butzenstraße 43\, Tönisvorst\, 47918
CATEGORIES:Hallenkonzert
ATTACH;FMTTYPE=image/jpeg:https://vollgas-richtung-rock.de/wp-content/uploads/2024/09/drunken-swallows-tour-2024-scaled.jpg
END:VEVENT
BEGIN:VEVENT
DTSTART;VALUE=DATE:20241019
DTEND;VALUE=DATE:20241020
DTSTAMP:20260426T035807
CREATED:20240905T102428Z
LAST-MODIFIED:20240905T102428Z
UID:54873-1729296000-1729382399@vollgas-richtung-rock.de
SUMMARY:Drunken Swallows – „Im Namen des Wahnsinns“-Tour
DESCRIPTION:Die Drunken Swallows sind mit ihrem neuen Album auf „Im Namen des Wahnsinns“-Tour. \nBands: Drunken Swallows\, Biest
URL:https://vollgas-richtung-rock.de/event/drunken-swallows-im-namen-des-wahnsinns-tour-6/
LOCATION:Bastard Club Osnabrück\, Buersche Str. 8\, Osnabrück\, 49074
CATEGORIES:Hallenkonzert
ATTACH;FMTTYPE=image/jpeg:https://vollgas-richtung-rock.de/wp-content/uploads/2024/09/drunken-swallows-tour-2024-scaled.jpg
END:VEVENT
BEGIN:VEVENT
DTSTART;VALUE=DATE:20241025
DTEND;VALUE=DATE:20241026
DTSTAMP:20260426T035807
CREATED:20240905T103018Z
LAST-MODIFIED:20240905T103018Z
UID:54879-1729814400-1729900799@vollgas-richtung-rock.de
SUMMARY:Drunken Swallows – „Im Namen des Wahnsinns“-Tour
DESCRIPTION:Die Drunken Swallows sind mit ihrem neuen Album auf „Im Namen des Wahnsinns“-Tour. \nBands: Drunken Swallows\, Biest
URL:https://vollgas-richtung-rock.de/event/drunken-swallows-im-namen-des-wahnsinns-tour-8/
LOCATION:Klosterhof Villingen\, Am Klosterhof 3\, Villingen-Schwenningen\, 78052
CATEGORIES:Hallenkonzert
ATTACH;FMTTYPE=image/jpeg:https://vollgas-richtung-rock.de/wp-content/uploads/2024/09/drunken-swallows-tour-2024-scaled.jpg
END:VEVENT
BEGIN:VEVENT
DTSTART;VALUE=DATE:20241027
DTEND;VALUE=DATE:20241028
DTSTAMP:20260426T035807
CREATED:20240905T101146Z
LAST-MODIFIED:20240905T101146Z
UID:54857-1729987200-1730073599@vollgas-richtung-rock.de
SUMMARY:Drunken Swallows – „Im Namen des Wahnsinns“ - Tour
DESCRIPTION:Die Drunken Swallows sind mit ihrem neuen Album auf „Im Namen des Wahnsinns“-Tour. \nBands: Drunken Swallows\, Biest
URL:https://vollgas-richtung-rock.de/event/drunken-swallows-im-namen-des-wahnsinns-tour/
LOCATION:Nachtleben Frankfurt\, Kurt-Schumacher-Straße 45\, Frankfurt am Main\, 60313
CATEGORIES:Hallenkonzert
ATTACH;FMTTYPE=image/jpeg:https://vollgas-richtung-rock.de/wp-content/uploads/2024/09/drunken-swallows-tour-2024-scaled.jpg
END:VEVENT
END:VCALENDAR