BEGIN:VCALENDAR
VERSION:2.0
PRODID:-//Vollgas Richtung Rock - ECPv6.15.18//NONSGML v1.0//EN
CALSCALE:GREGORIAN
METHOD:PUBLISH
X-WR-CALNAME:Vollgas Richtung Rock
X-ORIGINAL-URL:https://vollgas-richtung-rock.de
X-WR-CALDESC:Veranstaltungen für Vollgas Richtung Rock
REFRESH-INTERVAL;VALUE=DURATION:PT1H
X-Robots-Tag:noindex
X-PUBLISHED-TTL:PT1H
BEGIN:VTIMEZONE
TZID:Europe/Berlin
BEGIN:DAYLIGHT
TZOFFSETFROM:+0100
TZOFFSETTO:+0200
TZNAME:CEST
DTSTART:20250330T010000
END:DAYLIGHT
BEGIN:STANDARD
TZOFFSETFROM:+0200
TZOFFSETTO:+0100
TZNAME:CET
DTSTART:20251026T010000
END:STANDARD
BEGIN:DAYLIGHT
TZOFFSETFROM:+0100
TZOFFSETTO:+0200
TZNAME:CEST
DTSTART:20260329T010000
END:DAYLIGHT
BEGIN:STANDARD
TZOFFSETFROM:+0200
TZOFFSETTO:+0100
TZNAME:CET
DTSTART:20261025T010000
END:STANDARD
BEGIN:DAYLIGHT
TZOFFSETFROM:+0100
TZOFFSETTO:+0200
TZNAME:CEST
DTSTART:20270328T010000
END:DAYLIGHT
BEGIN:STANDARD
TZOFFSETFROM:+0200
TZOFFSETTO:+0100
TZNAME:CET
DTSTART:20271031T010000
END:STANDARD
END:VTIMEZONE
BEGIN:VEVENT
DTSTART;VALUE=DATE:20261105
DTEND;VALUE=DATE:20261106
DTSTAMP:20260424T200923
CREATED:20260118T164634Z
LAST-MODIFIED:20260118T164634Z
UID:78114-1793836800-1793923199@vollgas-richtung-rock.de
SUMMARY:Beast in Black - Tour 2026
DESCRIPTION:Wenn Stahl auf Mythos trifft und Hymnen wie Schwerter durch die Nacht schneiden\, beginnt einneues Kapitel im Reich von Beast in Black. Zur Tour 2026 erscheint das vierte Studioalbum derBand – ein Werk voller epischer Melodien\, donnernder Riffs und heroischer Refrains. \nBands: Beast in Black\, Sonata Arctica\, Frozen Crown
URL:https://vollgas-richtung-rock.de/event/beast-in-black-tour-2026/
LOCATION:Columbiahalle Berlin\, Columbiadamm 13-21\, Berlin\, 10965\, Deutschland
CATEGORIES:Hallenkonzert
ATTACH;FMTTYPE=image/jpeg:https://vollgas-richtung-rock.de/wp-content/uploads/2026/01/Beast-and-black.jpg
END:VEVENT
BEGIN:VEVENT
DTSTART;VALUE=DATE:20261107
DTEND;VALUE=DATE:20261108
DTSTAMP:20260424T200923
CREATED:20260118T165506Z
LAST-MODIFIED:20260118T165506Z
UID:78117-1794009600-1794095999@vollgas-richtung-rock.de
SUMMARY:Beast in Black - Tour 2026
DESCRIPTION:Wenn Stahl auf Mythos trifft und Hymnen wie Schwerter durch die Nacht schneiden\, beginnt einneues Kapitel im Reich von Beast in Black. Zur Tour 2026 erscheint das vierte Studioalbum derBand – ein Werk voller epischer Melodien\, donnernder Riffs und heroischer Refrains. \nBands: Beast in Black\, Sonata Arctica\, Frozen Crown
URL:https://vollgas-richtung-rock.de/event/beast-in-black-tour-2026-2/
LOCATION:MHPArena Ludwigsburg\, Schwieberdinger Strasse 30\, Ludwigsburg\, 71638\, Deutschland
CATEGORIES:Hallenkonzert
ATTACH;FMTTYPE=image/jpeg:https://vollgas-richtung-rock.de/wp-content/uploads/2026/01/Beast-and-black.jpg
END:VEVENT
BEGIN:VEVENT
DTSTART;VALUE=DATE:20261108
DTEND;VALUE=DATE:20261109
DTSTAMP:20260424T200923
CREATED:20260118T165550Z
LAST-MODIFIED:20260118T165550Z
UID:78118-1794096000-1794182399@vollgas-richtung-rock.de
SUMMARY:Beast in Black - Tour 2026
DESCRIPTION:Wenn Stahl auf Mythos trifft und Hymnen wie Schwerter durch die Nacht schneiden\, beginnt einneues Kapitel im Reich von Beast in Black. Zur Tour 2026 erscheint das vierte Studioalbum derBand – ein Werk voller epischer Melodien\, donnernder Riffs und heroischer Refrains. \nBands: Beast in Black\, Sonata Arctica\, Frozen Crown
URL:https://vollgas-richtung-rock.de/event/beast-in-black-tour-2026-3/
LOCATION:Stadthalle Offenbach\, Waldstraße 312\, Offenbach am Main\, 63071\, Germany
CATEGORIES:Hallenkonzert
ATTACH;FMTTYPE=image/jpeg:https://vollgas-richtung-rock.de/wp-content/uploads/2026/01/Beast-and-black.jpg
END:VEVENT
BEGIN:VEVENT
DTSTART;VALUE=DATE:20261117
DTEND;VALUE=DATE:20261118
DTSTAMP:20260424T200923
CREATED:20260118T165844Z
LAST-MODIFIED:20260118T165844Z
UID:78119-1794873600-1794959999@vollgas-richtung-rock.de
SUMMARY:Beast in Black - Tour 2026
DESCRIPTION:Wenn Stahl auf Mythos trifft und Hymnen wie Schwerter durch die Nacht schneiden\, beginnt einneues Kapitel im Reich von Beast in Black. Zur Tour 2026 erscheint das vierte Studioalbum derBand – ein Werk voller epischer Melodien\, donnernder Riffs und heroischer Refrains. \nBands: Beast in Black\, Sonata Arctica\, Frozen Crown
URL:https://vollgas-richtung-rock.de/event/beast-in-black-tour-2026-4/
LOCATION:Komplex 457 \, Zürich\, Hohlstrasse 457\, Zürich\, 8048\, Switzerland
CATEGORIES:Hallenkonzert
ATTACH;FMTTYPE=image/jpeg:https://vollgas-richtung-rock.de/wp-content/uploads/2026/01/Beast-and-black.jpg
END:VEVENT
BEGIN:VEVENT
DTSTART;VALUE=DATE:20261120
DTEND;VALUE=DATE:20261121
DTSTAMP:20260424T200923
CREATED:20260118T165939Z
LAST-MODIFIED:20260118T165939Z
UID:78120-1795132800-1795219199@vollgas-richtung-rock.de
SUMMARY:Beast in Black - Tour 2026
DESCRIPTION:Wenn Stahl auf Mythos trifft und Hymnen wie Schwerter durch die Nacht schneiden\, beginnt einneues Kapitel im Reich von Beast in Black. Zur Tour 2026 erscheint das vierte Studioalbum derBand – ein Werk voller epischer Melodien\, donnernder Riffs und heroischer Refrains. \nBands: Beast in Black\, Sonata Arctica\, Frozen Crown
URL:https://vollgas-richtung-rock.de/event/beast-in-black-tour-2026-5/
LOCATION:Zenith\, die Kulturhalle München\, Lilienthalallee 29\, München\, 80939\, Deutschland
CATEGORIES:Hallenkonzert
ATTACH;FMTTYPE=image/jpeg:https://vollgas-richtung-rock.de/wp-content/uploads/2026/01/Beast-and-black.jpg
END:VEVENT
BEGIN:VEVENT
DTSTART;VALUE=DATE:20261122
DTEND;VALUE=DATE:20261123
DTSTAMP:20260424T200924
CREATED:20260118T170009Z
LAST-MODIFIED:20260118T170009Z
UID:78121-1795305600-1795391999@vollgas-richtung-rock.de
SUMMARY:Beast in Black - Tour 2026
DESCRIPTION:Wenn Stahl auf Mythos trifft und Hymnen wie Schwerter durch die Nacht schneiden\, beginnt einneues Kapitel im Reich von Beast in Black. Zur Tour 2026 erscheint das vierte Studioalbum derBand – ein Werk voller epischer Melodien\, donnernder Riffs und heroischer Refrains. \nBands: Beast in Black\, Sonata Arctica\, Frozen Crown
URL:https://vollgas-richtung-rock.de/event/beast-in-black-tour-2026-6/
LOCATION:Turbinenhalle Oberhausen\, Im Lipperfeld 23\, Oberhausen\, 46047\, Deutschland
CATEGORIES:Hallenkonzert
ATTACH;FMTTYPE=image/jpeg:https://vollgas-richtung-rock.de/wp-content/uploads/2026/01/Beast-and-black.jpg
END:VEVENT
BEGIN:VEVENT
DTSTART;VALUE=DATE:20261123
DTEND;VALUE=DATE:20261124
DTSTAMP:20260424T200924
CREATED:20260118T170043Z
LAST-MODIFIED:20260118T170043Z
UID:78122-1795392000-1795478399@vollgas-richtung-rock.de
SUMMARY:Beast in Black - Tour 2026
DESCRIPTION:Wenn Stahl auf Mythos trifft und Hymnen wie Schwerter durch die Nacht schneiden\, beginnt einneues Kapitel im Reich von Beast in Black. Zur Tour 2026 erscheint das vierte Studioalbum derBand – ein Werk voller epischer Melodien\, donnernder Riffs und heroischer Refrains. \nBands: Beast in Black\, Sonata Arctica\, Frozen Crown
URL:https://vollgas-richtung-rock.de/event/beast-in-black-tour-2026-7/
LOCATION:Inselpark Arena Hamburg\, Kurt-Emmerich-Platz 10-12\, Hamburg\, 21109\, Deutschland
CATEGORIES:Hallenkonzert
ATTACH;FMTTYPE=image/jpeg:https://vollgas-richtung-rock.de/wp-content/uploads/2026/01/Beast-and-black.jpg
END:VEVENT
END:VCALENDAR