BEGIN:VCALENDAR
VERSION:2.0
PRODID:-//Vollgas Richtung Rock - ECPv6.15.18//NONSGML v1.0//EN
CALSCALE:GREGORIAN
METHOD:PUBLISH
X-ORIGINAL-URL:https://vollgas-richtung-rock.de
X-WR-CALDESC:Veranstaltungen für Vollgas Richtung Rock
REFRESH-INTERVAL;VALUE=DURATION:PT1H
X-Robots-Tag:noindex
X-PUBLISHED-TTL:PT1H
BEGIN:VTIMEZONE
TZID:Europe/Berlin
BEGIN:DAYLIGHT
TZOFFSETFROM:+0100
TZOFFSETTO:+0200
TZNAME:CEST
DTSTART:20240331T010000
END:DAYLIGHT
BEGIN:STANDARD
TZOFFSETFROM:+0200
TZOFFSETTO:+0100
TZNAME:CET
DTSTART:20241027T010000
END:STANDARD
BEGIN:DAYLIGHT
TZOFFSETFROM:+0100
TZOFFSETTO:+0200
TZNAME:CEST
DTSTART:20250330T010000
END:DAYLIGHT
BEGIN:STANDARD
TZOFFSETFROM:+0200
TZOFFSETTO:+0100
TZNAME:CET
DTSTART:20251026T010000
END:STANDARD
BEGIN:DAYLIGHT
TZOFFSETFROM:+0100
TZOFFSETTO:+0200
TZNAME:CEST
DTSTART:20260329T010000
END:DAYLIGHT
BEGIN:STANDARD
TZOFFSETFROM:+0200
TZOFFSETTO:+0100
TZNAME:CET
DTSTART:20261025T010000
END:STANDARD
END:VTIMEZONE
BEGIN:VEVENT
DTSTART;VALUE=DATE:20250320
DTEND;VALUE=DATE:20250321
DTSTAMP:20260425T161857
CREATED:20250103T064838Z
LAST-MODIFIED:20250103T064838Z
UID:62270-1742428800-1742515199@vollgas-richtung-rock.de
SUMMARY:Airbourne European Tour 2025
DESCRIPTION:Airbourne touren wieder durch Europa und eins steht fest .. mehr Rock N´ Roll geht nicht! \nBands:  Airbourne und Asomvel
URL:https://vollgas-richtung-rock.de/event/airbourne-european-tour-2025-3/
LOCATION:Capitol Hannover\, Schwarzer Bär 2\, Hannover\, 30449\, Deutschland
CATEGORIES:Hallenkonzert
ATTACH;FMTTYPE=image/jpeg:https://vollgas-richtung-rock.de/wp-content/uploads/2025/01/Airbourne-European-Tour-25.jpg
END:VEVENT
BEGIN:VEVENT
DTSTART;VALUE=DATE:20250321
DTEND;VALUE=DATE:20250322
DTSTAMP:20260425T161857
CREATED:20250103T064557Z
LAST-MODIFIED:20250103T064557Z
UID:62268-1742515200-1742601599@vollgas-richtung-rock.de
SUMMARY:Airbourne European Tour 2025
DESCRIPTION:Airbourne touren wieder durch Europa und eins steht fest .. mehr Rock N´ Roll geht nicht! \nBands:  Airbourne und Asomvel
URL:https://vollgas-richtung-rock.de/event/airbourne-european-tour-2025-2/
LOCATION:E-Werk Erlangen\, Fuchsenwiese 1\, Erlangen\, 91054\, Deutschland
CATEGORIES:Hallenkonzert
ATTACH;FMTTYPE=image/jpeg:https://vollgas-richtung-rock.de/wp-content/uploads/2025/01/Airbourne-European-Tour-25.jpg
END:VEVENT
BEGIN:VEVENT
DTSTART;VALUE=DATE:20250322
DTEND;VALUE=DATE:20250323
DTSTAMP:20260425T161857
CREATED:20250103T065441Z
LAST-MODIFIED:20250103T065441Z
UID:62274-1742601600-1742687999@vollgas-richtung-rock.de
SUMMARY:Airbourne European Tour 2025
DESCRIPTION:Airbourne touren wieder durch Europa und eins steht fest .. mehr Rock N´ Roll geht nicht! \nBands:  Airbourne und Asomvel
URL:https://vollgas-richtung-rock.de/event/airbourne-european-tour-2025-5/
LOCATION:Täubchenthal Leipzig\, Wachsmuthstraße 1\, Leipzig\, 04229\, Deutschland
CATEGORIES:Hallenkonzert
ATTACH;FMTTYPE=image/jpeg:https://vollgas-richtung-rock.de/wp-content/uploads/2025/01/Airbourne-European-Tour-25.jpg
END:VEVENT
BEGIN:VEVENT
DTSTART;VALUE=DATE:20250328
DTEND;VALUE=DATE:20250329
DTSTAMP:20260425T161857
CREATED:20250103T065120Z
LAST-MODIFIED:20250103T065120Z
UID:62272-1743120000-1743206399@vollgas-richtung-rock.de
SUMMARY:Airbourne European Tour 2025
DESCRIPTION:Airbourne touren wieder durch Europa und eins steht fest .. mehr Rock N´ Roll geht nicht! \nBands:  Airbourne und Asomvel
URL:https://vollgas-richtung-rock.de/event/airbourne-european-tour-2025-4/
LOCATION:Substage Karlsruhe\, Alter Schlachthof 19\, Karlsruhe\, 76131\, Deutschland
CATEGORIES:Hallenkonzert
ATTACH;FMTTYPE=image/jpeg:https://vollgas-richtung-rock.de/wp-content/uploads/2025/01/Airbourne-European-Tour-25.jpg
END:VEVENT
BEGIN:VEVENT
DTSTART;VALUE=DATE:20250329
DTEND;VALUE=DATE:20250330
DTSTAMP:20260425T161857
CREATED:20250103T063826Z
LAST-MODIFIED:20250103T063826Z
UID:62265-1743206400-1743292799@vollgas-richtung-rock.de
SUMMARY:Airbourne European Tour 2025
DESCRIPTION:Airbourne touren wieder durch Europa und eins steht fest .. mehr Rock N´ Roll geht nicht! \nBands:  Airbourne und Asomvel
URL:https://vollgas-richtung-rock.de/event/airbourne-european-tour-2025/
LOCATION:FZW Dortmund\, Ritterstraße 20\, Dortmund\, 44137\, Deutschland
CATEGORIES:Hallenkonzert
ATTACH;FMTTYPE=image/jpeg:https://vollgas-richtung-rock.de/wp-content/uploads/2025/01/Airbourne-European-Tour-25.jpg
END:VEVENT
END:VCALENDAR