BEGIN:VCALENDAR
VERSION:2.0
PRODID:-//Vollgas Richtung Rock - ECPv6.15.18//NONSGML v1.0//EN
CALSCALE:GREGORIAN
METHOD:PUBLISH
X-ORIGINAL-URL:https://vollgas-richtung-rock.de
X-WR-CALDESC:Veranstaltungen für Vollgas Richtung Rock
REFRESH-INTERVAL;VALUE=DURATION:PT1H
X-Robots-Tag:noindex
X-PUBLISHED-TTL:PT1H
BEGIN:VTIMEZONE
TZID:Europe/Berlin
BEGIN:DAYLIGHT
TZOFFSETFROM:+0100
TZOFFSETTO:+0200
TZNAME:CEST
DTSTART:20230326T010000
END:DAYLIGHT
BEGIN:STANDARD
TZOFFSETFROM:+0200
TZOFFSETTO:+0100
TZNAME:CET
DTSTART:20231029T010000
END:STANDARD
BEGIN:DAYLIGHT
TZOFFSETFROM:+0100
TZOFFSETTO:+0200
TZNAME:CEST
DTSTART:20240331T010000
END:DAYLIGHT
BEGIN:STANDARD
TZOFFSETFROM:+0200
TZOFFSETTO:+0100
TZNAME:CET
DTSTART:20241027T010000
END:STANDARD
BEGIN:DAYLIGHT
TZOFFSETFROM:+0100
TZOFFSETTO:+0200
TZNAME:CEST
DTSTART:20250330T010000
END:DAYLIGHT
BEGIN:STANDARD
TZOFFSETFROM:+0200
TZOFFSETTO:+0100
TZNAME:CET
DTSTART:20251026T010000
END:STANDARD
END:VTIMEZONE
BEGIN:VEVENT
DTSTART;VALUE=DATE:20241004
DTEND;VALUE=DATE:20241006
DTSTAMP:20260426T021733
CREATED:20240830T122458Z
LAST-MODIFIED:20240903T152554Z
UID:54370-1728000000-1728172799@vollgas-richtung-rock.de
SUMMARY:Monster Festival 2024
DESCRIPTION:Das Monster Festival geht in die nächste Runde! Am 04. + 05. Oktober 2024 dreht sich in Geiselwind alles um ehrliche\, laute Live-Musik. Über 15 Jahre Party mit Freunden und Festivalmodus für Hartgesottene! Mit dabei: 33RPM\, 9mm HEADSHOT\, All For Metal\, Artefuckt\, Die Quietschboys\, Doppelbock\, Dymytry\, Ex-plizit\, F.U.C.K.\, Ikke Hüftgold\, Kärbholz\, Kremer\, Megaherz\, OOMPH!\, Rotz & Wasser\, The Carburetors\, V.E.R.S.U.S.\, Willkuer
URL:https://vollgas-richtung-rock.de/event/monster-festival-2024/
LOCATION:Eventzentrum Strohofer Geiselwind\, Scheinfelder Straße 21\, Geiselwind\, Deutschland
CATEGORIES:Open Air / Festival
ATTACH;FMTTYPE=image/jpeg:https://vollgas-richtung-rock.de/wp-content/uploads/2024/08/monster-Festival-2024.jpg
END:VEVENT
END:VCALENDAR