BEGIN:VCALENDAR
VERSION:2.0
PRODID:-//Vollgas Richtung Rock - ECPv6.15.18//NONSGML v1.0//EN
CALSCALE:GREGORIAN
METHOD:PUBLISH
X-WR-CALNAME:Vollgas Richtung Rock
X-ORIGINAL-URL:https://vollgas-richtung-rock.de
X-WR-CALDESC:Veranstaltungen für Vollgas Richtung Rock
REFRESH-INTERVAL;VALUE=DURATION:PT1H
X-Robots-Tag:noindex
X-PUBLISHED-TTL:PT1H
BEGIN:VTIMEZONE
TZID:Europe/Berlin
BEGIN:DAYLIGHT
TZOFFSETFROM:+0100
TZOFFSETTO:+0200
TZNAME:CEST
DTSTART:20240331T010000
END:DAYLIGHT
BEGIN:STANDARD
TZOFFSETFROM:+0200
TZOFFSETTO:+0100
TZNAME:CET
DTSTART:20241027T010000
END:STANDARD
BEGIN:DAYLIGHT
TZOFFSETFROM:+0100
TZOFFSETTO:+0200
TZNAME:CEST
DTSTART:20250330T010000
END:DAYLIGHT
BEGIN:STANDARD
TZOFFSETFROM:+0200
TZOFFSETTO:+0100
TZNAME:CET
DTSTART:20251026T010000
END:STANDARD
BEGIN:DAYLIGHT
TZOFFSETFROM:+0100
TZOFFSETTO:+0200
TZNAME:CEST
DTSTART:20260329T010000
END:DAYLIGHT
BEGIN:STANDARD
TZOFFSETFROM:+0200
TZOFFSETTO:+0100
TZNAME:CET
DTSTART:20261025T010000
END:STANDARD
END:VTIMEZONE
BEGIN:VEVENT
DTSTART;VALUE=DATE:20250813
DTEND;VALUE=DATE:20250817
DTSTAMP:20260424T190114
CREATED:20240911T105335Z
LAST-MODIFIED:20250324T093814Z
UID:55887-1755043200-1755388799@vollgas-richtung-rock.de
SUMMARY:Summer Breeze Open Air 2025
DESCRIPTION:Mit knapp 40.000 Besuchern jährlich ist das Summer Breeze Open Air eines der größten Metalfestivals Deutschland. Seit 1997 pilgern jährlich Festivalbegeisterte aus ganz Deutschland und dem Umland nach Dinkelsbühl. \nBands: Machine Head\, Gojira\, In Extremo\, Dimmu Borgir\, Tarja & Marko Hietala\, Donots\, The Halo Effect\, ASP\, Wind Rose\, Cult of Luna\, August Burns Red\, Static-X\, Fit for a King\, Mr. Hurley & Die Pulveraffen\, Obituary\, Royal Republic\, Fiddler’s Green\, Destruction\, Counterparts\, Septicflesh\, Annisokay\, Hanabie.\, Unleashed\, Rivers of Nihil\, Between the Buried and Me\, Gutalax\, Gaerea\, Spite\, Angelus Apatrida\, AngelMaker\, Benighted\, Thrown\, April Art\, League of Distortion\, Non Est Deus\, Slope\, Allt\, Hiraes\, Avralize u.v.m.
URL:https://vollgas-richtung-rock.de/event/summer-breeze-open-air-2025/
LOCATION:Flugplatz Dinkelsbühl\, Flugplatzstraße 1\, Dinkelsbühl\, 91550\, Deutschland
CATEGORIES:Open Air / Festival
ATTACH;FMTTYPE=image/jpeg:https://vollgas-richtung-rock.de/wp-content/uploads/2024/09/summer-breeze-2025.jpg
END:VEVENT
END:VCALENDAR